{"text_format":"1","workbook":"xlsx","n_sheets":2,"sheets":["kuljetuslaskuri","laskentapohja"],"not_rendered":{"charts":3,"images":8,"macros":1,"external_links":0,"defined_names":22,"comments":2,"pivot_tables":0},"unopened":[],"bounds":{"document_bytes":16777216,"sheet_cells":100000,"rows_first":2000,"rows_last":500,"rows_between":2000,"halvings":0,"cell_chars":16384,"cell_head_chars":4096},"cells_cut":0,"cells_raw":0,"read":"whole","date_system":"1900"}

{"sheet":"kuljetuslaskuri","index":0,"n_rows":95,"n_cols":9,"rows_kept":95,"cut":false,"hidden":false,"merged":[[76,1,76,5]]}
[]
[]
[]
[]
[null,"Lietelannan lannoitusuunnitelma"]
[null,"Valitse lannoitettavat lohkot/lohkoryppäät:",null,"lohkojen kok. p-a, ha","lohkojen keskiet, km"]
[]
[]
[]
[null,"Lohkojen kokonaispinta-ala, ha",null,{"$f":"SUM(D7:D9)","v":0}]
[null,"Lohkojen pinta-alalla painotettu keskietäisyys, km",null,null,{"$f":"IF(D10>0,(D7*E7+D8*E8+D9*E9)/SUM(D7:D9),0)","v":0},null,null,2]
[null,"Lannan levitysmäärä",null,30,"m3/ha"]
[null,"Lannan kok.määrä valitun pinta-alan mukaan",null,{"$f":"D10*Levitys","v":0},"m3"]
[]
[]
[null,"Lietelannan kuljetus erikseen"]
[null,"      1. kuljetusvaunun tilavuus",null,25,"m3",null,null,true]
[null,"      2. kuljetusvaunun tilavuus",null,20,"m3",null,null,false]
[null,"Vaunujen tehollinen kapasiteetti teoreettisesta",null,95,"%"]
[null,"Kulj.matka yhteen suuntaan (lannoitussuunnitelmasta)",null,{"$f":"Kulj_matka","v":0},"km",null,null,1]
[null,"Ajonopeus kuljetuksessa (laskettu ajomatkan mukaan)",null,{"$f":"laskentapohja!X12","v":15.94},"km/h"]
[null,"Kuljetusvaunun lastauskapasiteetti",null,3900,"l/min"]
[null,"Kuljetusvaunun purkukapasiteetti",null,4000,"l/min"]
[null,"Kuljetuksen elpymis- & häiriölisä",null,0,"%",null,null,null,"Lietelannan levityksen työnmenekki (min/ha)"]
[null,"Kuljetuksen apuajat",null,2,"min/kuorma"]
[null,"Kuljetuksen työnmenekki",null,{"$f":"laskentapohja!AC12","v":17.718623481781378},"min/ha"]
[null,"Kuljetuksen työnmenekki",null,{"$f":"laskentapohja!AD12","v":0.5906207827260459},"min/m3"]
[null,"Kuljetuksen työntuotos",null,{"$f":"laskentapohja!AE12","v":1.6931337827030732},"m3/min"]
[]
[null,"Lietelannan levitys erikseen",null,null,null,null,null,"hajalevitys"]
[null,"Levityskapasiteetti",null,2500,"l/min",null,null,"letkulevitys"]
[null,"Levitysmenetelmä",null,null,null,null,null,"sijoitus"]
[null,"Säiliön koko",null,14,"m3",null,null,"letkulevitys"]
[null,"Levitysvaunun täyttökapasiteetti",null,4000,"l/min"]
[null,"Levityksen elpymis- & häiriölisä",null,0,"%"]
[null,"Levityksen apuajat ml. siirtymiset täyttöpaikalle",null,2,"min/ha"]
[null,"Lannanlevityksen työnmenekki",null,{"$f":"laskentapohja!K12","v":21.5},"min/ha"]
[null,"Lannanlevityksen työnmenekki",null,{"$f":"laskentapohja!L12","v":0.71666666666666667},"min/m3"]
[null,"Lannanlevityksen työntuotos",null,{"$f":"laskentapohja!N12","v":1.3953488372093024},"m3/min"]
[]
[null,"Lannanlevityksen kokonaistyönmenekki",null,{"$f":"(D37+D26)/60*D10","v":0},"h"]
[null,"Lannanlevityksen kesto",null,{"$f":"IF(D39<D28,(D13/D28)/60,(D13/D39)/60)","v":0},"h",null,null,null,"Lietelannan levityksen työntuotos (m3/min)"]
[]
[null,"Lietelannan kuljetus&levitys samalla kalustolla"]
[null,"      1. vaunun tilavuus",null,20,"m3",null,null,true]
[null,"      2. vaunun tilavuus",null,20,"m3",null,null,false]
[null,"Vaunujen tehollinen kap.  teoreettisesta",null,95,"%"]
[null,"Kuljetusmatka yhteen suuntaan (lannoitussuunnitelmasta)",null,{"$f":"Kulj_matka","v":0},"km",null,null,1]
[null,"Ajonopeus kuljetuksessa (laskettu ajomatkan mukaan)",null,{"$f":"laskentapohja!X12","v":15.94},"km/h"]
[null,"Lietteen lastauskapasitetti",null,4000,"l/min"]
[null,"Lietteen levityskapasiteetti",null,4000,"l/min"]
[null,"Työn elpymis- & häiriölisä",null,0,"%"]
[null,"Työhön liittyvät apuajat",null,2,"min/kuorma"]
[null,"Lannan kuljetuksen ja levityksen työnmenekki",null,{"$f":"laskentapohja!BK12","v":30.157894736842106},"min/ha"]
[null,"Lannan kuljetuksen ja levityksen työnmenekki",null,{"$f":"laskentapohja!BL12","v":1.0052631578947369},"min/m3"]
[null,"Lannan kuljetuksen ja levityksen työntuotos",null,{"$f":"laskentapohja!BM12","v":0.9947643979057591},"m3/min"]
[]
[null,"Lannanlevityksen kokonaistyönmenekki",null,{"$f":"D54/60*D10","v":0},"h",null,null,null,"Lietteen kuljetus&levityskustannus vs. lietteen ravinnearvo"]
[null,"Lannanlevityksen kesto",null,{"$f":"D13/D56/60","v":0},"h"]
[]
[]
[null,"Lietteen kuljetuksen ja levityksen kustannuslaskenta alv. 0% (eri kalustot)"]
[null,"Kuljettajan palkka sivukuluineen",null,35,"€/h"]
[null,"Kuljetuskaluston tuntihinta",null,76,"€/h"]
[null,"Levityskaluston tuntihinta",null,76,"€/h"]
[]
[null,"TAI"]
[null,"kuljetustaksa",null,0.39,"€/m3/km"]
[null,"lietteen hajalevitys",null,2.44,"€/m3"]
[null,"lietteen letkulevitys",null,2.37,"€/m3"]
[null,"lietteen sijoitus",null,2.73,"€/m3"]
[]
[null,"Kuljetuskustannus (kuljetustaksan mukaan)",null,{"$f":"kulj_taksa*Kulj_matka*Levitys","v":0},"€/ha"]
[null,"Levityskustannus (levitystaksan mukaan)",null,{"$f":"Levitys*IF(H33=\"hajalevitys\",D69,IF(H33=\"letkulevitys\",D70,D71))","v":71.100000000000009},"€/ha"]
[null,"Kokonaiskustannus (taksojen mukaan)",null,{"$f":"D73+D74","v":71.100000000000009},"€/ha"]
[]
[null,"Nitraattiasetuksen taulukkoarvot lietelannan ravinteille"]
[null,null,null,"liukoinen typpi","kokonais-fosfori","kalium"]
[null,"Lantalaji",null,"kg/m3","kg/m3","kg/m3"]
[null,"Naudan lietelanta",null,1.7,0.5,3.3]
[null,"Naudan virtsa",null,1.5,0.1,3.7]
[null,"Sian lietelanta",null,2.2000000000000002,0.8,2.2000000000000002]
[null,"Sian virtsa",null,1.3,0.2,1.3]
[]
[null,"Ravinteiden arvo, määrä ja hyväksikäyttö lietelannassa (alv. 0 %)"]
[null,"Ravinne","€/kg","kg/m3","hyväksi-käyttö-%","€/tn"]
[null,"Typpi",0.9,2.2000000000000002,100,{"$f":"N_arvo*N_maara*E87%","v":1.9800000000000002}]
[null,"Fosfori",1.71,0.8,100,{"$f":"P_arvo*P_maara*E88%","v":1.3680000000000001}]
[null,"Kalium",1.2,2.2000000000000002,100,{"$f":"K_arvo*K_maara*E89%","v":2.64}]
[null,null,null,null,null,{"$f":"SUM(F87:F89)","v":5.9880000000000004}]
[null,"Lannoitusvaikutuksen arvo",null,{"$f":"laskentapohja!CC12","v":179.64000000000001},"€/ha"]
[null,"Lannasta saavutettu hyöty hehtaaria kohti",null,{"$f":"D91-D75","v":108.54},"€/ha"]
[]
[null,"Lannoitussuunnitelman mukaisesta lietemäärästä saavutettava hyöty"]
[null,null,null,{"$f":"D92*D10","v":0},"€/v"]

{"sheet":"laskentapohja","index":1,"n_rows":213,"n_cols":81,"rows_kept":213,"cut":false,"hidden":false,"merged":[]}
[null,null,null,null,null,null,null,null,null,null,null,null,null,null,null,null,null,null,null,null,null,null,null,null,null,null,null,null,null,null,null,null,null,0.2]
[null,null,null,null,null,null,null,null,null,null,null,null,null,null,null,null,null,null,null,null,null,null,null,null,null,null,null,null,null,null,null,null,null,0.4]
[null,null,null,null,null,null,null,null,null,null,null,null,null,null,null,null,null,null,null,null,null,null,null,null,null,null,null,null,null,null,null,null,null,0.2,25]
[null,null,null,null,null,null,null,null,null,null,null,null,null,null,null,null,null,null,null,null,null,null,null,null,null,null,null,null,null,null,null,null,null,0.8,25,null,null,null,null,null,null,null,null,null,null,null,null,null,null,null,null,null,null,null,null,null,null,null,null,null,null,null,null,null,null,null,{"$f":"AH4*AI4","v":20}]
[null,null,null,null,null,null,null,null,null,null,null,null,null,null,null,null,null,null,null,null,null,null,null,null,null,null,null,null,null,null,null,null,null,0.8,67,null,null,null,null,null,null,null,null,null,null,null,null,null,null,null,null,null,null,null,null,null,null,null,null,null,null,null,null,null,null,null,{"$f":"AH5*AI5","v":53.6}]
[null,null,null,null,null,null,null,null,null,null,null,null,null,null,null,null,null,null,null,null,null,null,null,null,null,null,null,null,null,null,null,null,null,null,null,null,null,null,null,null,null,null,null,null,null,null,null,null,null,null,null,null,null,null,null,null,null,null,null,null,null,null,null,null,null,null,{"$f":"SUM(BO4:BO5)","v":73.599999999999994}]
[]
[]
[null,"Lannan levitys",null,null,null,null,null,null,null,null,null,null,null,null,null,"Lietteen lastaus&kuljetus&purku",null,null,null,null,null,null,null,null,null,null,null,null,null,null,null,null,"Ketjutarkastelu",null,null,"erotuksen laskenta",null,null,null,"apuviivat työntuotoskaavioon",null,null,null,null,"levitys",null,null,"Kuljetus ja levitys samalla kalustolla",null,null,null,null,null,null,null,null,null,null,null,null,null,null,null,null,null,null,"Kustannuslaskenta",null,null,null,"Kuljetuksen kustannuslaskenta urakointitaksan mukaan",null,null,"levitys taksan mukaan",null,"Kuljetus&levitys urakointitaksan mukaan",null,"Lannan ravinne-arvot €/ha"]
[null,"levityskapasiteetti","levitysmäärä","vaunukoko","täyttökapasiteetti","Ajoaika","täyttöjä","täyttöaika","apuaika","Elpymislisä","Levityksen työnmenekki","Levityksen työnmenekki",null,"Levityksen työntuotos",null,"1. vaunu","2. vaunu","3. vaunu","kapasiteetti/vaunu","tehollinen kapasiteetti",null,"kuljetuksen","ajonopeus","ajonopeus km/h laskennallisesti","kuljetusaika","lastausaika","purkuaika","kuljetuksen apuajat","kuljetus yhteensä","kuljetuksen työnmenekki","Kuljetuksen työntuotos",null,"ketjun työnmenekki","Erillinen kuljetus ja levitys",null,"keskipiste","erotus",null,null,"matka,x","tuotos,x","matka,y","tuotos,y",null,"matka,y","tuotos,y",null,"1. vaunu","2. vaunu","3. vaunu","kapasiteetti/vaunu","tehollinen kapasiteetti",null,"työn","ajonopeus","ajonopeus km/h laskennallisesti","kuljetusaika","lastausaika","purkuaika","kuljetuksen apuajat","kuljetus yhteensä","levityksen ajoaika","levitys&kuljetuksen kok. työnmenekki","levitys&kuljetuksen kok. työnmenekki","levitys&kuljetuksen työntuotos",null,"kuljetustyö","kone","yht.",null,"urakointihinta",null,null,null,null,"yht.",null,"N","P","K","Yht."]
[null,"l/min","m3/ha","m3","l/min","min/ha","kpl/ha","min/ha","min/ha","%","min/ha","min/m3",null,"m3/min",null,"m3","m3","m3","kg/vaunu","kg/vaunu","matka (km)","elpyminen + häiriö","km/h","km/h","min/ha","min/ha","min/ha","min/ha","min/ha","min/m3","m3/min",null,"min/ha","m3/min",null,"m3/min","m3/min",null,null,"km","m3/min","km","m3/min",null,"km","m3/min",null,"m3","m3","m3","kg/vaunu","kg/vaunu","matka (km)","elpyminen + häiriö","km/h","km/h","min/ha","min/ha","min/ha","min/ha","min/ha","min/ha","min/ha","min/m3","m3/min",null,"€/ha","€/ha","€/ha",null,"€/m3/km","€/ha",null,"€/ha",null,"€/ha",null,"€/ha","€/ha","€/ha","€/ha"]
[null,{"$f":"kuljetuslaskuri!$D$31","v":2500},{"$f":"kuljetuslaskuri!$D$12","v":30},{"$f":"kuljetuslaskuri!$D$33","v":14},{"$f":"kuljetuslaskuri!$D$34","v":4000},{"$f":"(C12*1000)/B12","v":12},{"$f":"C12/D12","v":2.1428571428571428},{"$f":"(C12*1000)/E12","v":7.5},{"$f":"Levityksen_apuaika","v":2},{"$f":"kuljetuslaskuri!$D$35","v":0},{"$f":"(F12+H12+I12)*(1+J12%)","v":21.5},{"$f":"K12/C12","v":0.71666666666666667},null,{"$f":"1/L12","v":1.3953488372093024},null,{"$f":"IF(kuljetuslaskuri!$H$17,kuljetuslaskuri!$D$17,0)","v":25},{"$f":"IF(kuljetuslaskuri!$H$18,kuljetuslaskuri!$D$18,0)","v":0},{"$f":"IF(kuljetuslaskuri!$G$19,kuljetuslaskuri!#REF!,0)","v":0},{"$f":"AVERAGE(IF(P12:R12<>0, P12:R12,\"\"))","v":25},{"$f":"S12*kuljetuslaskuri!$D$19%","v":23.75},{"$f":"Kulj_matka","v":0},{"$f":"kuljetuslaskuri!$D$24%","v":0},{"$f":"Kulj_nop","v":15.94},{"$f":"IF(U12>15,50,LN(9.4526)*U12+15.94)","v":15.94},{"$f":"(C12/T12)*((U12*1000*0.12)/W12)*(1+V12)","v":0},{"$f":"Levitys*1000/Last_nop","v":7.6923076923076925},{"$f":"Levitys*1000/Purk_nop","v":7.5},{"$f":"kuljetuslaskuri!$D$25*(laskentapohja!C12/laskentapohja!T12)","v":2.5263157894736841},{"$f":"SUM(Y12:AB12)","v":17.718623481781378},{"$f":"AC12/C12","v":0.5906207827260459},{"$f":"IF(Q12>0,2*1/AD12,1/AD12)","v":1.6931337827030732},null,{"$f":"MAX(K12,AC12)","v":21.5},{"$f":"MIN(N12,AE12)","v":1.3953488372093024},null,{"$f":"N12+((AE12-N12)/2)","v":1.5442413099561878},{"$f":"AH12-N12","v":0},null,null,{"$f":"$U$12","v":0},{"$f":"AH12","v":1.3953488372093024},{"$f":"+U12","v":0},{"$f":"$AH$12","v":1.3953488372093024},null,{"$f":"+U12","v":0},{"$f":"$N$12","v":1.3953488372093024},null,{"$f":"IF(kuljetuslaskuri!$H$45,kuljetuslaskuri!$D$45,0)","v":20},{"$f":"IF(kuljetuslaskuri!$H$46,kuljetuslaskuri!$D$46,0)","v":0},{"$f":"IF(kuljetuslaskuri!$G$19,kuljetuslaskuri!#REF!,0)","v":0},{"$f":"AVERAGE(IF(AV12:AX12<>0, AV12:AX12,\"\"))","v":20},{"$f":"AY12*kuljetuslaskuri!$D$47%","v":19},{"$f":"Kulj_matka","v":0},{"$f":"kuljetuslaskuri!$D$52%","v":0},{"$f":"Kulj_nop","v":15.94},{"$f":"IF(BA12>15,50,LN(9.0943)*BA12+16.208)","v":16.207999999999998},{"$f":"(C12/AZ12)*((BA12*1000*0.12)/BC12)","v":0},{"$f":"Levitys*1000/Last_nop2","v":7.5},{"$f":"Levitys*1000/Levitys_kap2","v":7.5},{"$f":"kuljetuslaskuri!$D$53*(laskentapohja!C12/laskentapohja!AZ12)","v":3.1578947368421053},{"$f":"SUM(BE12:BH12)","v":18.157894736842106},{"$f":"(C12*1000)/B12","v":12},{"$f":"SUM(BI12,BJ12)*(1+BB12)","v":30.157894736842106},{"$f":"BK12/C12","v":1.0052631578947369},{"$f":"IF(AW12>0,2*1/BL12,1/BL12)","v":0.9947643979057591},null,{"$f":"AC12/60*työ_kust","v":10.335863697705804},{"$f":"AC12/60*kone_kust","v":22.443589743589744},{"$f":"SUM(BO12:BP12)","v":32.779453441295544},null,{"$f":"kulj_taksa","v":0.39},{"$f":"BS12*C12*U12","v":0},null,{"$f":"kuljetuslaskuri!$D$74","v":71.100000000000009},null,{"$f":"BT12+BV12","v":71.100000000000009},null,{"$f":"N_arvo*N_maara*kuljetuslaskuri!$E$87%*C12","v":59.400000000000006},{"$f":"P_arvo*P_maara*kuljetuslaskuri!$E$88%*C12","v":41.040000000000006},{"$f":"K_arvo*K_maara*kuljetuslaskuri!$E$89%*C12","v":79.2},{"$f":"SUM(BZ12:CB12)","v":179.64000000000001}]
[null,{"$f":"kuljetuslaskuri!$D$31","v":2500},{"$f":"kuljetuslaskuri!$D$12","v":30},{"$f":"kuljetuslaskuri!$D$33","v":14},{"$f":"kuljetuslaskuri!$D$34","v":4000},{"$f":"(C13*1000)/B13","v":12},2.1428571428571428,7.5,2,{"$f":"kuljetuslaskuri!$D$35","v":0},21.5,0.71666666666666667,null,{"$f":"1/L13","v":1.3953488372093024},null,{"$f":"IF(kuljetuslaskuri!$H$17,kuljetuslaskuri!$D$17,0)","v":25},{"$f":"IF(kuljetuslaskuri!$H$18,kuljetuslaskuri!$D$18,0)","v":0},{"$f":"IF(kuljetuslaskuri!$G$19,kuljetuslaskuri!#REF!,0)","v":0},{"$f":"AVERAGE(IF(P13:R13<>0, P13:R13,\"\"))","v":25},{"$f":"S13*kuljetuslaskuri!$D$19%","v":23.75},0,{"$f":"kuljetuslaskuri!$D$24%","v":0},15.94,{"$f":"IF(U13>15,50,LN(9.4526)*U13+15.94)","v":15.94},0,7.6923076923076925,7.5,{"$f":"kuljetuslaskuri!$D$25*(laskentapohja!C13/laskentapohja!T13)","v":2.5263157894736841},{"$f":"SUM(Y13:AB13)","v":17.718623481781378},0.5906207827260459,{"$f":"IF(Q13>0,2*1/AD13,1/AD13)","v":1.6931337827030732},null,21.5,1.3953488372093024,null,{"$f":"N13+((AE13-N13)/2)","v":1.5442413099561878},{"$f":"AH13-N13","v":0},null,null,{"$f":"$U$12","v":0},{"$f":"+AO12-($AO$12/20)","v":1.3255813953488373},{"$f":"+AP12-($AP$12/20)","v":0},{"$f":"$AH$12","v":1.3953488372093024},null,{"$f":"+AS12-($AP$12/20)","v":0},{"$f":"$N$12","v":1.3953488372093024},null,{"$f":"IF(kuljetuslaskuri!$H$45,kuljetuslaskuri!$D$45,0)","v":20},{"$f":"IF(kuljetuslaskuri!$H$46,kuljetuslaskuri!$D$46,0)","v":0},{"$f":"IF(kuljetuslaskuri!$G$19,kuljetuslaskuri!#REF!,0)","v":0},{"$f":"AVERAGE(IF(AV13:AX13<>0, AV13:AX13,\"\"))","v":20},{"$f":"AY13*kuljetuslaskuri!$D$47%","v":19},0,{"$f":"kuljetuslaskuri!$D$52%","v":0},15.94,{"$f":"IF(BA13>15,50,LN(9.0943)*BA13+16.208)","v":16.207999999999998},0,7.5,7.5,{"$f":"kuljetuslaskuri!$D$53*(laskentapohja!C13/laskentapohja!AZ13)","v":3.1578947368421053},{"$f":"SUM(BE13:BH13)","v":18.157894736842106},12,{"$f":"SUM(BI13,BJ13)*(1+BB13)","v":30.157894736842106},1.0052631578947369,0.9947643979057591,null,10.335863697705804,22.443589743589744,{"$f":"SUM(BO13:BP13)","v":32.779453441295544},null,0.39,0,null,{"$f":"kuljetuslaskuri!$D$74","v":71.100000000000009},null,{"$f":"BT13+BV13","v":71.100000000000009},null,{"$f":"N_arvo*N_maara*kuljetuslaskuri!$E$87%*C13","v":59.400000000000006},{"$f":"P_arvo*P_maara*kuljetuslaskuri!$E$88%*C13","v":41.040000000000006},{"$f":"K_arvo*K_maara*kuljetuslaskuri!$E$89%*C13","v":79.2},{"$f":"SUM(BZ13:CB13)","v":179.64000000000001}]
[null,{"$f":"kuljetuslaskuri!$D$31","v":2500},{"$f":"kuljetuslaskuri!$D$12","v":30},{"$f":"kuljetuslaskuri!$D$33","v":14},{"$f":"kuljetuslaskuri!$D$34","v":4000},12,2.1428571428571428,7.5,2,{"$f":"kuljetuslaskuri!$D$35","v":0},21.5,0.71666666666666667,null,1.3953488372093024,null,{"$f":"IF(kuljetuslaskuri!$H$17,kuljetuslaskuri!$D$17,0)","v":25},{"$f":"IF(kuljetuslaskuri!$H$18,kuljetuslaskuri!$D$18,0)","v":0},{"$f":"IF(kuljetuslaskuri!$G$19,kuljetuslaskuri!#REF!,0)","v":0},{"$f":"AVERAGE(IF(P14:R14<>0, P14:R14,\"\"))","v":25},{"$f":"S14*kuljetuslaskuri!$D$19%","v":23.75},0.25,{"$f":"kuljetuslaskuri!$D$24%","v":0},15.94,16.501572458984711,2.3773360628673315,7.6923076923076925,7.5,{"$f":"kuljetuslaskuri!$D$25*(laskentapohja!C14/laskentapohja!T14)","v":2.5263157894736841},20.095959544648707,0.66986531815495687,1.492837400142389,null,21.5,1.3953488372093024,null,1.4440931186758457,0,null,null,0,{"$f":"+AO13-($AO$12/20)","v":1.2558139534883723},0,1.3953488372093024,null,0,1.3953488372093024,null,{"$f":"IF(kuljetuslaskuri!$H$45,kuljetuslaskuri!$D$45,0)","v":20},{"$f":"IF(kuljetuslaskuri!$H$46,kuljetuslaskuri!$D$46,0)","v":0},{"$f":"IF(kuljetuslaskuri!$G$19,kuljetuslaskuri!#REF!,0)","v":0},{"$f":"AVERAGE(IF(AV14:AX14<>0, AV14:AX14,\"\"))","v":20},{"$f":"AY14*kuljetuslaskuri!$D$47%","v":19},0.25,{"$f":"kuljetuslaskuri!$D$52%","v":0},15.94,16.759911960910628,2.9716700785841645,7.5,7.5,{"$f":"kuljetuslaskuri!$D$53*(laskentapohja!C14/laskentapohja!AZ14)","v":3.1578947368421053},21.129564815426271,12,33.129564815426271,1.1043188271808757,0.90553558934860989,null,11.722643067711745,25.454882089888361,37.177525157600108,null,0.39,2.9250000000000003,null,{"$f":"kuljetuslaskuri!$D$74","v":71.100000000000009},null,74.025000000000006,null,{"$f":"N_arvo*N_maara*kuljetuslaskuri!$E$87%*C14","v":59.400000000000006},{"$f":"P_arvo*P_maara*kuljetuslaskuri!$E$88%*C14","v":41.040000000000006},{"$f":"K_arvo*K_maara*kuljetuslaskuri!$E$89%*C14","v":79.2},179.64000000000001]
[null,{"$f":"kuljetuslaskuri!$D$31","v":2500},{"$f":"kuljetuslaskuri!$D$12","v":30},{"$f":"kuljetuslaskuri!$D$33","v":14},{"$f":"kuljetuslaskuri!$D$34","v":4000},12,2.1428571428571428,7.5,2,{"$f":"kuljetuslaskuri!$D$35","v":0},21.5,0.71666666666666667,null,1.3953488372093024,null,{"$f":"IF(kuljetuslaskuri!$H$17,kuljetuslaskuri!$D$17,0)","v":25},{"$f":"IF(kuljetuslaskuri!$H$18,kuljetuslaskuri!$D$18,0)","v":0},{"$f":"IF(kuljetuslaskuri!$G$19,kuljetuslaskuri!#REF!,0)","v":0},{"$f":"AVERAGE(IF(P15:R15<>0, P15:R15,\"\"))","v":25},{"$f":"S15*kuljetuslaskuri!$D$19%","v":23.75},0.5,{"$f":"kuljetuslaskuri!$D$24%","v":0},15.94,17.063144917969421,4.7546721257346629,7.6923076923076925,7.5,{"$f":"kuljetuslaskuri!$D$25*(laskentapohja!C15/laskentapohja!T15)","v":2.5263157894736841},22.473295607516039,0.74910985358386795,1.3349176962708891,null,22.473295607516039,1.3349176962708891,null,1.3651332667400957,-6.0431140938413286E-2,null,null,0,1.1860465116279073,0,1.3953488372093024,null,0,1.3953488372093024,null,{"$f":"IF(kuljetuslaskuri!$H$45,kuljetuslaskuri!$D$45,0)","v":20},{"$f":"IF(kuljetuslaskuri!$H$46,kuljetuslaskuri!$D$46,0)","v":0},{"$f":"IF(kuljetuslaskuri!$G$19,kuljetuslaskuri!#REF!,0)","v":0},{"$f":"AVERAGE(IF(AV15:AX15<>0, AV15:AX15,\"\"))","v":20},{"$f":"AY15*kuljetuslaskuri!$D$47%","v":19},0.5,{"$f":"kuljetuslaskuri!$D$52%","v":0},15.94,17.311823921821254,5.9433401571683291,7.5,7.5,{"$f":"kuljetuslaskuri!$D$53*(laskentapohja!C15/laskentapohja!AZ15)","v":3.1578947368421053},24.101234894010435,12,36.101234894010432,1.2033744964670143,0.83099650435994676,null,13.109422437717688,28.466174436186982,41.575596873904672,null,0.39,5.8500000000000005,null,{"$f":"kuljetuslaskuri!$D$74","v":71.100000000000009},null,76.95,null,{"$f":"N_arvo*N_maara*kuljetuslaskuri!$E$87%*C15","v":59.400000000000006},{"$f":"P_arvo*P_maara*kuljetuslaskuri!$E$88%*C15","v":41.040000000000006},{"$f":"K_arvo*K_maara*kuljetuslaskuri!$E$89%*C15","v":79.2},179.64000000000001]
[null,{"$f":"kuljetuslaskuri!$D$31","v":2500},{"$f":"kuljetuslaskuri!$D$12","v":30},{"$f":"kuljetuslaskuri!$D$33","v":14},{"$f":"kuljetuslaskuri!$D$34","v":4000},12,2.1428571428571428,7.5,2,{"$f":"kuljetuslaskuri!$D$35","v":0},21.5,0.71666666666666667,null,1.3953488372093024,null,{"$f":"IF(kuljetuslaskuri!$H$17,kuljetuslaskuri!$D$17,0)","v":25},{"$f":"IF(kuljetuslaskuri!$H$18,kuljetuslaskuri!$D$18,0)","v":0},{"$f":"IF(kuljetuslaskuri!$G$19,kuljetuslaskuri!#REF!,0)","v":0},{"$f":"AVERAGE(IF(P16:R16<>0, P16:R16,\"\"))","v":25},{"$f":"S16*kuljetuslaskuri!$D$19%","v":23.75},0.75,{"$f":"kuljetuslaskuri!$D$24%","v":0},15.94,17.624717376954131,7.1320081886019935,7.6923076923076925,7.5,{"$f":"kuljetuslaskuri!$D$25*(laskentapohja!C16/laskentapohja!T16)","v":2.5263157894736841},24.850631670383372,0.82835438901277902,1.2072127742231025,null,24.850631670383372,1.2072127742231025,null,1.3012808057162024,-0.18813606298619989,null,null,0,1.1162790697674423,0,1.3953488372093024,null,0,1.3953488372093024,null,{"$f":"IF(kuljetuslaskuri!$H$45,kuljetuslaskuri!$D$45,0)","v":20},{"$f":"IF(kuljetuslaskuri!$H$46,kuljetuslaskuri!$D$46,0)","v":0},{"$f":"IF(kuljetuslaskuri!$G$19,kuljetuslaskuri!#REF!,0)","v":0},{"$f":"AVERAGE(IF(AV16:AX16<>0, AV16:AX16,\"\"))","v":20},{"$f":"AY16*kuljetuslaskuri!$D$47%","v":19},0.75,{"$f":"kuljetuslaskuri!$D$52%","v":0},15.94,17.863735882731884,8.9150102357524936,7.5,7.5,{"$f":"kuljetuslaskuri!$D$53*(laskentapohja!C16/laskentapohja!AZ16)","v":3.1578947368421053},27.0729049725946,12,39.0729049725946,1.3024301657531534,0.76779548439108225,null,14.496201807723633,31.477466782485603,45.973668590209236,null,0.39,8.7750000000000004,null,{"$f":"kuljetuslaskuri!$D$74","v":71.100000000000009},null,79.875000000000014,null,{"$f":"N_arvo*N_maara*kuljetuslaskuri!$E$87%*C16","v":59.400000000000006},{"$f":"P_arvo*P_maara*kuljetuslaskuri!$E$88%*C16","v":41.040000000000006},{"$f":"K_arvo*K_maara*kuljetuslaskuri!$E$89%*C16","v":79.2},179.64000000000001]
[null,{"$f":"kuljetuslaskuri!$D$31","v":2500},{"$f":"kuljetuslaskuri!$D$12","v":30},{"$f":"kuljetuslaskuri!$D$33","v":14},{"$f":"kuljetuslaskuri!$D$34","v":4000},12,2.1428571428571428,7.5,2,{"$f":"kuljetuslaskuri!$D$35","v":0},21.5,0.71666666666666667,null,1.3953488372093024,null,{"$f":"IF(kuljetuslaskuri!$H$17,kuljetuslaskuri!$D$17,0)","v":25},{"$f":"IF(kuljetuslaskuri!$H$18,kuljetuslaskuri!$D$18,0)","v":0},{"$f":"IF(kuljetuslaskuri!$G$19,kuljetuslaskuri!#REF!,0)","v":0},{"$f":"AVERAGE(IF(P17:R17<>0, P17:R17,\"\"))","v":25},{"$f":"S17*kuljetuslaskuri!$D$19%","v":23.75},1,{"$f":"kuljetuslaskuri!$D$24%","v":0},15.94,18.18628983593884,9.5093442514693258,7.6923076923076925,7.5,{"$f":"kuljetuslaskuri!$D$25*(laskentapohja!C17/laskentapohja!T17)","v":2.5263157894736841},27.227967733250704,0.9075989244416901,1.1018082691263109,null,27.227967733250704,1.1018082691263109,null,1.2485785531678066,-0.29354056808299145,null,null,0,1.0465116279069773,0,1.3953488372093024,null,0,1.3953488372093024,null,{"$f":"IF(kuljetuslaskuri!$H$45,kuljetuslaskuri!$D$45,0)","v":20},{"$f":"IF(kuljetuslaskuri!$H$46,kuljetuslaskuri!$D$46,0)","v":0},{"$f":"IF(kuljetuslaskuri!$G$19,kuljetuslaskuri!#REF!,0)","v":0},{"$f":"AVERAGE(IF(AV17:AX17<>0, AV17:AX17,\"\"))","v":20},{"$f":"AY17*kuljetuslaskuri!$D$47%","v":19},1,{"$f":"kuljetuslaskuri!$D$52%","v":0},15.94,18.415647843642514,11.886680314336658,7.5,7.5,{"$f":"kuljetuslaskuri!$D$53*(laskentapohja!C17/laskentapohja!AZ17)","v":3.1578947368421053},30.044575051178764,12,42.044575051178768,1.4014858350392922,0.71352843888854844,null,15.882981177729576,34.488759128784224,50.3717403065138,null,0.39,11.700000000000001,null,{"$f":"kuljetuslaskuri!$D$74","v":71.100000000000009},null,82.800000000000011,null,{"$f":"N_arvo*N_maara*kuljetuslaskuri!$E$87%*C17","v":59.400000000000006},{"$f":"P_arvo*P_maara*kuljetuslaskuri!$E$88%*C17","v":41.040000000000006},{"$f":"K_arvo*K_maara*kuljetuslaskuri!$E$89%*C17","v":79.2},179.64000000000001]
[null,{"$f":"kuljetuslaskuri!$D$31","v":2500},{"$f":"kuljetuslaskuri!$D$12","v":30},{"$f":"kuljetuslaskuri!$D$33","v":14},{"$f":"kuljetuslaskuri!$D$34","v":4000},12,2.1428571428571428,7.5,2,{"$f":"kuljetuslaskuri!$D$35","v":0},21.5,0.71666666666666667,null,1.3953488372093024,null,{"$f":"IF(kuljetuslaskuri!$H$17,kuljetuslaskuri!$D$17,0)","v":25},{"$f":"IF(kuljetuslaskuri!$H$18,kuljetuslaskuri!$D$18,0)","v":0},{"$f":"IF(kuljetuslaskuri!$G$19,kuljetuslaskuri!#REF!,0)","v":0},{"$f":"AVERAGE(IF(P18:R18<>0, P18:R18,\"\"))","v":25},{"$f":"S18*kuljetuslaskuri!$D$19%","v":23.75},1.25,{"$f":"kuljetuslaskuri!$D$24%","v":0},15.94,18.74786229492355,11.886680314336656,7.6923076923076925,7.5,{"$f":"kuljetuslaskuri!$D$25*(laskentapohja!C18/laskentapohja!T18)","v":2.5263157894736841},29.605303796118033,0.98684345987060107,1.0133319423641152,null,29.605303796118033,1.0133319423641152,null,1.2043403897867089,-0.38201689484518719,null,null,0,0.97674418604651214,0,1.3953488372093024,null,0,1.3953488372093024,null,{"$f":"IF(kuljetuslaskuri!$H$45,kuljetuslaskuri!$D$45,0)","v":20},{"$f":"IF(kuljetuslaskuri!$H$46,kuljetuslaskuri!$D$46,0)","v":0},{"$f":"IF(kuljetuslaskuri!$G$19,kuljetuslaskuri!#REF!,0)","v":0},{"$f":"AVERAGE(IF(AV18:AX18<>0, AV18:AX18,\"\"))","v":20},{"$f":"AY18*kuljetuslaskuri!$D$47%","v":19},1.25,{"$f":"kuljetuslaskuri!$D$52%","v":0},15.94,18.96755980455314,14.858350392920821,7.5,7.5,{"$f":"kuljetuslaskuri!$D$53*(laskentapohja!C18/laskentapohja!AZ18)","v":3.1578947368421053},33.016245129762922,12,45.016245129762922,1.5005415043254307,0.6664260849282877,null,17.269760547735519,37.500051475082842,54.769812022818357,null,0.39,14.625000000000002,null,{"$f":"kuljetuslaskuri!$D$74","v":71.100000000000009},null,85.725000000000009,null,{"$f":"N_arvo*N_maara*kuljetuslaskuri!$E$87%*C18","v":59.400000000000006},{"$f":"P_arvo*P_maara*kuljetuslaskuri!$E$88%*C18","v":41.040000000000006},{"$f":"K_arvo*K_maara*kuljetuslaskuri!$E$89%*C18","v":79.2},179.64000000000001]
[null,{"$f":"kuljetuslaskuri!$D$31","v":2500},{"$f":"kuljetuslaskuri!$D$12","v":30},{"$f":"kuljetuslaskuri!$D$33","v":14},{"$f":"kuljetuslaskuri!$D$34","v":4000},12,2.1428571428571428,7.5,2,{"$f":"kuljetuslaskuri!$D$35","v":0},21.5,0.71666666666666667,null,1.3953488372093024,null,{"$f":"IF(kuljetuslaskuri!$H$17,kuljetuslaskuri!$D$17,0)","v":25},{"$f":"IF(kuljetuslaskuri!$H$18,kuljetuslaskuri!$D$18,0)","v":0},{"$f":"IF(kuljetuslaskuri!$G$19,kuljetuslaskuri!#REF!,0)","v":0},{"$f":"AVERAGE(IF(P19:R19<>0, P19:R19,\"\"))","v":25},{"$f":"S19*kuljetuslaskuri!$D$19%","v":23.75},1.5,{"$f":"kuljetuslaskuri!$D$24%","v":0},15.94,19.30943475390826,14.264016377203987,7.6923076923076925,7.5,{"$f":"kuljetuslaskuri!$D$25*(laskentapohja!C19/laskentapohja!T19)","v":2.5263157894736841},31.982639858985365,1.0660879952995121,0.9380088739476472,null,31.982639858985365,0.9380088739476472,null,1.1666788555784748,-0.45733996326165516,null,null,0,0.90697674418604701,0,1.3953488372093024,null,0,1.3953488372093024,null,{"$f":"IF(kuljetuslaskuri!$H$45,kuljetuslaskuri!$D$45,0)","v":20},{"$f":"IF(kuljetuslaskuri!$H$46,kuljetuslaskuri!$D$46,0)","v":0},{"$f":"IF(kuljetuslaskuri!$G$19,kuljetuslaskuri!#REF!,0)","v":0},{"$f":"AVERAGE(IF(AV19:AX19<>0, AV19:AX19,\"\"))","v":20},{"$f":"AY19*kuljetuslaskuri!$D$47%","v":19},1.5,{"$f":"kuljetuslaskuri!$D$52%","v":0},15.94,19.51947176546377,17.830020471504987,7.5,7.5,{"$f":"kuljetuslaskuri!$D$53*(laskentapohja!C19/laskentapohja!AZ19)","v":3.1578947368421053},35.98791520834709,12,47.98791520834709,1.5995971736115697,0.62515739368443646,null,18.656539917741462,40.511343821381459,59.167883739122921,null,0.39,17.55,null,{"$f":"kuljetuslaskuri!$D$74","v":71.100000000000009},null,88.65,null,{"$f":"N_arvo*N_maara*kuljetuslaskuri!$E$87%*C19","v":59.400000000000006},{"$f":"P_arvo*P_maara*kuljetuslaskuri!$E$88%*C19","v":41.040000000000006},{"$f":"K_arvo*K_maara*kuljetuslaskuri!$E$89%*C19","v":79.2},179.64000000000001]
[null,{"$f":"kuljetuslaskuri!$D$31","v":2500},{"$f":"kuljetuslaskuri!$D$12","v":30},{"$f":"kuljetuslaskuri!$D$33","v":14},{"$f":"kuljetuslaskuri!$D$34","v":4000},12,2.1428571428571428,7.5,2,{"$f":"kuljetuslaskuri!$D$35","v":0},21.5,0.71666666666666667,null,1.3953488372093024,null,{"$f":"IF(kuljetuslaskuri!$H$17,kuljetuslaskuri!$D$17,0)","v":25},{"$f":"IF(kuljetuslaskuri!$H$18,kuljetuslaskuri!$D$18,0)","v":0},{"$f":"IF(kuljetuslaskuri!$G$19,kuljetuslaskuri!#REF!,0)","v":0},{"$f":"AVERAGE(IF(P20:R20<>0, P20:R20,\"\"))","v":25},{"$f":"S20*kuljetuslaskuri!$D$19%","v":23.75},1.75,{"$f":"kuljetuslaskuri!$D$24%","v":0},15.94,19.87100721289297,16.641352440071319,7.6923076923076925,7.5,{"$f":"kuljetuslaskuri!$D$25*(laskentapohja!C20/laskentapohja!T20)","v":2.5263157894736841},34.359975921852694,1.1453325307284232,0.87310887726554598,null,34.359975921852694,0.87310887726554598,null,1.1342288572374242,-0.52223995994375638,null,null,0,0.83720930232558188,0,1.3953488372093024,null,0,1.3953488372093024,null,{"$f":"IF(kuljetuslaskuri!$H$45,kuljetuslaskuri!$D$45,0)","v":20},{"$f":"IF(kuljetuslaskuri!$H$46,kuljetuslaskuri!$D$46,0)","v":0},{"$f":"IF(kuljetuslaskuri!$G$19,kuljetuslaskuri!#REF!,0)","v":0},{"$f":"AVERAGE(IF(AV20:AX20<>0, AV20:AX20,\"\"))","v":20},{"$f":"AY20*kuljetuslaskuri!$D$47%","v":19},1.75,{"$f":"kuljetuslaskuri!$D$52%","v":0},15.94,20.0713837263744,20.801690550089152,7.5,7.5,{"$f":"kuljetuslaskuri!$D$53*(laskentapohja!C20/laskentapohja!AZ20)","v":3.1578947368421053},38.959585286931251,12,50.959585286931251,1.6986528428977083,0.58870180813056183,null,20.043319287747405,43.522636167680083,63.565955455427485,null,0.39,20.475000000000001,null,{"$f":"kuljetuslaskuri!$D$74","v":71.100000000000009},null,91.575000000000017,null,{"$f":"N_arvo*N_maara*kuljetuslaskuri!$E$87%*C20","v":59.400000000000006},{"$f":"P_arvo*P_maara*kuljetuslaskuri!$E$88%*C20","v":41.040000000000006},{"$f":"K_arvo*K_maara*kuljetuslaskuri!$E$89%*C20","v":79.2},179.64000000000001]
[null,{"$f":"kuljetuslaskuri!$D$31","v":2500},{"$f":"kuljetuslaskuri!$D$12","v":30},{"$f":"kuljetuslaskuri!$D$33","v":14},{"$f":"kuljetuslaskuri!$D$34","v":4000},12,2.1428571428571428,7.5,2,{"$f":"kuljetuslaskuri!$D$35","v":0},21.5,0.71666666666666667,null,1.3953488372093024,null,{"$f":"IF(kuljetuslaskuri!$H$17,kuljetuslaskuri!$D$17,0)","v":25},{"$f":"IF(kuljetuslaskuri!$H$18,kuljetuslaskuri!$D$18,0)","v":0},{"$f":"IF(kuljetuslaskuri!$G$19,kuljetuslaskuri!#REF!,0)","v":0},{"$f":"AVERAGE(IF(P21:R21<>0, P21:R21,\"\"))","v":25},{"$f":"S21*kuljetuslaskuri!$D$19%","v":23.75},2,{"$f":"kuljetuslaskuri!$D$24%","v":0},15.94,20.432579671877679,19.018688502938652,7.6923076923076925,7.5,{"$f":"kuljetuslaskuri!$D$25*(laskentapohja!C21/laskentapohja!T21)","v":2.5263157894736841},36.73731198472003,1.2245770661573343,0.81660846641359486,null,36.73731198472003,0.81660846641359486,null,1.1059786518114487,-0.5787403707957075,null,null,0,0.76744186046511675,0,1.3953488372093024,null,0,1.3953488372093024,null,{"$f":"IF(kuljetuslaskuri!$H$45,kuljetuslaskuri!$D$45,0)","v":20},{"$f":"IF(kuljetuslaskuri!$H$46,kuljetuslaskuri!$D$46,0)","v":0},{"$f":"IF(kuljetuslaskuri!$G$19,kuljetuslaskuri!#REF!,0)","v":0},{"$f":"AVERAGE(IF(AV21:AX21<>0, AV21:AX21,\"\"))","v":20},{"$f":"AY21*kuljetuslaskuri!$D$47%","v":19},2,{"$f":"kuljetuslaskuri!$D$52%","v":0},15.94,20.623295687285026,23.773360628673316,7.5,7.5,{"$f":"kuljetuslaskuri!$D$53*(laskentapohja!C21/laskentapohja!AZ21)","v":3.1578947368421053},41.931255365515419,12,53.931255365515419,1.7977085121838472,0.55626370639209188,null,21.430098657753351,46.533928513978701,67.964027171732056,null,0.39,23.400000000000002,null,{"$f":"kuljetuslaskuri!$D$74","v":71.100000000000009},null,94.500000000000014,null,{"$f":"N_arvo*N_maara*kuljetuslaskuri!$E$87%*C21","v":59.400000000000006},{"$f":"P_arvo*P_maara*kuljetuslaskuri!$E$88%*C21","v":41.040000000000006},{"$f":"K_arvo*K_maara*kuljetuslaskuri!$E$89%*C21","v":79.2},179.64000000000001]
[null,{"$f":"kuljetuslaskuri!$D$31","v":2500},{"$f":"kuljetuslaskuri!$D$12","v":30},{"$f":"kuljetuslaskuri!$D$33","v":14},{"$f":"kuljetuslaskuri!$D$34","v":4000},12,2.1428571428571428,7.5,2,{"$f":"kuljetuslaskuri!$D$35","v":0},21.5,0.71666666666666667,null,1.3953488372093024,null,{"$f":"IF(kuljetuslaskuri!$H$17,kuljetuslaskuri!$D$17,0)","v":25},{"$f":"IF(kuljetuslaskuri!$H$18,kuljetuslaskuri!$D$18,0)","v":0},{"$f":"IF(kuljetuslaskuri!$G$19,kuljetuslaskuri!#REF!,0)","v":0},{"$f":"AVERAGE(IF(P22:R22<>0, P22:R22,\"\"))","v":25},{"$f":"S22*kuljetuslaskuri!$D$19%","v":23.75},2.25,{"$f":"kuljetuslaskuri!$D$24%","v":0},15.94,20.994152130862389,21.39602456580598,7.6923076923076925,7.5,{"$f":"kuljetuslaskuri!$D$25*(laskentapohja!C22/laskentapohja!T22)","v":2.5263157894736841},39.114648047587359,1.3038216015862454,0.76697609456952376,null,39.114648047587359,0.76697609456952376,null,1.081162465889413,-0.6283727426397786,null,null,0,0.69767441860465162,0,1.3953488372093024,null,0,1.3953488372093024,null,{"$f":"IF(kuljetuslaskuri!$H$45,kuljetuslaskuri!$D$45,0)","v":20},{"$f":"IF(kuljetuslaskuri!$H$46,kuljetuslaskuri!$D$46,0)","v":0},{"$f":"IF(kuljetuslaskuri!$G$19,kuljetuslaskuri!#REF!,0)","v":0},{"$f":"AVERAGE(IF(AV22:AX22<>0, AV22:AX22,\"\"))","v":20},{"$f":"AY22*kuljetuslaskuri!$D$47%","v":19},2.25,{"$f":"kuljetuslaskuri!$D$52%","v":0},15.94,21.175207648195656,26.745030707257477,7.5,7.5,{"$f":"kuljetuslaskuri!$D$53*(laskentapohja!C22/laskentapohja!AZ22)","v":3.1578947368421053},44.90292544409958,12,56.90292544409958,1.896764181469986,0.52721366723880414,null,22.816878027759294,49.545220860277325,72.362098888036627,null,0.39,26.325000000000003,null,{"$f":"kuljetuslaskuri!$D$74","v":71.100000000000009},null,97.425000000000011,null,{"$f":"N_arvo*N_maara*kuljetuslaskuri!$E$87%*C22","v":59.400000000000006},{"$f":"P_arvo*P_maara*kuljetuslaskuri!$E$88%*C22","v":41.040000000000006},{"$f":"K_arvo*K_maara*kuljetuslaskuri!$E$89%*C22","v":79.2},179.64000000000001]
[null,{"$f":"kuljetuslaskuri!$D$31","v":2500},{"$f":"kuljetuslaskuri!$D$12","v":30},{"$f":"kuljetuslaskuri!$D$33","v":14},{"$f":"kuljetuslaskuri!$D$34","v":4000},12,2.1428571428571428,7.5,2,{"$f":"kuljetuslaskuri!$D$35","v":0},21.5,0.71666666666666667,null,1.3953488372093024,null,{"$f":"IF(kuljetuslaskuri!$H$17,kuljetuslaskuri!$D$17,0)","v":25},{"$f":"IF(kuljetuslaskuri!$H$18,kuljetuslaskuri!$D$18,0)","v":0},{"$f":"IF(kuljetuslaskuri!$G$19,kuljetuslaskuri!#REF!,0)","v":0},{"$f":"AVERAGE(IF(P23:R23<>0, P23:R23,\"\"))","v":25},{"$f":"S23*kuljetuslaskuri!$D$19%","v":23.75},2.5,{"$f":"kuljetuslaskuri!$D$24%","v":0},15.94,21.555724589847102,23.773360628673313,7.6923076923076925,7.5,{"$f":"kuljetuslaskuri!$D$25*(laskentapohja!C23/laskentapohja!T23)","v":2.5263157894736841},41.491984110454695,1.3830661370151565,0.72303122261248842,null,41.491984110454695,0.72303122261248842,null,1.0591900299108954,-0.67231761459681394,null,null,0,0.6279069767441865,0,1.3953488372093024,null,0,1.3953488372093024,null,{"$f":"IF(kuljetuslaskuri!$H$45,kuljetuslaskuri!$D$45,0)","v":20},{"$f":"IF(kuljetuslaskuri!$H$46,kuljetuslaskuri!$D$46,0)","v":0},{"$f":"IF(kuljetuslaskuri!$G$19,kuljetuslaskuri!#REF!,0)","v":0},{"$f":"AVERAGE(IF(AV23:AX23<>0, AV23:AX23,\"\"))","v":20},{"$f":"AY23*kuljetuslaskuri!$D$47%","v":19},2.5,{"$f":"kuljetuslaskuri!$D$52%","v":0},15.94,21.727119609106282,29.716700785841642,7.5,7.5,{"$f":"kuljetuslaskuri!$D$53*(laskentapohja!C23/laskentapohja!AZ23)","v":3.1578947368421053},47.874595522683741,12,59.874595522683741,1.9958198507561247,0.50104722609164642,null,24.203657397765237,52.556513206575943,76.760170604341184,null,0.39,29.250000000000004,null,{"$f":"kuljetuslaskuri!$D$74","v":71.100000000000009},null,100.35000000000001,null,{"$f":"N_arvo*N_maara*kuljetuslaskuri!$E$87%*C23","v":59.400000000000006},{"$f":"P_arvo*P_maara*kuljetuslaskuri!$E$88%*C23","v":41.040000000000006},{"$f":"K_arvo*K_maara*kuljetuslaskuri!$E$89%*C23","v":79.2},179.64000000000001]
[null,{"$f":"kuljetuslaskuri!$D$31","v":2500},{"$f":"kuljetuslaskuri!$D$12","v":30},{"$f":"kuljetuslaskuri!$D$33","v":14},{"$f":"kuljetuslaskuri!$D$34","v":4000},12,2.1428571428571428,7.5,2,{"$f":"kuljetuslaskuri!$D$35","v":0},21.5,0.71666666666666667,null,1.3953488372093024,null,{"$f":"IF(kuljetuslaskuri!$H$17,kuljetuslaskuri!$D$17,0)","v":25},{"$f":"IF(kuljetuslaskuri!$H$18,kuljetuslaskuri!$D$18,0)","v":0},{"$f":"IF(kuljetuslaskuri!$G$19,kuljetuslaskuri!#REF!,0)","v":0},{"$f":"AVERAGE(IF(P24:R24<>0, P24:R24,\"\"))","v":25},{"$f":"S24*kuljetuslaskuri!$D$19%","v":23.75},2.75,{"$f":"kuljetuslaskuri!$D$24%","v":0},15.94,22.117297048831809,26.150696691540645,7.6923076923076925,7.5,{"$f":"kuljetuslaskuri!$D$25*(laskentapohja!C24/laskentapohja!T24)","v":2.5263157894736841},43.869320173322023,1.4623106724440675,0.68384921128191345,null,43.869320173322023,0.68384921128191345,null,1.0395990242456079,-0.71149962592738891,null,null,0,0.55813953488372137,0,1.3953488372093024,null,0,1.3953488372093024,null,{"$f":"IF(kuljetuslaskuri!$H$45,kuljetuslaskuri!$D$45,0)","v":20},{"$f":"IF(kuljetuslaskuri!$H$46,kuljetuslaskuri!$D$46,0)","v":0},{"$f":"IF(kuljetuslaskuri!$G$19,kuljetuslaskuri!#REF!,0)","v":0},{"$f":"AVERAGE(IF(AV24:AX24<>0, AV24:AX24,\"\"))","v":20},{"$f":"AY24*kuljetuslaskuri!$D$47%","v":19},2.75,{"$f":"kuljetuslaskuri!$D$52%","v":0},15.94,22.279031570016912,32.688370864425806,7.5,7.5,{"$f":"kuljetuslaskuri!$D$53*(laskentapohja!C24/laskentapohja!AZ24)","v":3.1578947368421053},50.846265601267909,12,62.846265601267909,2.0948755200422635,0.47735533230147503,null,25.59043676777118,55.567805552874567,81.158242320645741,null,0.39,32.175000000000004,null,{"$f":"kuljetuslaskuri!$D$74","v":71.100000000000009},null,103.27500000000001,null,{"$f":"N_arvo*N_maara*kuljetuslaskuri!$E$87%*C24","v":59.400000000000006},{"$f":"P_arvo*P_maara*kuljetuslaskuri!$E$88%*C24","v":41.040000000000006},{"$f":"K_arvo*K_maara*kuljetuslaskuri!$E$89%*C24","v":79.2},179.64000000000001]
[null,{"$f":"kuljetuslaskuri!$D$31","v":2500},{"$f":"kuljetuslaskuri!$D$12","v":30},{"$f":"kuljetuslaskuri!$D$33","v":14},{"$f":"kuljetuslaskuri!$D$34","v":4000},12,2.1428571428571428,7.5,2,{"$f":"kuljetuslaskuri!$D$35","v":0},21.5,0.71666666666666667,null,1.3953488372093024,null,{"$f":"IF(kuljetuslaskuri!$H$17,kuljetuslaskuri!$D$17,0)","v":25},{"$f":"IF(kuljetuslaskuri!$H$18,kuljetuslaskuri!$D$18,0)","v":0},{"$f":"IF(kuljetuslaskuri!$G$19,kuljetuslaskuri!#REF!,0)","v":0},{"$f":"AVERAGE(IF(P25:R25<>0, P25:R25,\"\"))","v":25},{"$f":"S25*kuljetuslaskuri!$D$19%","v":23.75},3,{"$f":"kuljetuslaskuri!$D$24%","v":0},15.94,22.678869507816522,28.528032754407974,7.6923076923076925,7.5,{"$f":"kuljetuslaskuri!$D$25*(laskentapohja!C25/laskentapohja!T25)","v":2.5263157894736841},46.246656236189352,1.5415552078729784,0.64869554777722782,null,46.246656236189352,0.64869554777722782,null,1.0220221924932651,-0.74665328943207454,null,null,0,0.48837209302325624,0,1.3953488372093024,null,0,1.3953488372093024,null,{"$f":"IF(kuljetuslaskuri!$H$45,kuljetuslaskuri!$D$45,0)","v":20},{"$f":"IF(kuljetuslaskuri!$H$46,kuljetuslaskuri!$D$46,0)","v":0},{"$f":"IF(kuljetuslaskuri!$G$19,kuljetuslaskuri!#REF!,0)","v":0},{"$f":"AVERAGE(IF(AV25:AX25<>0, AV25:AX25,\"\"))","v":20},{"$f":"AY25*kuljetuslaskuri!$D$47%","v":19},3,{"$f":"kuljetuslaskuri!$D$52%","v":0},15.94,22.830943530927541,35.660040943009975,7.5,7.5,{"$f":"kuljetuslaskuri!$D$53*(laskentapohja!C25/laskentapohja!AZ25)","v":3.1578947368421053},53.817935679852077,12,65.81793567985207,2.1939311893284024,0.45580280952481289,null,26.977216137777123,58.579097899173178,85.556314036950297,null,0.39,35.1,null,{"$f":"kuljetuslaskuri!$D$74","v":71.100000000000009},null,106.20000000000002,null,{"$f":"N_arvo*N_maara*kuljetuslaskuri!$E$87%*C25","v":59.400000000000006},{"$f":"P_arvo*P_maara*kuljetuslaskuri!$E$88%*C25","v":41.040000000000006},{"$f":"K_arvo*K_maara*kuljetuslaskuri!$E$89%*C25","v":79.2},179.64000000000001]
[null,{"$f":"kuljetuslaskuri!$D$31","v":2500},{"$f":"kuljetuslaskuri!$D$12","v":30},{"$f":"kuljetuslaskuri!$D$33","v":14},{"$f":"kuljetuslaskuri!$D$34","v":4000},12,2.1428571428571428,7.5,2,{"$f":"kuljetuslaskuri!$D$35","v":0},21.5,0.71666666666666667,null,1.3953488372093024,null,{"$f":"IF(kuljetuslaskuri!$H$17,kuljetuslaskuri!$D$17,0)","v":25},{"$f":"IF(kuljetuslaskuri!$H$18,kuljetuslaskuri!$D$18,0)","v":0},{"$f":"IF(kuljetuslaskuri!$G$19,kuljetuslaskuri!#REF!,0)","v":0},{"$f":"AVERAGE(IF(P26:R26<>0, P26:R26,\"\"))","v":25},{"$f":"S26*kuljetuslaskuri!$D$19%","v":23.75},3.25,{"$f":"kuljetuslaskuri!$D$24%","v":0},15.94,23.240441966801232,30.905368817275306,7.6923076923076925,7.5,{"$f":"kuljetuslaskuri!$D$25*(laskentapohja!C26/laskentapohja!T26)","v":2.5263157894736841},48.623992299056681,1.6207997433018895,0.61697936721214075,null,48.623992299056681,0.61697936721214075,null,1.0061641022107215,-0.77836946999716161,null,null,0,0.41860465116279111,0,1.3953488372093024,null,0,1.3953488372093024,null,{"$f":"IF(kuljetuslaskuri!$H$45,kuljetuslaskuri!$D$45,0)","v":20},{"$f":"IF(kuljetuslaskuri!$H$46,kuljetuslaskuri!$D$46,0)","v":0},{"$f":"IF(kuljetuslaskuri!$G$19,kuljetuslaskuri!#REF!,0)","v":0},{"$f":"AVERAGE(IF(AV26:AX26<>0, AV26:AX26,\"\"))","v":20},{"$f":"AY26*kuljetuslaskuri!$D$47%","v":19},3.25,{"$f":"kuljetuslaskuri!$D$52%","v":0},15.94,23.382855491838171,38.631711021594136,7.5,7.5,{"$f":"kuljetuslaskuri!$D$53*(laskentapohja!C26/laskentapohja!AZ26)","v":3.1578947368421053},56.789605758436238,12,68.789605758436238,2.2929868586145412,0.4361123990933885,null,28.363995507783066,61.590390245471802,89.954385753254869,null,0.39,38.025000000000006,null,{"$f":"kuljetuslaskuri!$D$74","v":71.100000000000009},null,109.12500000000001,null,{"$f":"N_arvo*N_maara*kuljetuslaskuri!$E$87%*C26","v":59.400000000000006},{"$f":"P_arvo*P_maara*kuljetuslaskuri!$E$88%*C26","v":41.040000000000006},{"$f":"K_arvo*K_maara*kuljetuslaskuri!$E$89%*C26","v":79.2},179.64000000000001]
[null,{"$f":"kuljetuslaskuri!$D$31","v":2500},{"$f":"kuljetuslaskuri!$D$12","v":30},{"$f":"kuljetuslaskuri!$D$33","v":14},{"$f":"kuljetuslaskuri!$D$34","v":4000},12,2.1428571428571428,7.5,2,{"$f":"kuljetuslaskuri!$D$35","v":0},21.5,0.71666666666666667,null,1.3953488372093024,null,{"$f":"IF(kuljetuslaskuri!$H$17,kuljetuslaskuri!$D$17,0)","v":25},{"$f":"IF(kuljetuslaskuri!$H$18,kuljetuslaskuri!$D$18,0)","v":0},{"$f":"IF(kuljetuslaskuri!$G$19,kuljetuslaskuri!#REF!,0)","v":0},{"$f":"AVERAGE(IF(P27:R27<>0, P27:R27,\"\"))","v":25},{"$f":"S27*kuljetuslaskuri!$D$19%","v":23.75},3.5,{"$f":"kuljetuslaskuri!$D$24%","v":0},15.94,23.802014425785941,33.282704880142639,7.6923076923076925,7.5,{"$f":"kuljetuslaskuri!$D$25*(laskentapohja!C27/laskentapohja!T27)","v":2.5263157894736841},51.001328361924017,1.7000442787308006,0.58821997315656305,null,51.001328361924017,0.58821997315656305,null,0.99178440518293276,-0.80712886405273931,null,null,0,0.34883720930232598,0,1.3953488372093024,null,0,1.3953488372093024,null,{"$f":"IF(kuljetuslaskuri!$H$45,kuljetuslaskuri!$D$45,0)","v":20},{"$f":"IF(kuljetuslaskuri!$H$46,kuljetuslaskuri!$D$46,0)","v":0},{"$f":"IF(kuljetuslaskuri!$G$19,kuljetuslaskuri!#REF!,0)","v":0},{"$f":"AVERAGE(IF(AV27:AX27<>0, AV27:AX27,\"\"))","v":20},{"$f":"AY27*kuljetuslaskuri!$D$47%","v":19},3.5,{"$f":"kuljetuslaskuri!$D$52%","v":0},15.94,23.934767452748797,41.603381100178304,7.5,7.5,{"$f":"kuljetuslaskuri!$D$53*(laskentapohja!C27/laskentapohja!AZ27)","v":3.1578947368421053},59.761275837020406,12,71.761275837020406,2.3920425279006801,0.41805276801563662,null,29.750774877789009,64.601682591770427,94.35245746955944,null,0.39,40.950000000000003,null,{"$f":"kuljetuslaskuri!$D$74","v":71.100000000000009},null,112.05000000000001,null,{"$f":"N_arvo*N_maara*kuljetuslaskuri!$E$87%*C27","v":59.400000000000006},{"$f":"P_arvo*P_maara*kuljetuslaskuri!$E$88%*C27","v":41.040000000000006},{"$f":"K_arvo*K_maara*kuljetuslaskuri!$E$89%*C27","v":79.2},179.64000000000001]
[null,{"$f":"kuljetuslaskuri!$D$31","v":2500},{"$f":"kuljetuslaskuri!$D$12","v":30},{"$f":"kuljetuslaskuri!$D$33","v":14},{"$f":"kuljetuslaskuri!$D$34","v":4000},12,2.1428571428571428,7.5,2,{"$f":"kuljetuslaskuri!$D$35","v":0},21.5,0.71666666666666667,null,1.3953488372093024,null,{"$f":"IF(kuljetuslaskuri!$H$17,kuljetuslaskuri!$D$17,0)","v":25},{"$f":"IF(kuljetuslaskuri!$H$18,kuljetuslaskuri!$D$18,0)","v":0},{"$f":"IF(kuljetuslaskuri!$G$19,kuljetuslaskuri!#REF!,0)","v":0},{"$f":"AVERAGE(IF(P28:R28<>0, P28:R28,\"\"))","v":25},{"$f":"S28*kuljetuslaskuri!$D$19%","v":23.75},3.75,{"$f":"kuljetuslaskuri!$D$24%","v":0},15.94,24.363586884770651,35.660040943009967,7.6923076923076925,7.5,{"$f":"kuljetuslaskuri!$D$25*(laskentapohja!C28/laskentapohja!T28)","v":2.5263157894736841},53.378664424791346,1.7792888141597116,0.56202230466573289,null,53.378664424791346,0.56202230466573289,null,0.97868557093751762,-0.83332653254356948,null,null,0,0.27906976744186085,0,1.3953488372093024,null,0,1.3953488372093024,null,{"$f":"IF(kuljetuslaskuri!$H$45,kuljetuslaskuri!$D$45,0)","v":20},{"$f":"IF(kuljetuslaskuri!$H$46,kuljetuslaskuri!$D$46,0)","v":0},{"$f":"IF(kuljetuslaskuri!$G$19,kuljetuslaskuri!#REF!,0)","v":0},{"$f":"AVERAGE(IF(AV28:AX28<>0, AV28:AX28,\"\"))","v":20},{"$f":"AY28*kuljetuslaskuri!$D$47%","v":19},3.75,{"$f":"kuljetuslaskuri!$D$52%","v":0},15.94,24.486679413659427,44.575051178762465,7.5,7.5,{"$f":"kuljetuslaskuri!$D$53*(laskentapohja!C28/laskentapohja!AZ28)","v":3.1578947368421053},62.732945915604567,12,74.732945915604574,2.4910981971868194,0.4014293780667873,null,31.137554247794952,67.612974938069044,98.750529185863996,null,0.39,43.875000000000007,null,{"$f":"kuljetuslaskuri!$D$74","v":71.100000000000009},null,114.97500000000002,null,{"$f":"N_arvo*N_maara*kuljetuslaskuri!$E$87%*C28","v":59.400000000000006},{"$f":"P_arvo*P_maara*kuljetuslaskuri!$E$88%*C28","v":41.040000000000006},{"$f":"K_arvo*K_maara*kuljetuslaskuri!$E$89%*C28","v":79.2},179.64000000000001]
[null,{"$f":"kuljetuslaskuri!$D$31","v":2500},{"$f":"kuljetuslaskuri!$D$12","v":30},{"$f":"kuljetuslaskuri!$D$33","v":14},{"$f":"kuljetuslaskuri!$D$34","v":4000},12,2.1428571428571428,7.5,2,{"$f":"kuljetuslaskuri!$D$35","v":0},21.5,0.71666666666666667,null,1.3953488372093024,null,{"$f":"IF(kuljetuslaskuri!$H$17,kuljetuslaskuri!$D$17,0)","v":25},{"$f":"IF(kuljetuslaskuri!$H$18,kuljetuslaskuri!$D$18,0)","v":0},{"$f":"IF(kuljetuslaskuri!$G$19,kuljetuslaskuri!#REF!,0)","v":0},{"$f":"AVERAGE(IF(P29:R29<>0, P29:R29,\"\"))","v":25},{"$f":"S29*kuljetuslaskuri!$D$19%","v":23.75},4,{"$f":"kuljetuslaskuri!$D$24%","v":0},15.94,24.925159343755361,38.037377005877303,7.6923076923076925,7.5,{"$f":"kuljetuslaskuri!$D$25*(laskentapohja!C29/laskentapohja!T29)","v":2.5263157894736841},55.756000487658682,1.8585333495886227,0.53805867956114162,null,55.756000487658682,0.53805867956114162,null,0.96670375838522205,-0.85729015764816074,null,null,0,0.20930232558139572,0,1.3953488372093024,null,0,1.3953488372093024,null,{"$f":"IF(kuljetuslaskuri!$H$45,kuljetuslaskuri!$D$45,0)","v":20},{"$f":"IF(kuljetuslaskuri!$H$46,kuljetuslaskuri!$D$46,0)","v":0},{"$f":"IF(kuljetuslaskuri!$G$19,kuljetuslaskuri!#REF!,0)","v":0},{"$f":"AVERAGE(IF(AV29:AX29<>0, AV29:AX29,\"\"))","v":20},{"$f":"AY29*kuljetuslaskuri!$D$47%","v":19},4,{"$f":"kuljetuslaskuri!$D$52%","v":0},15.94,25.038591374570053,47.546721257346633,7.5,7.5,{"$f":"kuljetuslaskuri!$D$53*(laskentapohja!C29/laskentapohja!AZ29)","v":3.1578947368421053},65.704615994188742,12,77.704615994188742,2.5901538664729582,0.38607745004805882,null,32.524333617800899,70.624267284367662,103.14860090216857,null,0.39,46.800000000000004,null,{"$f":"kuljetuslaskuri!$D$74","v":71.100000000000009},null,117.9,null,{"$f":"N_arvo*N_maara*kuljetuslaskuri!$E$87%*C29","v":59.400000000000006},{"$f":"P_arvo*P_maara*kuljetuslaskuri!$E$88%*C29","v":41.040000000000006},{"$f":"K_arvo*K_maara*kuljetuslaskuri!$E$89%*C29","v":79.2},179.64000000000001]
[null,{"$f":"kuljetuslaskuri!$D$31","v":2500},{"$f":"kuljetuslaskuri!$D$12","v":30},{"$f":"kuljetuslaskuri!$D$33","v":14},{"$f":"kuljetuslaskuri!$D$34","v":4000},12,2.1428571428571428,7.5,2,{"$f":"kuljetuslaskuri!$D$35","v":0},21.5,0.71666666666666667,null,1.3953488372093024,null,{"$f":"IF(kuljetuslaskuri!$H$17,kuljetuslaskuri!$D$17,0)","v":25},{"$f":"IF(kuljetuslaskuri!$H$18,kuljetuslaskuri!$D$18,0)","v":0},{"$f":"IF(kuljetuslaskuri!$G$19,kuljetuslaskuri!#REF!,0)","v":0},{"$f":"AVERAGE(IF(P30:R30<>0, P30:R30,\"\"))","v":25},{"$f":"S30*kuljetuslaskuri!$D$19%","v":23.75},4.25,{"$f":"kuljetuslaskuri!$D$24%","v":0},15.94,25.486731802740071,40.414713068744632,7.6923076923076925,7.5,{"$f":"kuljetuslaskuri!$D$25*(laskentapohja!C30/laskentapohja!T30)","v":2.5263157894736841},58.13333655052601,1.9377778850175338,0.51605501731224046,null,58.13333655052601,0.51605501731224046,null,0.95570192726077141,-0.8792938198970619,null,null,0,0.13953488372093059,0,1.3953488372093024,null,0,1.3953488372093024,null,{"$f":"IF(kuljetuslaskuri!$H$45,kuljetuslaskuri!$D$45,0)","v":20},{"$f":"IF(kuljetuslaskuri!$H$46,kuljetuslaskuri!$D$46,0)","v":0},{"$f":"IF(kuljetuslaskuri!$G$19,kuljetuslaskuri!#REF!,0)","v":0},{"$f":"AVERAGE(IF(AV30:AX30<>0, AV30:AX30,\"\"))","v":20},{"$f":"AY30*kuljetuslaskuri!$D$47%","v":19},4.25,{"$f":"kuljetuslaskuri!$D$52%","v":0},15.94,25.590503335480683,50.518391335930794,7.5,7.5,{"$f":"kuljetuslaskuri!$D$53*(laskentapohja!C30/laskentapohja!AZ30)","v":3.1578947368421053},68.676286072772911,12,80.676286072772911,2.689209535759097,0.37185648299351459,null,33.911112987806838,73.635559630666279,107.54667261847311,null,0.39,49.725000000000001,null,{"$f":"kuljetuslaskuri!$D$74","v":71.100000000000009},null,120.82500000000002,null,{"$f":"N_arvo*N_maara*kuljetuslaskuri!$E$87%*C30","v":59.400000000000006},{"$f":"P_arvo*P_maara*kuljetuslaskuri!$E$88%*C30","v":41.040000000000006},{"$f":"K_arvo*K_maara*kuljetuslaskuri!$E$89%*C30","v":79.2},179.64000000000001]
[null,{"$f":"kuljetuslaskuri!$D$31","v":2500},{"$f":"kuljetuslaskuri!$D$12","v":30},{"$f":"kuljetuslaskuri!$D$33","v":14},{"$f":"kuljetuslaskuri!$D$34","v":4000},12,2.1428571428571428,7.5,2,{"$f":"kuljetuslaskuri!$D$35","v":0},21.5,0.71666666666666667,null,1.3953488372093024,null,{"$f":"IF(kuljetuslaskuri!$H$17,kuljetuslaskuri!$D$17,0)","v":25},{"$f":"IF(kuljetuslaskuri!$H$18,kuljetuslaskuri!$D$18,0)","v":0},{"$f":"IF(kuljetuslaskuri!$G$19,kuljetuslaskuri!#REF!,0)","v":0},{"$f":"AVERAGE(IF(P31:R31<>0, P31:R31,\"\"))","v":25},{"$f":"S31*kuljetuslaskuri!$D$19%","v":23.75},4.5,{"$f":"kuljetuslaskuri!$D$24%","v":0},15.94,26.04830426172478,42.792049131611961,7.6923076923076925,7.5,{"$f":"kuljetuslaskuri!$D$25*(laskentapohja!C31/laskentapohja!T31)","v":2.5263157894736841},60.510672613393339,2.0170224204464446,0.49578030956079383,null,60.510672613393339,0.49578030956079383,null,0.94556457338504807,-0.89956852764850859,null,null,0,6.9767441860465476E-2,0,1.3953488372093024,null,0,1.3953488372093024,null,{"$f":"IF(kuljetuslaskuri!$H$45,kuljetuslaskuri!$D$45,0)","v":20},{"$f":"IF(kuljetuslaskuri!$H$46,kuljetuslaskuri!$D$46,0)","v":0},{"$f":"IF(kuljetuslaskuri!$G$19,kuljetuslaskuri!#REF!,0)","v":0},{"$f":"AVERAGE(IF(AV31:AX31<>0, AV31:AX31,\"\"))","v":20},{"$f":"AY31*kuljetuslaskuri!$D$47%","v":19},4.5,{"$f":"kuljetuslaskuri!$D$52%","v":0},15.94,26.142415296391313,53.490061414514955,7.5,7.5,{"$f":"kuljetuslaskuri!$D$53*(laskentapohja!C31/laskentapohja!AZ31)","v":3.1578947368421053},71.647956151357064,12,83.647956151357064,2.7882652050452355,0.35864594163802882,null,35.297892357812785,76.646851976964896,111.94474433477768,null,0.39,52.650000000000006,null,{"$f":"kuljetuslaskuri!$D$74","v":71.100000000000009},null,123.75000000000001,null,{"$f":"N_arvo*N_maara*kuljetuslaskuri!$E$87%*C31","v":59.400000000000006},{"$f":"P_arvo*P_maara*kuljetuslaskuri!$E$88%*C31","v":41.040000000000006},{"$f":"K_arvo*K_maara*kuljetuslaskuri!$E$89%*C31","v":79.2},179.64000000000001]
[null,{"$f":"kuljetuslaskuri!$D$31","v":2500},{"$f":"kuljetuslaskuri!$D$12","v":30},{"$f":"kuljetuslaskuri!$D$33","v":14},{"$f":"kuljetuslaskuri!$D$34","v":4000},12,2.1428571428571428,7.5,2,{"$f":"kuljetuslaskuri!$D$35","v":0},21.5,0.71666666666666667,null,1.3953488372093024,null,{"$f":"IF(kuljetuslaskuri!$H$17,kuljetuslaskuri!$D$17,0)","v":25},{"$f":"IF(kuljetuslaskuri!$H$18,kuljetuslaskuri!$D$18,0)","v":0},{"$f":"IF(kuljetuslaskuri!$G$19,kuljetuslaskuri!#REF!,0)","v":0},{"$f":"AVERAGE(IF(P32:R32<>0, P32:R32,\"\"))","v":25},{"$f":"S32*kuljetuslaskuri!$D$19%","v":23.75},4.75,{"$f":"kuljetuslaskuri!$D$24%","v":0},15.94,26.609876720709494,45.169385194479297,7.6923076923076925,7.5,{"$f":"kuljetuslaskuri!$D$25*(laskentapohja!C32/laskentapohja!T32)","v":2.5263157894736841},62.888008676260675,2.0962669558753557,0.47703847890042306,null,62.888008676260675,0.47703847890042306,null,0.93619365805486265,-0.9183103583088793,null,null,0,3.6082248300317588E-16,0,1.3953488372093024,null,0,1.3953488372093024,null,{"$f":"IF(kuljetuslaskuri!$H$45,kuljetuslaskuri!$D$45,0)","v":20},{"$f":"IF(kuljetuslaskuri!$H$46,kuljetuslaskuri!$D$46,0)","v":0},{"$f":"IF(kuljetuslaskuri!$G$19,kuljetuslaskuri!#REF!,0)","v":0},{"$f":"AVERAGE(IF(AV32:AX32<>0, AV32:AX32,\"\"))","v":20},{"$f":"AY32*kuljetuslaskuri!$D$47%","v":19},4.75,{"$f":"kuljetuslaskuri!$D$52%","v":0},15.94,26.694327257301943,56.461731493099123,7.5,7.5,{"$f":"kuljetuslaskuri!$D$53*(laskentapohja!C32/laskentapohja!AZ32)","v":3.1578947368421053},74.619626229941233,12,86.619626229941233,2.8873208743313743,0.34634183158862558,null,36.684671727818724,79.658144323263514,116.34281605108224,null,0.39,55.575000000000003,null,{"$f":"kuljetuslaskuri!$D$74","v":71.100000000000009},null,126.67500000000001,null,{"$f":"N_arvo*N_maara*kuljetuslaskuri!$E$87%*C32","v":59.400000000000006},{"$f":"P_arvo*P_maara*kuljetuslaskuri!$E$88%*C32","v":41.040000000000006},{"$f":"K_arvo*K_maara*kuljetuslaskuri!$E$89%*C32","v":79.2},179.64000000000001]
[null,{"$f":"kuljetuslaskuri!$D$31","v":2500},{"$f":"kuljetuslaskuri!$D$12","v":30},{"$f":"kuljetuslaskuri!$D$33","v":14},{"$f":"kuljetuslaskuri!$D$34","v":4000},12,2.1428571428571428,7.5,2,{"$f":"kuljetuslaskuri!$D$35","v":0},21.5,0.71666666666666667,null,1.3953488372093024,null,{"$f":"IF(kuljetuslaskuri!$H$17,kuljetuslaskuri!$D$17,0)","v":25},{"$f":"IF(kuljetuslaskuri!$H$18,kuljetuslaskuri!$D$18,0)","v":0},{"$f":"IF(kuljetuslaskuri!$G$19,kuljetuslaskuri!#REF!,0)","v":0},{"$f":"AVERAGE(IF(P33:R33<>0, P33:R33,\"\"))","v":25},{"$f":"S33*kuljetuslaskuri!$D$19%","v":23.75},5,{"$f":"kuljetuslaskuri!$D$24%","v":0},15.94,27.1714491796942,47.546721257346626,7.6923076923076925,7.5,{"$f":"kuljetuslaskuri!$D$25*(laskentapohja!C33/laskentapohja!T33)","v":2.5263157894736841},65.265344739127997,2.1755114913042664,0.45966201695421904,null,65.265344739127997,0.45966201695421904,null,0.92750542708176065,-0.93568682025508332,null,null,null,null,null,null,null,null,null,null,{"$f":"IF(kuljetuslaskuri!$H$45,kuljetuslaskuri!$D$45,0)","v":20},{"$f":"IF(kuljetuslaskuri!$H$46,kuljetuslaskuri!$D$46,0)","v":0},{"$f":"IF(kuljetuslaskuri!$G$19,kuljetuslaskuri!#REF!,0)","v":0},{"$f":"AVERAGE(IF(AV33:AX33<>0, AV33:AX33,\"\"))","v":20},{"$f":"AY33*kuljetuslaskuri!$D$47%","v":19},5,{"$f":"kuljetuslaskuri!$D$52%","v":0},15.94,27.246239218212569,59.433401571683284,7.5,7.5,{"$f":"kuljetuslaskuri!$D$53*(laskentapohja!C33/laskentapohja!AZ33)","v":3.1578947368421053},77.591296308525386,12,89.591296308525386,2.9863765436175127,0.33485395608842466,null,38.071451097824664,82.669436669562117,120.74088776738678,null,0.39,58.500000000000007,null,{"$f":"kuljetuslaskuri!$D$74","v":71.100000000000009},null,129.60000000000002,null,{"$f":"N_arvo*N_maara*kuljetuslaskuri!$E$87%*C33","v":59.400000000000006},{"$f":"P_arvo*P_maara*kuljetuslaskuri!$E$88%*C33","v":41.040000000000006},{"$f":"K_arvo*K_maara*kuljetuslaskuri!$E$89%*C33","v":79.2},179.64000000000001]
[null,{"$f":"kuljetuslaskuri!$D$31","v":2500},{"$f":"kuljetuslaskuri!$D$12","v":30},{"$f":"kuljetuslaskuri!$D$33","v":14},{"$f":"kuljetuslaskuri!$D$34","v":4000},12,2.1428571428571428,7.5,2,{"$f":"kuljetuslaskuri!$D$35","v":0},21.5,0.71666666666666667,null,1.3953488372093024,null,{"$f":"IF(kuljetuslaskuri!$H$17,kuljetuslaskuri!$D$17,0)","v":25},{"$f":"IF(kuljetuslaskuri!$H$18,kuljetuslaskuri!$D$18,0)","v":0},{"$f":"IF(kuljetuslaskuri!$G$19,kuljetuslaskuri!#REF!,0)","v":0},{"$f":"AVERAGE(IF(P34:R34<>0, P34:R34,\"\"))","v":25},{"$f":"S34*kuljetuslaskuri!$D$19%","v":23.75},5.25,{"$f":"kuljetuslaskuri!$D$24%","v":0},15.94,27.733021638678913,49.924057320213961,7.6923076923076925,7.5,{"$f":"kuljetuslaskuri!$D$25*(laskentapohja!C34/laskentapohja!T34)","v":2.5263157894736841},67.64268080199534,2.2547560267331779,0.443506964010141,null,67.64268080199534,0.443506964010141,null,0.91942790060972168,-0.95184187319916136,null,null,null,null,null,null,null,null,null,null,{"$f":"IF(kuljetuslaskuri!$H$45,kuljetuslaskuri!$D$45,0)","v":20},{"$f":"IF(kuljetuslaskuri!$H$46,kuljetuslaskuri!$D$46,0)","v":0},{"$f":"IF(kuljetuslaskuri!$G$19,kuljetuslaskuri!#REF!,0)","v":0},{"$f":"AVERAGE(IF(AV34:AX34<>0, AV34:AX34,\"\"))","v":20},{"$f":"AY34*kuljetuslaskuri!$D$47%","v":19},5.25,{"$f":"kuljetuslaskuri!$D$52%","v":0},15.94,27.798151179123199,62.405071650267452,7.5,7.5,{"$f":"kuljetuslaskuri!$D$53*(laskentapohja!C34/laskentapohja!AZ34)","v":3.1578947368421053},80.562966387109554,12,92.562966387109554,3.085432212903652,0.32410370119877491,null,39.45823046783061,85.680729015860763,125.13895948369137,null,0.39,61.425000000000004,null,{"$f":"kuljetuslaskuri!$D$74","v":71.100000000000009},null,132.52500000000001,null,{"$f":"N_arvo*N_maara*kuljetuslaskuri!$E$87%*C34","v":59.400000000000006},{"$f":"P_arvo*P_maara*kuljetuslaskuri!$E$88%*C34","v":41.040000000000006},{"$f":"K_arvo*K_maara*kuljetuslaskuri!$E$89%*C34","v":79.2},179.64000000000001]
[null,{"$f":"kuljetuslaskuri!$D$31","v":2500},{"$f":"kuljetuslaskuri!$D$12","v":30},{"$f":"kuljetuslaskuri!$D$33","v":14},{"$f":"kuljetuslaskuri!$D$34","v":4000},12,2.1428571428571428,7.5,2,{"$f":"kuljetuslaskuri!$D$35","v":0},21.5,0.71666666666666667,null,1.3953488372093024,null,{"$f":"IF(kuljetuslaskuri!$H$17,kuljetuslaskuri!$D$17,0)","v":25},{"$f":"IF(kuljetuslaskuri!$H$18,kuljetuslaskuri!$D$18,0)","v":0},{"$f":"IF(kuljetuslaskuri!$G$19,kuljetuslaskuri!#REF!,0)","v":0},{"$f":"AVERAGE(IF(P35:R35<>0, P35:R35,\"\"))","v":25},{"$f":"S35*kuljetuslaskuri!$D$19%","v":23.75},5.5,{"$f":"kuljetuslaskuri!$D$24%","v":0},15.94,28.294594097663619,52.30139338308129,7.6923076923076925,7.5,{"$f":"kuljetuslaskuri!$D$25*(laskentapohja!C35/laskentapohja!T35)","v":2.5263157894736841},70.020016864862669,2.334000562162089,0.42844891137200725,null,70.020016864862669,0.42844891137200725,null,0.91189887429065486,-0.96689992583729512,null,null,null,null,null,null,null,null,null,null,{"$f":"IF(kuljetuslaskuri!$H$45,kuljetuslaskuri!$D$45,0)","v":20},{"$f":"IF(kuljetuslaskuri!$H$46,kuljetuslaskuri!$D$46,0)","v":0},{"$f":"IF(kuljetuslaskuri!$G$19,kuljetuslaskuri!#REF!,0)","v":0},{"$f":"AVERAGE(IF(AV35:AX35<>0, AV35:AX35,\"\"))","v":20},{"$f":"AY35*kuljetuslaskuri!$D$47%","v":19},5.5,{"$f":"kuljetuslaskuri!$D$52%","v":0},15.94,28.350063140033825,65.376741728851613,7.5,7.5,{"$f":"kuljetuslaskuri!$D$53*(laskentapohja!C35/laskentapohja!AZ35)","v":3.1578947368421053},83.534636465693723,12,95.534636465693723,3.1844878821897908,0.31402223434191778,null,40.845009837836557,88.69202136215938,129.53703119999594,null,0.39,64.350000000000009,null,{"$f":"kuljetuslaskuri!$D$74","v":71.100000000000009},null,135.45000000000002,null,{"$f":"N_arvo*N_maara*kuljetuslaskuri!$E$87%*C35","v":59.400000000000006},{"$f":"P_arvo*P_maara*kuljetuslaskuri!$E$88%*C35","v":41.040000000000006},{"$f":"K_arvo*K_maara*kuljetuslaskuri!$E$89%*C35","v":79.2},179.64000000000001]
[null,{"$f":"kuljetuslaskuri!$D$31","v":2500},{"$f":"kuljetuslaskuri!$D$12","v":30},{"$f":"kuljetuslaskuri!$D$33","v":14},{"$f":"kuljetuslaskuri!$D$34","v":4000},12,2.1428571428571428,7.5,2,{"$f":"kuljetuslaskuri!$D$35","v":0},21.5,0.71666666666666667,null,1.3953488372093024,null,{"$f":"IF(kuljetuslaskuri!$H$17,kuljetuslaskuri!$D$17,0)","v":25},{"$f":"IF(kuljetuslaskuri!$H$18,kuljetuslaskuri!$D$18,0)","v":0},{"$f":"IF(kuljetuslaskuri!$G$19,kuljetuslaskuri!#REF!,0)","v":0},{"$f":"AVERAGE(IF(P36:R36<>0, P36:R36,\"\"))","v":25},{"$f":"S36*kuljetuslaskuri!$D$19%","v":23.75},5.75,{"$f":"kuljetuslaskuri!$D$24%","v":0},15.94,28.856166556648333,54.678729445948626,7.6923076923076925,7.5,{"$f":"kuljetuslaskuri!$D$25*(laskentapohja!C36/laskentapohja!T36)","v":2.5263157894736841},72.397352927730012,2.4132450975910005,0.41437979134329983,null,72.397352927730012,0.41437979134329983,null,0.9048643142763011,-0.98096904586600253,null,null,null,null,null,null,null,null,null,null,{"$f":"IF(kuljetuslaskuri!$H$45,kuljetuslaskuri!$D$45,0)","v":20},{"$f":"IF(kuljetuslaskuri!$H$46,kuljetuslaskuri!$D$46,0)","v":0},{"$f":"IF(kuljetuslaskuri!$G$19,kuljetuslaskuri!#REF!,0)","v":0},{"$f":"AVERAGE(IF(AV36:AX36<>0, AV36:AX36,\"\"))","v":20},{"$f":"AY36*kuljetuslaskuri!$D$47%","v":19},5.75,{"$f":"kuljetuslaskuri!$D$52%","v":0},15.94,28.901975100944455,68.348411807435781,7.5,7.5,{"$f":"kuljetuslaskuri!$D$53*(laskentapohja!C36/laskentapohja!AZ36)","v":3.1578947368421053},86.506306544277891,12,98.506306544277891,3.2835435514759297,0.30454902891435903,null,42.23178920784251,91.703313708458012,133.93510291630054,null,0.39,67.275000000000006,null,{"$f":"kuljetuslaskuri!$D$74","v":71.100000000000009},null,138.375,null,{"$f":"N_arvo*N_maara*kuljetuslaskuri!$E$87%*C36","v":59.400000000000006},{"$f":"P_arvo*P_maara*kuljetuslaskuri!$E$88%*C36","v":41.040000000000006},{"$f":"K_arvo*K_maara*kuljetuslaskuri!$E$89%*C36","v":79.2},179.64000000000001]
[null,{"$f":"kuljetuslaskuri!$D$31","v":2500},{"$f":"kuljetuslaskuri!$D$12","v":30},{"$f":"kuljetuslaskuri!$D$33","v":14},{"$f":"kuljetuslaskuri!$D$34","v":4000},12,2.1428571428571428,7.5,2,{"$f":"kuljetuslaskuri!$D$35","v":0},21.5,0.71666666666666667,null,1.3953488372093024,null,{"$f":"IF(kuljetuslaskuri!$H$17,kuljetuslaskuri!$D$17,0)","v":25},{"$f":"IF(kuljetuslaskuri!$H$18,kuljetuslaskuri!$D$18,0)","v":0},{"$f":"IF(kuljetuslaskuri!$G$19,kuljetuslaskuri!#REF!,0)","v":0},{"$f":"AVERAGE(IF(P37:R37<>0, P37:R37,\"\"))","v":25},{"$f":"S37*kuljetuslaskuri!$D$19%","v":23.75},6,{"$f":"kuljetuslaskuri!$D$24%","v":0},15.94,29.417739015633039,57.056065508815948,7.6923076923076925,7.5,{"$f":"kuljetuslaskuri!$D$25*(laskentapohja!C37/laskentapohja!T37)","v":2.5263157894736841},74.774688990597326,2.4924896330199107,0.40120527955351848,null,74.774688990597326,0.40120527955351848,null,0.89827705838141036,-0.99414355765578388,null,null,null,null,null,null,null,null,null,null,{"$f":"IF(kuljetuslaskuri!$H$45,kuljetuslaskuri!$D$45,0)","v":20},{"$f":"IF(kuljetuslaskuri!$H$46,kuljetuslaskuri!$D$46,0)","v":0},{"$f":"IF(kuljetuslaskuri!$G$19,kuljetuslaskuri!#REF!,0)","v":0},{"$f":"AVERAGE(IF(AV37:AX37<>0, AV37:AX37,\"\"))","v":20},{"$f":"AY37*kuljetuslaskuri!$D$47%","v":19},6,{"$f":"kuljetuslaskuri!$D$52%","v":0},15.94,29.453887061855085,71.320081886019949,7.5,7.5,{"$f":"kuljetuslaskuri!$D$53*(laskentapohja!C37/laskentapohja!AZ37)","v":3.1578947368421053},89.477976622862059,12,101.47797662286206,3.3825992207620685,0.29563064813061396,null,43.618568577848436,94.714606054756601,138.33317463260505,null,0.39,70.2,null,{"$f":"kuljetuslaskuri!$D$74","v":71.100000000000009},null,141.30000000000001,null,{"$f":"N_arvo*N_maara*kuljetuslaskuri!$E$87%*C37","v":59.400000000000006},{"$f":"P_arvo*P_maara*kuljetuslaskuri!$E$88%*C37","v":41.040000000000006},{"$f":"K_arvo*K_maara*kuljetuslaskuri!$E$89%*C37","v":79.2},179.64000000000001]
[null,{"$f":"kuljetuslaskuri!$D$31","v":2500},{"$f":"kuljetuslaskuri!$D$12","v":30},{"$f":"kuljetuslaskuri!$D$33","v":14},{"$f":"kuljetuslaskuri!$D$34","v":4000},12,2.1428571428571428,7.5,2,{"$f":"kuljetuslaskuri!$D$35","v":0},21.5,0.71666666666666667,null,1.3953488372093024,null,{"$f":"IF(kuljetuslaskuri!$H$17,kuljetuslaskuri!$D$17,0)","v":25},{"$f":"IF(kuljetuslaskuri!$H$18,kuljetuslaskuri!$D$18,0)","v":0},{"$f":"IF(kuljetuslaskuri!$G$19,kuljetuslaskuri!#REF!,0)","v":0},{"$f":"AVERAGE(IF(P38:R38<>0, P38:R38,\"\"))","v":25},{"$f":"S38*kuljetuslaskuri!$D$19%","v":23.75},6.25,{"$f":"kuljetuslaskuri!$D$24%","v":0},15.94,29.979311474617752,59.433401571683284,7.6923076923076925,7.5,{"$f":"kuljetuslaskuri!$D$25*(laskentapohja!C38/laskentapohja!T38)","v":2.5263157894736841},77.152025053464655,2.5717341684488217,0.38884267754748708,null,77.152025053464655,0.38884267754748708,null,0.89209575737839475,-1.0065061596618152,null,null,null,null,null,null,null,null,null,null,{"$f":"IF(kuljetuslaskuri!$H$45,kuljetuslaskuri!$D$45,0)","v":20},{"$f":"IF(kuljetuslaskuri!$H$46,kuljetuslaskuri!$D$46,0)","v":0},{"$f":"IF(kuljetuslaskuri!$G$19,kuljetuslaskuri!#REF!,0)","v":0},{"$f":"AVERAGE(IF(AV38:AX38<>0, AV38:AX38,\"\"))","v":20},{"$f":"AY38*kuljetuslaskuri!$D$47%","v":19},6.25,{"$f":"kuljetuslaskuri!$D$52%","v":0},15.94,30.005799022765714,74.291751964604117,7.5,7.5,{"$f":"kuljetuslaskuri!$D$53*(laskentapohja!C38/laskentapohja!AZ38)","v":3.1578947368421053},92.449646701446227,12,104.44964670144623,3.4816548900482074,0.28721973647024901,null,45.005347947854382,97.725898401055233,142.73124634890962,null,0.39,73.125,null,{"$f":"kuljetuslaskuri!$D$74","v":71.100000000000009},null,144.22500000000002,null,{"$f":"N_arvo*N_maara*kuljetuslaskuri!$E$87%*C38","v":59.400000000000006},{"$f":"P_arvo*P_maara*kuljetuslaskuri!$E$88%*C38","v":41.040000000000006},{"$f":"K_arvo*K_maara*kuljetuslaskuri!$E$89%*C38","v":79.2},179.64000000000001]
[null,{"$f":"kuljetuslaskuri!$D$31","v":2500},{"$f":"kuljetuslaskuri!$D$12","v":30},{"$f":"kuljetuslaskuri!$D$33","v":14},{"$f":"kuljetuslaskuri!$D$34","v":4000},12,2.1428571428571428,7.5,2,{"$f":"kuljetuslaskuri!$D$35","v":0},21.5,0.71666666666666667,null,1.3953488372093024,null,{"$f":"IF(kuljetuslaskuri!$H$17,kuljetuslaskuri!$D$17,0)","v":25},{"$f":"IF(kuljetuslaskuri!$H$18,kuljetuslaskuri!$D$18,0)","v":0},{"$f":"IF(kuljetuslaskuri!$G$19,kuljetuslaskuri!#REF!,0)","v":0},{"$f":"AVERAGE(IF(P39:R39<>0, P39:R39,\"\"))","v":25},{"$f":"S39*kuljetuslaskuri!$D$19%","v":23.75},6.5,{"$f":"kuljetuslaskuri!$D$24%","v":0},15.94,30.540883933602462,61.810737634550613,7.6923076923076925,7.5,{"$f":"kuljetuslaskuri!$D$25*(laskentapohja!C39/laskentapohja!T39)","v":2.5263157894736841},79.529361116331984,2.6509787038777328,0.37721917514359687,null,79.529361116331984,0.37721917514359687,null,0.88628400617644965,-1.0181296620657054,null,null,null,null,null,null,null,null,null,null,{"$f":"IF(kuljetuslaskuri!$H$45,kuljetuslaskuri!$D$45,0)","v":20},{"$f":"IF(kuljetuslaskuri!$H$46,kuljetuslaskuri!$D$46,0)","v":0},{"$f":"IF(kuljetuslaskuri!$G$19,kuljetuslaskuri!#REF!,0)","v":0},{"$f":"AVERAGE(IF(AV39:AX39<>0, AV39:AX39,\"\"))","v":20},{"$f":"AY39*kuljetuslaskuri!$D$47%","v":19},6.5,{"$f":"kuljetuslaskuri!$D$52%","v":0},15.94,30.557710983676341,77.263422043188271,7.5,7.5,{"$f":"kuljetuslaskuri!$D$53*(laskentapohja!C39/laskentapohja!AZ39)","v":3.1578947368421053},95.421316780030381,12,107.42131678003038,3.5807105593343462,0.27927417852670555,null,46.392127317860322,100.73719074735385,147.12931806521416,null,0.39,76.050000000000011,null,{"$f":"kuljetuslaskuri!$D$74","v":71.100000000000009},null,147.15000000000003,null,{"$f":"N_arvo*N_maara*kuljetuslaskuri!$E$87%*C39","v":59.400000000000006},{"$f":"P_arvo*P_maara*kuljetuslaskuri!$E$88%*C39","v":41.040000000000006},{"$f":"K_arvo*K_maara*kuljetuslaskuri!$E$89%*C39","v":79.2},179.64000000000001]
[null,{"$f":"kuljetuslaskuri!$D$31","v":2500},{"$f":"kuljetuslaskuri!$D$12","v":30},{"$f":"kuljetuslaskuri!$D$33","v":14},{"$f":"kuljetuslaskuri!$D$34","v":4000},12,2.1428571428571428,7.5,2,{"$f":"kuljetuslaskuri!$D$35","v":0},21.5,0.71666666666666667,null,1.3953488372093024,null,{"$f":"IF(kuljetuslaskuri!$H$17,kuljetuslaskuri!$D$17,0)","v":25},{"$f":"IF(kuljetuslaskuri!$H$18,kuljetuslaskuri!$D$18,0)","v":0},{"$f":"IF(kuljetuslaskuri!$G$19,kuljetuslaskuri!#REF!,0)","v":0},{"$f":"AVERAGE(IF(P40:R40<>0, P40:R40,\"\"))","v":25},{"$f":"S40*kuljetuslaskuri!$D$19%","v":23.75},6.75,{"$f":"kuljetuslaskuri!$D$24%","v":0},15.94,31.102456392587172,64.188073697417948,7.6923076923076925,7.5,{"$f":"kuljetuslaskuri!$D$25*(laskentapohja!C40/laskentapohja!T40)","v":2.5263157894736841},81.906697179199327,2.7302232393066443,0.36627041540161959,null,81.906697179199327,0.36627041540161959,null,0.880809626305461,-1.0290784218076827,null,null,null,null,null,null,null,null,null,null,{"$f":"IF(kuljetuslaskuri!$H$45,kuljetuslaskuri!$D$45,0)","v":20},{"$f":"IF(kuljetuslaskuri!$H$46,kuljetuslaskuri!$D$46,0)","v":0},{"$f":"IF(kuljetuslaskuri!$G$19,kuljetuslaskuri!#REF!,0)","v":0},{"$f":"AVERAGE(IF(AV40:AX40<>0, AV40:AX40,\"\"))","v":20},{"$f":"AY40*kuljetuslaskuri!$D$47%","v":19},6.75,{"$f":"kuljetuslaskuri!$D$52%","v":0},15.94,31.109622944586967,80.235092121772439,7.5,7.5,{"$f":"kuljetuslaskuri!$D$53*(laskentapohja!C40/laskentapohja!AZ40)","v":3.1578947368421053},98.392986858614549,12,110.39298685861455,3.6797662286204851,0.27175639371387239,null,47.778906687866275,103.74848309365248,151.52738978151876,null,0.39,78.975000000000009,null,{"$f":"kuljetuslaskuri!$D$74","v":71.100000000000009},null,150.07500000000002,null,{"$f":"N_arvo*N_maara*kuljetuslaskuri!$E$87%*C40","v":59.400000000000006},{"$f":"P_arvo*P_maara*kuljetuslaskuri!$E$88%*C40","v":41.040000000000006},{"$f":"K_arvo*K_maara*kuljetuslaskuri!$E$89%*C40","v":79.2},179.64000000000001]
[null,{"$f":"kuljetuslaskuri!$D$31","v":2500},{"$f":"kuljetuslaskuri!$D$12","v":30},{"$f":"kuljetuslaskuri!$D$33","v":14},{"$f":"kuljetuslaskuri!$D$34","v":4000},12,2.1428571428571428,7.5,2,{"$f":"kuljetuslaskuri!$D$35","v":0},21.5,0.71666666666666667,null,1.3953488372093024,null,{"$f":"IF(kuljetuslaskuri!$H$17,kuljetuslaskuri!$D$17,0)","v":25},{"$f":"IF(kuljetuslaskuri!$H$18,kuljetuslaskuri!$D$18,0)","v":0},{"$f":"IF(kuljetuslaskuri!$G$19,kuljetuslaskuri!#REF!,0)","v":0},{"$f":"AVERAGE(IF(P41:R41<>0, P41:R41,\"\"))","v":25},{"$f":"S41*kuljetuslaskuri!$D$19%","v":23.75},7,{"$f":"kuljetuslaskuri!$D$24%","v":0},15.94,31.664028851571882,66.565409760285277,7.6923076923076925,7.5,{"$f":"kuljetuslaskuri!$D$25*(laskentapohja!C41/laskentapohja!T41)","v":2.5263157894736841},84.284033242066656,2.809467774735555,0.35593930245173444,null,84.284033242066656,0.35593930245173444,null,0.87564406983051835,-1.039409534757568,null,null,null,null,null,null,null,null,null,null,{"$f":"IF(kuljetuslaskuri!$H$45,kuljetuslaskuri!$D$45,0)","v":20},{"$f":"IF(kuljetuslaskuri!$H$46,kuljetuslaskuri!$D$46,0)","v":0},{"$f":"IF(kuljetuslaskuri!$G$19,kuljetuslaskuri!#REF!,0)","v":0},{"$f":"AVERAGE(IF(AV41:AX41<>0, AV41:AX41,\"\"))","v":20},{"$f":"AY41*kuljetuslaskuri!$D$47%","v":19},7,{"$f":"kuljetuslaskuri!$D$52%","v":0},15.94,31.661534905497597,83.206762200356607,7.5,7.5,{"$f":"kuljetuslaskuri!$D$53*(laskentapohja!C41/laskentapohja!AZ41)","v":3.1578947368421053},101.36465693719872,12,113.36465693719872,3.7788218979066239,0.26463274190137825,null,49.165686057872215,106.75977543995108,155.92546149782331,null,0.39,81.900000000000006,null,{"$f":"kuljetuslaskuri!$D$74","v":71.100000000000009},null,153,null,{"$f":"N_arvo*N_maara*kuljetuslaskuri!$E$87%*C41","v":59.400000000000006},{"$f":"P_arvo*P_maara*kuljetuslaskuri!$E$88%*C41","v":41.040000000000006},{"$f":"K_arvo*K_maara*kuljetuslaskuri!$E$89%*C41","v":79.2},179.64000000000001]
[null,{"$f":"kuljetuslaskuri!$D$31","v":2500},{"$f":"kuljetuslaskuri!$D$12","v":30},{"$f":"kuljetuslaskuri!$D$33","v":14},{"$f":"kuljetuslaskuri!$D$34","v":4000},12,2.1428571428571428,7.5,2,{"$f":"kuljetuslaskuri!$D$35","v":0},21.5,0.71666666666666667,null,1.3953488372093024,null,{"$f":"IF(kuljetuslaskuri!$H$17,kuljetuslaskuri!$D$17,0)","v":25},{"$f":"IF(kuljetuslaskuri!$H$18,kuljetuslaskuri!$D$18,0)","v":0},{"$f":"IF(kuljetuslaskuri!$G$19,kuljetuslaskuri!#REF!,0)","v":0},{"$f":"AVERAGE(IF(P42:R42<>0, P42:R42,\"\"))","v":25},{"$f":"S42*kuljetuslaskuri!$D$19%","v":23.75},7.25,{"$f":"kuljetuslaskuri!$D$24%","v":0},15.94,32.225601310556591,68.94274582315262,7.6923076923076925,7.5,{"$f":"kuljetuslaskuri!$D$25*(laskentapohja!C42/laskentapohja!T42)","v":2.5263157894736841},86.661369304933999,2.8887123101644665,0.34617500554877539,null,86.661369304933999,0.34617500554877539,null,0.87076192137903885,{"$f":"AH42-N42","v":-1.049173831660527},null,null,null,null,null,null,null,null,null,null,{"$f":"IF(kuljetuslaskuri!$H$45,kuljetuslaskuri!$D$45,0)","v":20},{"$f":"IF(kuljetuslaskuri!$H$46,kuljetuslaskuri!$D$46,0)","v":0},{"$f":"IF(kuljetuslaskuri!$G$19,kuljetuslaskuri!#REF!,0)","v":0},{"$f":"AVERAGE(IF(AV42:AX42<>0, AV42:AX42,\"\"))","v":20},{"$f":"AY42*kuljetuslaskuri!$D$47%","v":19},7.25,{"$f":"kuljetuslaskuri!$D$52%","v":0},15.94,32.213446866408226,86.178432278940775,7.5,7.5,{"$f":"kuljetuslaskuri!$D$53*(laskentapohja!C42/laskentapohja!AZ42)","v":3.1578947368421053},104.33632701578289,12,116.33632701578289,3.8778775671927628,0.25787302014382851,null,50.552465427878161,109.77106778624973,160.32353321412791,null,0.39,84.825000000000003,null,{"$f":"kuljetuslaskuri!$D$74","v":71.100000000000009},null,155.92500000000001,null,{"$f":"N_arvo*N_maara*kuljetuslaskuri!$E$87%*C42","v":59.400000000000006},{"$f":"P_arvo*P_maara*kuljetuslaskuri!$E$88%*C42","v":41.040000000000006},{"$f":"K_arvo*K_maara*kuljetuslaskuri!$E$89%*C42","v":79.2},179.64000000000001]
[null,{"$f":"kuljetuslaskuri!$D$31","v":2500},{"$f":"kuljetuslaskuri!$D$12","v":30},{"$f":"kuljetuslaskuri!$D$33","v":14},{"$f":"kuljetuslaskuri!$D$34","v":4000},12,2.1428571428571428,7.5,2,{"$f":"kuljetuslaskuri!$D$35","v":0},21.5,0.71666666666666667,null,1.3953488372093024,null,{"$f":"IF(kuljetuslaskuri!$H$17,kuljetuslaskuri!$D$17,0)","v":25},{"$f":"IF(kuljetuslaskuri!$H$18,kuljetuslaskuri!$D$18,0)","v":0},{"$f":"IF(kuljetuslaskuri!$G$19,kuljetuslaskuri!#REF!,0)","v":0},{"$f":"AVERAGE(IF(P43:R43<>0, P43:R43,\"\"))","v":25},{"$f":"S43*kuljetuslaskuri!$D$19%","v":23.75},7.5,{"$f":"kuljetuslaskuri!$D$24%","v":0},15.94,32.787173769541305,71.320081886019935,7.6923076923076925,7.5,{"$f":"kuljetuslaskuri!$D$25*(laskentapohja!C43/laskentapohja!T43)","v":2.5263157894736841},89.038705367801313,2.9679568455933771,0.33693212267716521,null,89.038705367801313,0.33693212267716521,null,0.86614047994323373,-1.0584167145321373,null,null,null,null,null,null,null,null,null,null,{"$f":"IF(kuljetuslaskuri!$H$45,kuljetuslaskuri!$D$45,0)","v":20},{"$f":"IF(kuljetuslaskuri!$H$46,kuljetuslaskuri!$D$46,0)","v":0},{"$f":"IF(kuljetuslaskuri!$G$19,kuljetuslaskuri!#REF!,0)","v":0},{"$f":"AVERAGE(IF(AV43:AX43<>0, AV43:AX43,\"\"))","v":20},{"$f":"AY43*kuljetuslaskuri!$D$47%","v":19},7.5,{"$f":"kuljetuslaskuri!$D$52%","v":0},15.94,32.765358827318856,89.150102357524929,7.5,7.5,{"$f":"kuljetuslaskuri!$D$53*(laskentapohja!C43/laskentapohja!AZ43)","v":3.1578947368421053},107.30799709436704,12,119.30799709436704,3.9769332364789012,0.25145003462149657,null,51.939244797884101,112.78236013254833,164.72160493043242,null,0.39,87.750000000000014,null,{"$f":"kuljetuslaskuri!$D$74","v":71.100000000000009},null,158.85000000000002,null,{"$f":"N_arvo*N_maara*kuljetuslaskuri!$E$87%*C43","v":59.400000000000006},{"$f":"P_arvo*P_maara*kuljetuslaskuri!$E$88%*C43","v":41.040000000000006},{"$f":"K_arvo*K_maara*kuljetuslaskuri!$E$89%*C43","v":79.2},179.64000000000001]
[null,{"$f":"kuljetuslaskuri!$D$31","v":2500},{"$f":"kuljetuslaskuri!$D$12","v":30},{"$f":"kuljetuslaskuri!$D$33","v":14},{"$f":"kuljetuslaskuri!$D$34","v":4000},12,2.1428571428571428,7.5,2,{"$f":"kuljetuslaskuri!$D$35","v":0},21.5,0.71666666666666667,null,1.3953488372093024,null,{"$f":"IF(kuljetuslaskuri!$H$17,kuljetuslaskuri!$D$17,0)","v":25},{"$f":"IF(kuljetuslaskuri!$H$18,kuljetuslaskuri!$D$18,0)","v":0},{"$f":"IF(kuljetuslaskuri!$G$19,kuljetuslaskuri!#REF!,0)","v":0},{"$f":"AVERAGE(IF(P44:R44<>0, P44:R44,\"\"))","v":25},{"$f":"S44*kuljetuslaskuri!$D$19%","v":23.75},7.75,{"$f":"kuljetuslaskuri!$D$24%","v":0},{"$f":"Kulj_nop","v":15.94},33.348746228526011,73.697417948887278,7.6923076923076925,7.5,{"$f":"kuljetuslaskuri!$D$25*(laskentapohja!C44/laskentapohja!T44)","v":2.5263157894736841},91.416041430668656,3.0472013810222887,0.32816997466196851,null,91.416041430668656,0.32816997466196851,null,0.86175940593563549,-1.0671788625473337,null,null,null,null,null,null,null,null,null,null,{"$f":"IF(kuljetuslaskuri!$H$45,kuljetuslaskuri!$D$45,0)","v":20},{"$f":"IF(kuljetuslaskuri!$H$46,kuljetuslaskuri!$D$46,0)","v":0},{"$f":"IF(kuljetuslaskuri!$G$19,kuljetuslaskuri!#REF!,0)","v":0},{"$f":"AVERAGE(IF(AV44:AX44<>0, AV44:AX44,\"\"))","v":20},{"$f":"AY44*kuljetuslaskuri!$D$47%","v":19},7.75,{"$f":"kuljetuslaskuri!$D$52%","v":0},15.94,33.317270788229479,92.121772436109097,7.5,7.5,{"$f":"kuljetuslaskuri!$D$53*(laskentapohja!C44/laskentapohja!AZ44)","v":3.1578947368421053},110.27966717295121,12,122.27966717295121,4.0759889057650405,0.24533923499782087,null,53.326024167890054,115.79365247884697,169.11967664673702,null,0.39,90.675000000000011,null,{"$f":"kuljetuslaskuri!$D$74","v":71.100000000000009},null,161.77500000000003,null,{"$f":"N_arvo*N_maara*kuljetuslaskuri!$E$87%*C44","v":59.400000000000006},{"$f":"P_arvo*P_maara*kuljetuslaskuri!$E$88%*C44","v":41.040000000000006},{"$f":"K_arvo*K_maara*kuljetuslaskuri!$E$89%*C44","v":79.2},179.64000000000001]
[null,{"$f":"kuljetuslaskuri!$D$31","v":2500},{"$f":"kuljetuslaskuri!$D$12","v":30},{"$f":"kuljetuslaskuri!$D$33","v":14},{"$f":"kuljetuslaskuri!$D$34","v":4000},12,2.1428571428571428,7.5,2,{"$f":"kuljetuslaskuri!$D$35","v":0},21.5,0.71666666666666667,null,1.3953488372093024,null,{"$f":"IF(kuljetuslaskuri!$H$17,kuljetuslaskuri!$D$17,0)","v":25},{"$f":"IF(kuljetuslaskuri!$H$18,kuljetuslaskuri!$D$18,0)","v":0},{"$f":"IF(kuljetuslaskuri!$G$19,kuljetuslaskuri!#REF!,0)","v":0},{"$f":"AVERAGE(IF(P45:R45<>0, P45:R45,\"\"))","v":25},{"$f":"S45*kuljetuslaskuri!$D$19%","v":23.75},8,{"$f":"kuljetuslaskuri!$D$24%","v":0},15.94,33.910318687510724,76.074754011754607,7.6923076923076925,7.5,{"$f":"kuljetuslaskuri!$D$25*(laskentapohja!C45/laskentapohja!T45)","v":2.5263157894736841},93.793377493535985,3.1264459164511993,0.31985200663093222,null,93.793377493535985,0.31985200663093222,null,0.85760042192011732,-1.0754968305783701,null,null,null,null,null,null,null,null,null,null,{"$f":"IF(kuljetuslaskuri!$H$45,kuljetuslaskuri!$D$45,0)","v":20},{"$f":"IF(kuljetuslaskuri!$H$46,kuljetuslaskuri!$D$46,0)","v":0},{"$f":"IF(kuljetuslaskuri!$G$19,kuljetuslaskuri!#REF!,0)","v":0},{"$f":"AVERAGE(IF(AV45:AX45<>0, AV45:AX45,\"\"))","v":20},{"$f":"AY45*kuljetuslaskuri!$D$47%","v":19},8,{"$f":"kuljetuslaskuri!$D$52%","v":0},15.94,33.869182749140109,95.093442514693265,7.5,7.5,{"$f":"kuljetuslaskuri!$D$53*(laskentapohja!C45/laskentapohja!AZ45)","v":3.1578947368421053},113.25133725153538,12,125.25133725153538,4.1750445750511789,0.23951840082755085,null,54.712803537895986,118.80494482514557,173.51774836304156,null,0.39,93.600000000000009,null,{"$f":"kuljetuslaskuri!$D$74","v":71.100000000000009},null,164.70000000000002,null,{"$f":"N_arvo*N_maara*kuljetuslaskuri!$E$87%*C45","v":59.400000000000006},{"$f":"P_arvo*P_maara*kuljetuslaskuri!$E$88%*C45","v":41.040000000000006},{"$f":"K_arvo*K_maara*kuljetuslaskuri!$E$89%*C45","v":79.2},179.64000000000001]
[null,{"$f":"kuljetuslaskuri!$D$31","v":2500},{"$f":"kuljetuslaskuri!$D$12","v":30},{"$f":"kuljetuslaskuri!$D$33","v":14},{"$f":"kuljetuslaskuri!$D$34","v":4000},12,2.1428571428571428,7.5,2,{"$f":"kuljetuslaskuri!$D$35","v":0},21.5,0.71666666666666667,null,1.3953488372093024,null,{"$f":"IF(kuljetuslaskuri!$H$17,kuljetuslaskuri!$D$17,0)","v":25},{"$f":"IF(kuljetuslaskuri!$H$18,kuljetuslaskuri!$D$18,0)","v":0},{"$f":"IF(kuljetuslaskuri!$G$19,kuljetuslaskuri!#REF!,0)","v":0},{"$f":"AVERAGE(IF(P46:R46<>0, P46:R46,\"\"))","v":25},{"$f":"S46*kuljetuslaskuri!$D$19%","v":23.75},8.25,{"$f":"kuljetuslaskuri!$D$24%","v":0},15.94,34.47189114649543,78.452090074621935,7.6923076923076925,7.5,{"$f":"kuljetuslaskuri!$D$25*(laskentapohja!C46/laskentapohja!T46)","v":2.5263157894736841},96.170713556403314,3.2056904518801104,0.31194527825152563,null,96.170713556403314,0.31194527825152563,null,0.85364705773041405,-1.0834035589577766,null,null,null,null,null,null,null,null,null,null,{"$f":"IF(kuljetuslaskuri!$H$45,kuljetuslaskuri!$D$45,0)","v":20},{"$f":"IF(kuljetuslaskuri!$H$46,kuljetuslaskuri!$D$46,0)","v":0},{"$f":"IF(kuljetuslaskuri!$G$19,kuljetuslaskuri!#REF!,0)","v":0},{"$f":"AVERAGE(IF(AV46:AX46<>0, AV46:AX46,\"\"))","v":20},{"$f":"AY46*kuljetuslaskuri!$D$47%","v":19},8.25,{"$f":"kuljetuslaskuri!$D$52%","v":0},15.94,34.421094710050738,98.065112593277433,7.5,7.5,{"$f":"kuljetuslaskuri!$D$53*(laskentapohja!C46/laskentapohja!AZ46)","v":3.1578947368421053},116.22300733011954,12,128.22300733011954,4.2741002443373182,0.23396737157133429,null,56.099582907901933,121.8162371714442,177.91582007934613,null,0.39,96.525000000000006,null,{"$f":"kuljetuslaskuri!$D$74","v":71.100000000000009},null,167.625,null,{"$f":"N_arvo*N_maara*kuljetuslaskuri!$E$87%*C46","v":59.400000000000006},{"$f":"P_arvo*P_maara*kuljetuslaskuri!$E$88%*C46","v":41.040000000000006},{"$f":"K_arvo*K_maara*kuljetuslaskuri!$E$89%*C46","v":79.2},179.64000000000001]
[null,{"$f":"kuljetuslaskuri!$D$31","v":2500},{"$f":"kuljetuslaskuri!$D$12","v":30},{"$f":"kuljetuslaskuri!$D$33","v":14},{"$f":"kuljetuslaskuri!$D$34","v":4000},12,2.1428571428571428,7.5,2,{"$f":"kuljetuslaskuri!$D$35","v":0},21.5,0.71666666666666667,null,1.3953488372093024,null,{"$f":"IF(kuljetuslaskuri!$H$17,kuljetuslaskuri!$D$17,0)","v":25},{"$f":"IF(kuljetuslaskuri!$H$18,kuljetuslaskuri!$D$18,0)","v":0},{"$f":"IF(kuljetuslaskuri!$G$19,kuljetuslaskuri!#REF!,0)","v":0},{"$f":"AVERAGE(IF(P47:R47<>0, P47:R47,\"\"))","v":25},{"$f":"S47*kuljetuslaskuri!$D$19%","v":23.75},8.5,{"$f":"kuljetuslaskuri!$D$24%","v":0},15.94,35.033463605480144,80.829426137489264,7.6923076923076925,7.5,{"$f":"kuljetuslaskuri!$D$25*(laskentapohja!C47/laskentapohja!T47)","v":2.5263157894736841},98.548049619270643,3.2849349873090214,0.30442002775196103,null,98.548049619270643,0.30442002775196103,null,0.84988443248063172,-1.0909288094573413,null,null,null,null,null,null,null,null,null,null,{"$f":"IF(kuljetuslaskuri!$H$45,kuljetuslaskuri!$D$45,0)","v":20},{"$f":"IF(kuljetuslaskuri!$H$46,kuljetuslaskuri!$D$46,0)","v":0},{"$f":"IF(kuljetuslaskuri!$G$19,kuljetuslaskuri!#REF!,0)","v":0},{"$f":"AVERAGE(IF(AV47:AX47<>0, AV47:AX47,\"\"))","v":20},{"$f":"AY47*kuljetuslaskuri!$D$47%","v":19},8.5,{"$f":"kuljetuslaskuri!$D$52%","v":0},15.94,34.973006670961368,101.03678267186159,7.5,7.5,{"$f":"kuljetuslaskuri!$D$53*(laskentapohja!C47/laskentapohja!AZ47)","v":3.1578947368421053},119.1946774087037,12,131.19467740870368,4.3731559136234557,0.22866781330268929,null,57.486362277907872,124.82752951774282,182.3138917956507,null,0.39,99.45,null,{"$f":"kuljetuslaskuri!$D$74","v":71.100000000000009},null,170.55,null,{"$f":"N_arvo*N_maara*kuljetuslaskuri!$E$87%*C47","v":59.400000000000006},{"$f":"P_arvo*P_maara*kuljetuslaskuri!$E$88%*C47","v":41.040000000000006},{"$f":"K_arvo*K_maara*kuljetuslaskuri!$E$89%*C47","v":79.2},179.64000000000001]
[null,{"$f":"kuljetuslaskuri!$D$31","v":2500},{"$f":"kuljetuslaskuri!$D$12","v":30},{"$f":"kuljetuslaskuri!$D$33","v":14},{"$f":"kuljetuslaskuri!$D$34","v":4000},12,2.1428571428571428,7.5,2,{"$f":"kuljetuslaskuri!$D$35","v":0},21.5,0.71666666666666667,null,1.3953488372093024,null,{"$f":"IF(kuljetuslaskuri!$H$17,kuljetuslaskuri!$D$17,0)","v":25},{"$f":"IF(kuljetuslaskuri!$H$18,kuljetuslaskuri!$D$18,0)","v":0},{"$f":"IF(kuljetuslaskuri!$G$19,kuljetuslaskuri!#REF!,0)","v":0},{"$f":"AVERAGE(IF(P48:R48<>0, P48:R48,\"\"))","v":25},{"$f":"S48*kuljetuslaskuri!$D$19%","v":23.75},8.75,{"$f":"kuljetuslaskuri!$D$24%","v":0},15.94,35.59503606446485,83.206762200356593,7.6923076923076925,7.5,{"$f":"kuljetuslaskuri!$D$25*(laskentapohja!C48/laskentapohja!T48)","v":2.5263157894736841},100.92538568213797,3.3641795227379325,0.29724929756012292,null,100.92538568213797,0.29724929756012292,null,0.84629906738471261,-1.0980995396491795,null,null,null,null,null,null,null,null,null,null,{"$f":"IF(kuljetuslaskuri!$H$45,kuljetuslaskuri!$D$45,0)","v":20},{"$f":"IF(kuljetuslaskuri!$H$46,kuljetuslaskuri!$D$46,0)","v":0},{"$f":"IF(kuljetuslaskuri!$G$19,kuljetuslaskuri!#REF!,0)","v":0},{"$f":"AVERAGE(IF(AV48:AX48<>0, AV48:AX48,\"\"))","v":20},{"$f":"AY48*kuljetuslaskuri!$D$47%","v":19},8.75,{"$f":"kuljetuslaskuri!$D$52%","v":0},15.94,35.524918631871998,104.00845275044576,7.5,7.5,{"$f":"kuljetuslaskuri!$D$53*(laskentapohja!C48/laskentapohja!AZ48)","v":3.1578947368421053},122.16634748728787,12,134.16634748728785,4.472211582909595,0.22360301641842398,null,58.873141647913819,127.83882186404144,186.71196351195525,null,0.39,102.37500000000001,null,{"$f":"kuljetuslaskuri!$D$74","v":71.100000000000009},null,173.47500000000002,null,{"$f":"N_arvo*N_maara*kuljetuslaskuri!$E$87%*C48","v":59.400000000000006},{"$f":"P_arvo*P_maara*kuljetuslaskuri!$E$88%*C48","v":41.040000000000006},{"$f":"K_arvo*K_maara*kuljetuslaskuri!$E$89%*C48","v":79.2},179.64000000000001]
[null,{"$f":"kuljetuslaskuri!$D$31","v":2500},{"$f":"kuljetuslaskuri!$D$12","v":30},{"$f":"kuljetuslaskuri!$D$33","v":14},{"$f":"kuljetuslaskuri!$D$34","v":4000},12,2.1428571428571428,7.5,2,{"$f":"kuljetuslaskuri!$D$35","v":0},21.5,0.71666666666666667,null,1.3953488372093024,null,{"$f":"IF(kuljetuslaskuri!$H$17,kuljetuslaskuri!$D$17,0)","v":25},{"$f":"IF(kuljetuslaskuri!$H$18,kuljetuslaskuri!$D$18,0)","v":0},{"$f":"IF(kuljetuslaskuri!$G$19,kuljetuslaskuri!#REF!,0)","v":0},{"$f":"AVERAGE(IF(P49:R49<>0, P49:R49,\"\"))","v":25},{"$f":"S49*kuljetuslaskuri!$D$19%","v":23.75},9,{"$f":"kuljetuslaskuri!$D$24%","v":0},15.94,36.156608523449563,85.584098263223922,7.6923076923076925,7.5,{"$f":"kuljetuslaskuri!$D$25*(laskentapohja!C49/laskentapohja!T49)","v":2.5263157894736841},103.3027217450053,3.4434240581668432,0.29040861163418963,null,103.3027217450053,0.29040861163418963,null,0.84287872442174594,-1.1049402255751128,null,null,null,null,null,null,null,null,null,null,{"$f":"IF(kuljetuslaskuri!$H$45,kuljetuslaskuri!$D$45,0)","v":20},{"$f":"IF(kuljetuslaskuri!$H$46,kuljetuslaskuri!$D$46,0)","v":0},{"$f":"IF(kuljetuslaskuri!$G$19,kuljetuslaskuri!#REF!,0)","v":0},{"$f":"AVERAGE(IF(AV49:AX49<>0, AV49:AX49,\"\"))","v":20},{"$f":"AY49*kuljetuslaskuri!$D$47%","v":19},9,{"$f":"kuljetuslaskuri!$D$52%","v":0},15.94,36.076830592782628,106.98012282902991,7.5,7.5,{"$f":"kuljetuslaskuri!$D$53*(laskentapohja!C49/laskentapohja!AZ49)","v":3.1578947368421053},125.13801756587202,12,137.13801756587202,4.5712672521957343,0.21875771964976806,null,60.259921017919758,130.85011421034005,191.11003522825982,null,0.39,105.30000000000001,null,{"$f":"kuljetuslaskuri!$D$74","v":71.100000000000009},null,176.40000000000003,null,{"$f":"N_arvo*N_maara*kuljetuslaskuri!$E$87%*C49","v":59.400000000000006},{"$f":"P_arvo*P_maara*kuljetuslaskuri!$E$88%*C49","v":41.040000000000006},{"$f":"K_arvo*K_maara*kuljetuslaskuri!$E$89%*C49","v":79.2},179.64000000000001]
[null,{"$f":"kuljetuslaskuri!$D$31","v":2500},{"$f":"kuljetuslaskuri!$D$12","v":30},{"$f":"kuljetuslaskuri!$D$33","v":14},{"$f":"kuljetuslaskuri!$D$34","v":4000},12,2.1428571428571428,7.5,2,{"$f":"kuljetuslaskuri!$D$35","v":0},21.5,0.71666666666666667,null,1.3953488372093024,null,{"$f":"IF(kuljetuslaskuri!$H$17,kuljetuslaskuri!$D$17,0)","v":25},{"$f":"IF(kuljetuslaskuri!$H$18,kuljetuslaskuri!$D$18,0)","v":0},{"$f":"IF(kuljetuslaskuri!$G$19,kuljetuslaskuri!#REF!,0)","v":0},{"$f":"AVERAGE(IF(P50:R50<>0, P50:R50,\"\"))","v":25},{"$f":"S50*kuljetuslaskuri!$D$19%","v":23.75},9.25,{"$f":"kuljetuslaskuri!$D$24%","v":0},15.94,36.718180982434269,87.961434326091265,7.6923076923076925,7.5,{"$f":"kuljetuslaskuri!$D$25*(laskentapohja!C50/laskentapohja!T50)","v":2.5263157894736841},105.68005780787264,3.5226685935957547,0.28387569634509746,null,105.68005780787264,0.28387569634509746,null,0.83961226677719991,-1.1114731408642049,null,null,null,null,null,null,null,null,null,null,{"$f":"IF(kuljetuslaskuri!$H$45,kuljetuslaskuri!$D$45,0)","v":20},{"$f":"IF(kuljetuslaskuri!$H$46,kuljetuslaskuri!$D$46,0)","v":0},{"$f":"IF(kuljetuslaskuri!$G$19,kuljetuslaskuri!#REF!,0)","v":0},{"$f":"AVERAGE(IF(AV50:AX50<>0, AV50:AX50,\"\"))","v":20},{"$f":"AY50*kuljetuslaskuri!$D$47%","v":19},9.25,{"$f":"kuljetuslaskuri!$D$52%","v":0},15.94,36.628742553693257,109.95179290761409,7.5,7.5,{"$f":"kuljetuslaskuri!$D$53*(laskentapohja!C50/laskentapohja!AZ50)","v":3.1578947368421053},128.10968764445619,12,140.10968764445619,4.6703229214818727,0.21411795646942214,null,61.646700387925705,133.86140655663868,195.50810694456439,null,0.39,108.22500000000001,null,{"$f":"kuljetuslaskuri!$D$74","v":71.100000000000009},null,179.32500000000002,null,{"$f":"N_arvo*N_maara*kuljetuslaskuri!$E$87%*C50","v":59.400000000000006},{"$f":"P_arvo*P_maara*kuljetuslaskuri!$E$88%*C50","v":41.040000000000006},{"$f":"K_arvo*K_maara*kuljetuslaskuri!$E$89%*C50","v":79.2},179.64000000000001]
[null,{"$f":"kuljetuslaskuri!$D$31","v":2500},{"$f":"kuljetuslaskuri!$D$12","v":30},{"$f":"kuljetuslaskuri!$D$33","v":14},{"$f":"kuljetuslaskuri!$D$34","v":4000},12,2.1428571428571428,7.5,2,{"$f":"kuljetuslaskuri!$D$35","v":0},21.5,0.71666666666666667,null,1.3953488372093024,null,{"$f":"IF(kuljetuslaskuri!$H$17,kuljetuslaskuri!$D$17,0)","v":25},{"$f":"IF(kuljetuslaskuri!$H$18,kuljetuslaskuri!$D$18,0)","v":0},{"$f":"IF(kuljetuslaskuri!$G$19,kuljetuslaskuri!#REF!,0)","v":0},{"$f":"AVERAGE(IF(P51:R51<>0, P51:R51,\"\"))","v":25},{"$f":"S51*kuljetuslaskuri!$D$19%","v":23.75},9.5,{"$f":"kuljetuslaskuri!$D$24%","v":0},15.94,37.279753441418983,90.338770388958594,7.6923076923076925,7.5,{"$f":"kuljetuslaskuri!$D$25*(laskentapohja!C51/laskentapohja!T51)","v":2.5263157894736841},108.05739387073997,3.6019131290246658,0.27763023820365768,null,108.05739387073997,0.27763023820365768,null,0.83648953770648005,-1.1177185990056446,null,null,null,null,null,null,null,null,null,null,{"$f":"IF(kuljetuslaskuri!$H$45,kuljetuslaskuri!$D$45,0)","v":20},{"$f":"IF(kuljetuslaskuri!$H$46,kuljetuslaskuri!$D$46,0)","v":0},{"$f":"IF(kuljetuslaskuri!$G$19,kuljetuslaskuri!#REF!,0)","v":0},{"$f":"AVERAGE(IF(AV51:AX51<>0, AV51:AX51,\"\"))","v":20},{"$f":"AY51*kuljetuslaskuri!$D$47%","v":19},9.5,{"$f":"kuljetuslaskuri!$D$52%","v":0},15.94,37.180654514603887,112.92346298619825,7.5,7.5,{"$f":"kuljetuslaskuri!$D$53*(laskentapohja!C51/laskentapohja!AZ51)","v":3.1578947368421053},131.08135772304036,12,143.08135772304036,4.769378590768012,0.20967092063852499,null,63.033479757931651,136.87269890293729,199.90617866086893,null,0.39,111.15,null,{"$f":"kuljetuslaskuri!$D$74","v":71.100000000000009},null,182.25,null,{"$f":"N_arvo*N_maara*kuljetuslaskuri!$E$87%*C51","v":59.400000000000006},{"$f":"P_arvo*P_maara*kuljetuslaskuri!$E$88%*C51","v":41.040000000000006},{"$f":"K_arvo*K_maara*kuljetuslaskuri!$E$89%*C51","v":79.2},179.64000000000001]
[null,{"$f":"kuljetuslaskuri!$D$31","v":2500},{"$f":"kuljetuslaskuri!$D$12","v":30},{"$f":"kuljetuslaskuri!$D$33","v":14},{"$f":"kuljetuslaskuri!$D$34","v":4000},12,2.1428571428571428,7.5,2,{"$f":"kuljetuslaskuri!$D$35","v":0},21.5,0.71666666666666667,null,1.3953488372093024,null,{"$f":"IF(kuljetuslaskuri!$H$17,kuljetuslaskuri!$D$17,0)","v":25},{"$f":"IF(kuljetuslaskuri!$H$18,kuljetuslaskuri!$D$18,0)","v":0},{"$f":"IF(kuljetuslaskuri!$G$19,kuljetuslaskuri!#REF!,0)","v":0},{"$f":"AVERAGE(IF(P52:R52<>0, P52:R52,\"\"))","v":25},{"$f":"S52*kuljetuslaskuri!$D$19%","v":23.75},9.75,{"$f":"kuljetuslaskuri!$D$24%","v":0},15.94,37.841325900403696,92.716106451825922,7.6923076923076925,7.5,{"$f":"kuljetuslaskuri!$D$25*(laskentapohja!C52/laskentapohja!T52)","v":2.5263157894736841},110.4347299336073,3.6811576644535768,0.27165367288022363,null,110.4347299336073,0.27165367288022363,null,0.83350125504476302,-1.1236951643290787,null,null,null,null,null,null,null,null,null,null,{"$f":"IF(kuljetuslaskuri!$H$45,kuljetuslaskuri!$D$45,0)","v":20},{"$f":"IF(kuljetuslaskuri!$H$46,kuljetuslaskuri!$D$46,0)","v":0},{"$f":"IF(kuljetuslaskuri!$G$19,kuljetuslaskuri!#REF!,0)","v":0},{"$f":"AVERAGE(IF(AV52:AX52<>0, AV52:AX52,\"\"))","v":20},{"$f":"AY52*kuljetuslaskuri!$D$47%","v":19},9.75,{"$f":"kuljetuslaskuri!$D$52%","v":0},15.94,37.732566475514517,115.89513306478241,7.5,7.5,{"$f":"kuljetuslaskuri!$D$53*(laskentapohja!C52/laskentapohja!AZ52)","v":3.1578947368421053},134.05302780162452,12,146.05302780162452,4.8684342600541504,0.20540484816752508,null,64.420259127937598,139.88399124923592,204.3042503771735,null,0.39,114.07500000000002,null,{"$f":"kuljetuslaskuri!$D$74","v":71.100000000000009},null,185.17500000000001,null,{"$f":"N_arvo*N_maara*kuljetuslaskuri!$E$87%*C52","v":59.400000000000006},{"$f":"P_arvo*P_maara*kuljetuslaskuri!$E$88%*C52","v":41.040000000000006},{"$f":"K_arvo*K_maara*kuljetuslaskuri!$E$89%*C52","v":79.2},179.64000000000001]
[null,{"$f":"kuljetuslaskuri!$D$31","v":2500},{"$f":"kuljetuslaskuri!$D$12","v":30},{"$f":"kuljetuslaskuri!$D$33","v":14},{"$f":"kuljetuslaskuri!$D$34","v":4000},12,2.1428571428571428,7.5,2,{"$f":"kuljetuslaskuri!$D$35","v":0},21.5,0.71666666666666667,null,1.3953488372093024,null,{"$f":"IF(kuljetuslaskuri!$H$17,kuljetuslaskuri!$D$17,0)","v":25},{"$f":"IF(kuljetuslaskuri!$H$18,kuljetuslaskuri!$D$18,0)","v":0},{"$f":"IF(kuljetuslaskuri!$G$19,kuljetuslaskuri!#REF!,0)","v":0},{"$f":"AVERAGE(IF(P53:R53<>0, P53:R53,\"\"))","v":25},{"$f":"S53*kuljetuslaskuri!$D$19%","v":23.75},10,{"$f":"kuljetuslaskuri!$D$24%","v":0},15.94,38.402898359388402,95.093442514693251,7.6923076923076925,7.5,{"$f":"kuljetuslaskuri!$D$25*(laskentapohja!C53/laskentapohja!T53)","v":2.5263157894736841},112.81206599647463,3.7604021998824875,0.26592900090082117,null,112.81206599647463,0.26592900090082117,null,0.83063891905506182,-1.1294198363084811,null,null,null,null,null,null,null,null,null,null,{"$f":"IF(kuljetuslaskuri!$H$45,kuljetuslaskuri!$D$45,0)","v":20},{"$f":"IF(kuljetuslaskuri!$H$46,kuljetuslaskuri!$D$46,0)","v":0},{"$f":"IF(kuljetuslaskuri!$G$19,kuljetuslaskuri!#REF!,0)","v":0},{"$f":"AVERAGE(IF(AV53:AX53<>0, AV53:AX53,\"\"))","v":20},{"$f":"AY53*kuljetuslaskuri!$D$47%","v":19},10,{"$f":"kuljetuslaskuri!$D$52%","v":0},15.94,38.28447843642514,118.86680314336657,7.5,7.5,{"$f":"kuljetuslaskuri!$D$53*(laskentapohja!C53/laskentapohja!AZ53)","v":3.1578947368421053},137.02469788020866,12,149.02469788020866,4.9674899293402888,0.20130891339981152,null,65.807038497943537,142.89528359553452,208.70232209347807,null,0.39,117.00000000000001,null,{"$f":"kuljetuslaskuri!$D$74","v":71.100000000000009},null,188.10000000000002,null,{"$f":"N_arvo*N_maara*kuljetuslaskuri!$E$87%*C53","v":59.400000000000006},{"$f":"P_arvo*P_maara*kuljetuslaskuri!$E$88%*C53","v":41.040000000000006},{"$f":"K_arvo*K_maara*kuljetuslaskuri!$E$89%*C53","v":79.2},179.64000000000001]
[null,{"$f":"kuljetuslaskuri!$D$31","v":2500},{"$f":"kuljetuslaskuri!$D$12","v":30},{"$f":"kuljetuslaskuri!$D$33","v":14},{"$f":"kuljetuslaskuri!$D$34","v":4000},12,2.1428571428571428,7.5,2,{"$f":"kuljetuslaskuri!$D$35","v":0},21.5,0.71666666666666667,null,1.3953488372093024,null,{"$f":"IF(kuljetuslaskuri!$H$17,kuljetuslaskuri!$D$17,0)","v":25},{"$f":"IF(kuljetuslaskuri!$H$18,kuljetuslaskuri!$D$18,0)","v":0},{"$f":"IF(kuljetuslaskuri!$G$19,kuljetuslaskuri!#REF!,0)","v":0},{"$f":"AVERAGE(IF(P54:R54<>0, P54:R54,\"\"))","v":25},{"$f":"S54*kuljetuslaskuri!$D$19%","v":23.75},10.25,{"$f":"kuljetuslaskuri!$D$24%","v":0},15.94,38.964470818373115,97.470778577560594,7.6923076923076925,7.5,{"$f":"kuljetuslaskuri!$D$25*(laskentapohja!C54/laskentapohja!T54)","v":2.5263157894736841},115.18940205934197,3.839646735311399,0.26044062616580771,null,115.18940205934197,0.26044062616580771,null,0.82789473168755501,-1.1349082110434947,null,null,null,null,null,null,null,null,null,null,{"$f":"IF(kuljetuslaskuri!$H$45,kuljetuslaskuri!$D$45,0)","v":20},{"$f":"IF(kuljetuslaskuri!$H$46,kuljetuslaskuri!$D$46,0)","v":0},{"$f":"IF(kuljetuslaskuri!$G$19,kuljetuslaskuri!#REF!,0)","v":0},{"$f":"AVERAGE(IF(AV54:AX54<>0, AV54:AX54,\"\"))","v":20},{"$f":"AY54*kuljetuslaskuri!$D$47%","v":19},10.25,{"$f":"kuljetuslaskuri!$D$52%","v":0},15.94,38.836390397335769,121.83847322195075,7.5,7.5,{"$f":"kuljetuslaskuri!$D$53*(laskentapohja!C54/laskentapohja!AZ54)","v":3.1578947368421053},139.99636795879286,12,151.99636795879286,5.0665455986264289,0.19737313728531447,null,67.193817867949477,145.90657594183315,213.10039380978264,null,0.39,119.92500000000001,null,{"$f":"kuljetuslaskuri!$D$74","v":71.100000000000009},null,191.02500000000003,null,{"$f":"N_arvo*N_maara*kuljetuslaskuri!$E$87%*C54","v":59.400000000000006},{"$f":"P_arvo*P_maara*kuljetuslaskuri!$E$88%*C54","v":41.040000000000006},{"$f":"K_arvo*K_maara*kuljetuslaskuri!$E$89%*C54","v":79.2},179.64000000000001]
[null,{"$f":"kuljetuslaskuri!$D$31","v":2500},{"$f":"kuljetuslaskuri!$D$12","v":30},{"$f":"kuljetuslaskuri!$D$33","v":14},{"$f":"kuljetuslaskuri!$D$34","v":4000},12,2.1428571428571428,7.5,2,{"$f":"kuljetuslaskuri!$D$35","v":0},21.5,0.71666666666666667,null,1.3953488372093024,null,{"$f":"IF(kuljetuslaskuri!$H$17,kuljetuslaskuri!$D$17,0)","v":25},{"$f":"IF(kuljetuslaskuri!$H$18,kuljetuslaskuri!$D$18,0)","v":0},{"$f":"IF(kuljetuslaskuri!$G$19,kuljetuslaskuri!#REF!,0)","v":0},{"$f":"AVERAGE(IF(P55:R55<>0, P55:R55,\"\"))","v":25},{"$f":"S55*kuljetuslaskuri!$D$19%","v":23.75},10.5,{"$f":"kuljetuslaskuri!$D$24%","v":0},15.94,39.526043277357822,99.848114640427923,7.6923076923076925,7.5,{"$f":"kuljetuslaskuri!$D$25*(laskentapohja!C55/laskentapohja!T55)","v":2.5263157894736841},117.5667381222093,3.9188912707403101,0.25517421406057328,null,117.5667381222093,0.25517421406057328,null,0.82526152563493782,-1.1401746231487291,null,null,null,null,null,null,null,null,null,null,{"$f":"IF(kuljetuslaskuri!$H$45,kuljetuslaskuri!$D$45,0)","v":20},{"$f":"IF(kuljetuslaskuri!$H$46,kuljetuslaskuri!$D$46,0)","v":0},{"$f":"IF(kuljetuslaskuri!$G$19,kuljetuslaskuri!#REF!,0)","v":0},{"$f":"AVERAGE(IF(AV55:AX55<>0, AV55:AX55,\"\"))","v":20},{"$f":"AY55*kuljetuslaskuri!$D$47%","v":19},10.5,{"$f":"kuljetuslaskuri!$D$52%","v":0},15.94,39.388302358246399,124.8101433005349,7.5,7.5,{"$f":"kuljetuslaskuri!$D$53*(laskentapohja!C55/laskentapohja!AZ55)","v":3.1578947368421053},142.968038037377,12,154.968038037377,5.1656012679125665,0.1935883062077888,null,68.580597237955431,148.91786828813179,217.49846552608722,null,0.39,122.85000000000001,null,{"$f":"kuljetuslaskuri!$D$74","v":71.100000000000009},null,193.95000000000002,null,{"$f":"N_arvo*N_maara*kuljetuslaskuri!$E$87%*C55","v":59.400000000000006},{"$f":"P_arvo*P_maara*kuljetuslaskuri!$E$88%*C55","v":41.040000000000006},{"$f":"K_arvo*K_maara*kuljetuslaskuri!$E$89%*C55","v":79.2},179.64000000000001]
[null,{"$f":"kuljetuslaskuri!$D$31","v":2500},{"$f":"kuljetuslaskuri!$D$12","v":30},{"$f":"kuljetuslaskuri!$D$33","v":14},{"$f":"kuljetuslaskuri!$D$34","v":4000},12,2.1428571428571428,7.5,2,{"$f":"kuljetuslaskuri!$D$35","v":0},21.5,0.71666666666666667,null,1.3953488372093024,null,{"$f":"IF(kuljetuslaskuri!$H$17,kuljetuslaskuri!$D$17,0)","v":25},{"$f":"IF(kuljetuslaskuri!$H$18,kuljetuslaskuri!$D$18,0)","v":0},{"$f":"IF(kuljetuslaskuri!$G$19,kuljetuslaskuri!#REF!,0)","v":0},{"$f":"AVERAGE(IF(P56:R56<>0, P56:R56,\"\"))","v":25},{"$f":"S56*kuljetuslaskuri!$D$19%","v":23.75},10.75,{"$f":"kuljetuslaskuri!$D$24%","v":0},15.94,40.087615736342535,102.22545070329525,7.6923076923076925,7.5,{"$f":"kuljetuslaskuri!$D$25*(laskentapohja!C56/laskentapohja!T56)","v":2.5263157894736841},119.94407418507663,3.9981358061692212,0.25011656644003327,null,119.94407418507663,0.25011656644003327,null,0.82273270182466784,-1.145232270769269,null,null,null,null,null,null,null,null,null,null,{"$f":"IF(kuljetuslaskuri!$H$45,kuljetuslaskuri!$D$45,0)","v":20},{"$f":"IF(kuljetuslaskuri!$H$46,kuljetuslaskuri!$D$46,0)","v":0},{"$f":"IF(kuljetuslaskuri!$G$19,kuljetuslaskuri!#REF!,0)","v":0},{"$f":"AVERAGE(IF(AV56:AX56<>0, AV56:AX56,\"\"))","v":20},{"$f":"AY56*kuljetuslaskuri!$D$47%","v":19},10.75,{"$f":"kuljetuslaskuri!$D$52%","v":0},15.94,39.940214319157022,127.78181337911907,7.5,7.5,{"$f":"kuljetuslaskuri!$D$53*(laskentapohja!C56/laskentapohja!AZ56)","v":3.1578947368421053},145.93970811596117,12,157.93970811596117,5.2646569371987058,0.18994589997579109,null,69.96737660796137,151.92916063443042,221.89653724239179,null,0.39,125.77500000000001,null,{"$f":"kuljetuslaskuri!$D$74","v":71.100000000000009},null,196.875,null,{"$f":"N_arvo*N_maara*kuljetuslaskuri!$E$87%*C56","v":59.400000000000006},{"$f":"P_arvo*P_maara*kuljetuslaskuri!$E$88%*C56","v":41.040000000000006},{"$f":"K_arvo*K_maara*kuljetuslaskuri!$E$89%*C56","v":79.2},179.64000000000001]
[null,{"$f":"kuljetuslaskuri!$D$31","v":2500},{"$f":"kuljetuslaskuri!$D$12","v":30},{"$f":"kuljetuslaskuri!$D$33","v":14},{"$f":"kuljetuslaskuri!$D$34","v":4000},12,2.1428571428571428,7.5,2,{"$f":"kuljetuslaskuri!$D$35","v":0},21.5,0.71666666666666667,null,1.3953488372093024,null,{"$f":"IF(kuljetuslaskuri!$H$17,kuljetuslaskuri!$D$17,0)","v":25},{"$f":"IF(kuljetuslaskuri!$H$18,kuljetuslaskuri!$D$18,0)","v":0},{"$f":"IF(kuljetuslaskuri!$G$19,kuljetuslaskuri!#REF!,0)","v":0},{"$f":"AVERAGE(IF(P57:R57<>0, P57:R57,\"\"))","v":25},{"$f":"S57*kuljetuslaskuri!$D$19%","v":23.75},11,{"$f":"kuljetuslaskuri!$D$24%","v":0},15.94,40.649188195327241,104.60278676616258,7.6923076923076925,7.5,{"$f":"kuljetuslaskuri!$D$25*(laskentapohja!C57/laskentapohja!T57)","v":2.5263157894736841},122.32141024794396,4.0773803415981318,0.24525551119129824,null,122.32141024794396,0.24525551119129824,null,0.82030217420030027,-1.1500933260180042,null,null,null,null,null,null,null,null,null,null,{"$f":"IF(kuljetuslaskuri!$H$45,kuljetuslaskuri!$D$45,0)","v":20},{"$f":"IF(kuljetuslaskuri!$H$46,kuljetuslaskuri!$D$46,0)","v":0},{"$f":"IF(kuljetuslaskuri!$G$19,kuljetuslaskuri!#REF!,0)","v":0},{"$f":"AVERAGE(IF(AV57:AX57<>0, AV57:AX57,\"\"))","v":20},{"$f":"AY57*kuljetuslaskuri!$D$47%","v":19},11,{"$f":"kuljetuslaskuri!$D$52%","v":0},15.94,40.492126280067652,130.75348345770323,7.5,7.5,{"$f":"kuljetuslaskuri!$D$53*(laskentapohja!C57/laskentapohja!AZ57)","v":3.1578947368421053},148.91137819454534,12,160.91137819454534,5.3637126064848442,0.18643802779272298,null,71.354155977967309,154.94045298072902,226.29460895869633,null,0.39,128.70000000000002,null,{"$f":"kuljetuslaskuri!$D$74","v":71.100000000000009},null,199.8,null,{"$f":"N_arvo*N_maara*kuljetuslaskuri!$E$87%*C57","v":59.400000000000006},{"$f":"P_arvo*P_maara*kuljetuslaskuri!$E$88%*C57","v":41.040000000000006},{"$f":"K_arvo*K_maara*kuljetuslaskuri!$E$89%*C57","v":79.2},179.64000000000001]
[null,{"$f":"kuljetuslaskuri!$D$31","v":2500},{"$f":"kuljetuslaskuri!$D$12","v":30},{"$f":"kuljetuslaskuri!$D$33","v":14},{"$f":"kuljetuslaskuri!$D$34","v":4000},12,2.1428571428571428,7.5,2,{"$f":"kuljetuslaskuri!$D$35","v":0},21.5,0.71666666666666667,null,1.3953488372093024,null,{"$f":"IF(kuljetuslaskuri!$H$17,kuljetuslaskuri!$D$17,0)","v":25},{"$f":"IF(kuljetuslaskuri!$H$18,kuljetuslaskuri!$D$18,0)","v":0},{"$f":"IF(kuljetuslaskuri!$G$19,kuljetuslaskuri!#REF!,0)","v":0},{"$f":"AVERAGE(IF(P58:R58<>0, P58:R58,\"\"))","v":25},{"$f":"S58*kuljetuslaskuri!$D$19%","v":23.75},11.25,{"$f":"kuljetuslaskuri!$D$24%","v":0},15.94,41.210760654311954,106.98012282902992,7.6923076923076925,7.5,{"$f":"kuljetuslaskuri!$D$25*(laskentapohja!C58/laskentapohja!T58)","v":2.5263157894736841},124.6987463108113,4.1566248770270438,0.24057980442902829,null,124.6987463108113,0.24057980442902829,null,0.81796432081916537,-1.154769032780274,null,null,null,null,null,null,null,null,null,null,{"$f":"IF(kuljetuslaskuri!$H$45,kuljetuslaskuri!$D$45,0)","v":20},{"$f":"IF(kuljetuslaskuri!$H$46,kuljetuslaskuri!$D$46,0)","v":0},{"$f":"IF(kuljetuslaskuri!$G$19,kuljetuslaskuri!#REF!,0)","v":0},{"$f":"AVERAGE(IF(AV58:AX58<>0, AV58:AX58,\"\"))","v":20},{"$f":"AY58*kuljetuslaskuri!$D$47%","v":19},11.25,{"$f":"kuljetuslaskuri!$D$52%","v":0},15.94,41.044038240978281,133.72515353628742,7.5,7.5,{"$f":"kuljetuslaskuri!$D$53*(laskentapohja!C58/laskentapohja!AZ58)","v":3.1578947368421053},151.88304827312953,12,163.88304827312953,5.4627682757709843,0.18305737119315493,null,72.740935347973263,157.95174532702765,230.69268067500093,null,0.39,131.625,null,{"$f":"kuljetuslaskuri!$D$74","v":71.100000000000009},null,202.72500000000002,null,{"$f":"N_arvo*N_maara*kuljetuslaskuri!$E$87%*C58","v":59.400000000000006},{"$f":"P_arvo*P_maara*kuljetuslaskuri!$E$88%*C58","v":41.040000000000006},{"$f":"K_arvo*K_maara*kuljetuslaskuri!$E$89%*C58","v":79.2},179.64000000000001]
[null,{"$f":"kuljetuslaskuri!$D$31","v":2500},{"$f":"kuljetuslaskuri!$D$12","v":30},{"$f":"kuljetuslaskuri!$D$33","v":14},{"$f":"kuljetuslaskuri!$D$34","v":4000},12,2.1428571428571428,7.5,2,{"$f":"kuljetuslaskuri!$D$35","v":0},21.5,0.71666666666666667,null,1.3953488372093024,null,{"$f":"IF(kuljetuslaskuri!$H$17,kuljetuslaskuri!$D$17,0)","v":25},{"$f":"IF(kuljetuslaskuri!$H$18,kuljetuslaskuri!$D$18,0)","v":0},{"$f":"IF(kuljetuslaskuri!$G$19,kuljetuslaskuri!#REF!,0)","v":0},{"$f":"AVERAGE(IF(P59:R59<>0, P59:R59,\"\"))","v":25},{"$f":"S59*kuljetuslaskuri!$D$19%","v":23.75},11.5,{"$f":"kuljetuslaskuri!$D$24%","v":0},15.94,41.772333113296661,109.35745889189725,7.6923076923076925,7.5,{"$f":"kuljetuslaskuri!$D$25*(laskentapohja!C59/laskentapohja!T59)","v":2.5263157894736841},127.07608237367863,4.2358694124559539,0.23607904366914861,null,127.07608237367863,0.23607904366914861,null,0.81571394043922552,-1.1592697935401537,null,null,null,null,null,null,null,null,null,null,{"$f":"IF(kuljetuslaskuri!$H$45,kuljetuslaskuri!$D$45,0)","v":20},{"$f":"IF(kuljetuslaskuri!$H$46,kuljetuslaskuri!$D$46,0)","v":0},{"$f":"IF(kuljetuslaskuri!$G$19,kuljetuslaskuri!#REF!,0)","v":0},{"$f":"AVERAGE(IF(AV59:AX59<>0, AV59:AX59,\"\"))","v":20},{"$f":"AY59*kuljetuslaskuri!$D$47%","v":19},11.5,{"$f":"kuljetuslaskuri!$D$52%","v":0},15.94,41.595950201888911,136.69682361487156,7.5,7.5,{"$f":"kuljetuslaskuri!$D$53*(laskentapohja!C59/laskentapohja!AZ59)","v":3.1578947368421053},154.85471835171367,12,166.85471835171367,5.5618239450571227,0.17979713307694956,null,74.127714717979188,160.96303767332626,235.09075239130544,null,0.39,134.55000000000001,null,{"$f":"kuljetuslaskuri!$D$74","v":71.100000000000009},null,205.65000000000003,null,{"$f":"N_arvo*N_maara*kuljetuslaskuri!$E$87%*C59","v":59.400000000000006},{"$f":"P_arvo*P_maara*kuljetuslaskuri!$E$88%*C59","v":41.040000000000006},{"$f":"K_arvo*K_maara*kuljetuslaskuri!$E$89%*C59","v":79.2},179.64000000000001]
[null,{"$f":"kuljetuslaskuri!$D$31","v":2500},{"$f":"kuljetuslaskuri!$D$12","v":30},{"$f":"kuljetuslaskuri!$D$33","v":14},{"$f":"kuljetuslaskuri!$D$34","v":4000},12,2.1428571428571428,7.5,2,{"$f":"kuljetuslaskuri!$D$35","v":0},21.5,0.71666666666666667,null,1.3953488372093024,null,{"$f":"IF(kuljetuslaskuri!$H$17,kuljetuslaskuri!$D$17,0)","v":25},{"$f":"IF(kuljetuslaskuri!$H$18,kuljetuslaskuri!$D$18,0)","v":0},{"$f":"IF(kuljetuslaskuri!$G$19,kuljetuslaskuri!#REF!,0)","v":0},{"$f":"AVERAGE(IF(P60:R60<>0, P60:R60,\"\"))","v":25},{"$f":"S60*kuljetuslaskuri!$D$19%","v":23.75},11.75,{"$f":"kuljetuslaskuri!$D$24%","v":0},15.94,42.333905572281374,111.73479495476458,7.6923076923076925,7.5,{"$f":"kuljetuslaskuri!$D$25*(laskentapohja!C60/laskentapohja!T60)","v":2.5263157894736841},129.45341843654595,4.315113947884865,0.23174359056964625,null,129.45341843654595,0.23174359056964625,null,0.81354621388947435,-1.163605246639656,null,null,null,null,null,null,null,null,null,null,{"$f":"IF(kuljetuslaskuri!$H$45,kuljetuslaskuri!$D$45,0)","v":20},{"$f":"IF(kuljetuslaskuri!$H$46,kuljetuslaskuri!$D$46,0)","v":0},{"$f":"IF(kuljetuslaskuri!$G$19,kuljetuslaskuri!#REF!,0)","v":0},{"$f":"AVERAGE(IF(AV60:AX60<>0, AV60:AX60,\"\"))","v":20},{"$f":"AY60*kuljetuslaskuri!$D$47%","v":19},11.75,{"$f":"kuljetuslaskuri!$D$52%","v":0},15.94,42.147862162799541,139.66849369345573,7.5,7.5,{"$f":"kuljetuslaskuri!$D$53*(laskentapohja!C60/laskentapohja!AZ60)","v":3.1578947368421053},157.82638843029784,12,169.82638843029784,5.6608796143432611,0.17665099209427607,null,75.514494087985142,163.97433001962486,239.48882410761001,null,0.39,137.47500000000002,null,{"$f":"kuljetuslaskuri!$D$74","v":71.100000000000009},null,208.57500000000005,null,{"$f":"N_arvo*N_maara*kuljetuslaskuri!$E$87%*C60","v":59.400000000000006},{"$f":"P_arvo*P_maara*kuljetuslaskuri!$E$88%*C60","v":41.040000000000006},{"$f":"K_arvo*K_maara*kuljetuslaskuri!$E$89%*C60","v":79.2},179.64000000000001]
[null,{"$f":"kuljetuslaskuri!$D$31","v":2500},{"$f":"kuljetuslaskuri!$D$12","v":30},{"$f":"kuljetuslaskuri!$D$33","v":14},{"$f":"kuljetuslaskuri!$D$34","v":4000},12,2.1428571428571428,7.5,2,{"$f":"kuljetuslaskuri!$D$35","v":0},21.5,0.71666666666666667,null,1.3953488372093024,null,{"$f":"IF(kuljetuslaskuri!$H$17,kuljetuslaskuri!$D$17,0)","v":25},{"$f":"IF(kuljetuslaskuri!$H$18,kuljetuslaskuri!$D$18,0)","v":0},{"$f":"IF(kuljetuslaskuri!$G$19,kuljetuslaskuri!#REF!,0)","v":0},{"$f":"AVERAGE(IF(P61:R61<>0, P61:R61,\"\"))","v":25},{"$f":"S61*kuljetuslaskuri!$D$19%","v":23.75},12,{"$f":"kuljetuslaskuri!$D$24%","v":0},15.94,42.89547803126608,114.1121310176319,7.6923076923076925,7.5,{"$f":"kuljetuslaskuri!$D$25*(laskentapohja!C61/laskentapohja!T61)","v":2.5263157894736841},131.83075449941325,4.3943584833137752,0.2275645020307725,null,131.83075449941325,0.2275645020307725,null,0.81145666962003737,-1.16778433517853,null,null,null,null,null,null,null,null,null,null,{"$f":"IF(kuljetuslaskuri!$H$45,kuljetuslaskuri!$D$45,0)","v":20},{"$f":"IF(kuljetuslaskuri!$H$46,kuljetuslaskuri!$D$46,0)","v":0},{"$f":"IF(kuljetuslaskuri!$G$19,kuljetuslaskuri!#REF!,0)","v":0},{"$f":"AVERAGE(IF(AV61:AX61<>0, AV61:AX61,\"\"))","v":20},{"$f":"AY61*kuljetuslaskuri!$D$47%","v":19},12,{"$f":"kuljetuslaskuri!$D$52%","v":0},15.94,42.699774123710171,142.6401637720399,7.5,7.5,{"$f":"kuljetuslaskuri!$D$53*(laskentapohja!C61/laskentapohja!AZ61)","v":3.1578947368421053},160.79805850888201,12,172.79805850888201,5.7599352836294004,0.17361306173736882,null,76.901273457991067,166.98562236592346,243.88689582391453,null,0.39,140.4,null,{"$f":"kuljetuslaskuri!$D$74","v":71.100000000000009},null,211.5,null,{"$f":"N_arvo*N_maara*kuljetuslaskuri!$E$87%*C61","v":59.400000000000006},{"$f":"P_arvo*P_maara*kuljetuslaskuri!$E$88%*C61","v":41.040000000000006},{"$f":"K_arvo*K_maara*kuljetuslaskuri!$E$89%*C61","v":79.2},179.64000000000001]
[null,{"$f":"kuljetuslaskuri!$D$31","v":2500},{"$f":"kuljetuslaskuri!$D$12","v":30},{"$f":"kuljetuslaskuri!$D$33","v":14},{"$f":"kuljetuslaskuri!$D$34","v":4000},12,2.1428571428571428,7.5,2,{"$f":"kuljetuslaskuri!$D$35","v":0},21.5,0.71666666666666667,null,1.3953488372093024,null,{"$f":"IF(kuljetuslaskuri!$H$17,kuljetuslaskuri!$D$17,0)","v":25},{"$f":"IF(kuljetuslaskuri!$H$18,kuljetuslaskuri!$D$18,0)","v":0},{"$f":"IF(kuljetuslaskuri!$G$19,kuljetuslaskuri!#REF!,0)","v":0},{"$f":"AVERAGE(IF(P62:R62<>0, P62:R62,\"\"))","v":25},{"$f":"S62*kuljetuslaskuri!$D$19%","v":23.75},12.25,{"$f":"kuljetuslaskuri!$D$24%","v":0},15.94,43.457050490250793,116.48946708049925,7.6923076923076925,7.5,{"$f":"kuljetuslaskuri!$D$25*(laskentapohja!C62/laskentapohja!T62)","v":2.5263157894736841},134.2080905622806,4.4736030187426872,0.22353346861810985,null,134.2080905622806,0.22353346861810985,null,0.80944115291370611,-1.1718153685911925,null,null,null,null,null,null,null,null,null,null,{"$f":"IF(kuljetuslaskuri!$H$45,kuljetuslaskuri!$D$45,0)","v":20},{"$f":"IF(kuljetuslaskuri!$H$46,kuljetuslaskuri!$D$46,0)","v":0},{"$f":"IF(kuljetuslaskuri!$G$19,kuljetuslaskuri!#REF!,0)","v":0},{"$f":"AVERAGE(IF(AV62:AX62<>0, AV62:AX62,\"\"))","v":20},{"$f":"AY62*kuljetuslaskuri!$D$47%","v":19},12.25,{"$f":"kuljetuslaskuri!$D$52%","v":0},15.94,43.2516860846208,145.61183385062407,7.5,7.5,{"$f":"kuljetuslaskuri!$D$53*(laskentapohja!C62/laskentapohja!AZ62)","v":3.1578947368421053},163.76972858746618,12,175.76972858746618,5.8589909529155388,0.17067785358200324,null,78.288052827997021,169.99691471222212,248.28496754021916,null,0.39,143.32500000000002,null,{"$f":"kuljetuslaskuri!$D$74","v":71.100000000000009},null,214.42500000000001,null,{"$f":"N_arvo*N_maara*kuljetuslaskuri!$E$87%*C62","v":59.400000000000006},{"$f":"P_arvo*P_maara*kuljetuslaskuri!$E$88%*C62","v":41.040000000000006},{"$f":"K_arvo*K_maara*kuljetuslaskuri!$E$89%*C62","v":79.2},179.64000000000001]
[null,{"$f":"kuljetuslaskuri!$D$31","v":2500},{"$f":"kuljetuslaskuri!$D$12","v":30},{"$f":"kuljetuslaskuri!$D$33","v":14},{"$f":"kuljetuslaskuri!$D$34","v":4000},12,2.1428571428571428,7.5,2,{"$f":"kuljetuslaskuri!$D$35","v":0},21.5,0.71666666666666667,null,1.3953488372093024,null,{"$f":"IF(kuljetuslaskuri!$H$17,kuljetuslaskuri!$D$17,0)","v":25},{"$f":"IF(kuljetuslaskuri!$H$18,kuljetuslaskuri!$D$18,0)","v":0},{"$f":"IF(kuljetuslaskuri!$G$19,kuljetuslaskuri!#REF!,0)","v":0},{"$f":"AVERAGE(IF(P63:R63<>0, P63:R63,\"\"))","v":25},{"$f":"S63*kuljetuslaskuri!$D$19%","v":23.75},12.5,{"$f":"kuljetuslaskuri!$D$24%","v":0},15.94,44.018622949235507,118.86680314336657,7.6923076923076925,7.5,{"$f":"kuljetuslaskuri!$D$25*(laskentapohja!C63/laskentapohja!T63)","v":2.5263157894736841},136.58542662514793,4.5528475541715974,0.21964275941629954,null,136.58542662514793,0.21964275941629954,null,0.80749579831280094,-1.1757060777930028,null,null,null,null,null,null,null,null,null,null,{"$f":"IF(kuljetuslaskuri!$H$45,kuljetuslaskuri!$D$45,0)","v":20},{"$f":"IF(kuljetuslaskuri!$H$46,kuljetuslaskuri!$D$46,0)","v":0},{"$f":"IF(kuljetuslaskuri!$G$19,kuljetuslaskuri!#REF!,0)","v":0},{"$f":"AVERAGE(IF(AV63:AX63<>0, AV63:AX63,\"\"))","v":20},{"$f":"AY63*kuljetuslaskuri!$D$47%","v":19},12.5,{"$f":"kuljetuslaskuri!$D$52%","v":0},15.94,43.80359804553143,148.58350392920823,7.5,7.5,{"$f":"kuljetuslaskuri!$D$53*(laskentapohja!C63/laskentapohja!AZ63)","v":3.1578947368421053},166.74139866605034,12,178.74139866605034,5.9580466222016781,0.16784024419575116,null,79.67483219800296,173.0082070585207,252.68303925652367,null,0.39,146.25,null,{"$f":"kuljetuslaskuri!$D$74","v":71.100000000000009},null,217.35000000000002,null,{"$f":"N_arvo*N_maara*kuljetuslaskuri!$E$87%*C63","v":59.400000000000006},{"$f":"P_arvo*P_maara*kuljetuslaskuri!$E$88%*C63","v":41.040000000000006},{"$f":"K_arvo*K_maara*kuljetuslaskuri!$E$89%*C63","v":79.2},179.64000000000001]
[null,{"$f":"kuljetuslaskuri!$D$31","v":2500},{"$f":"kuljetuslaskuri!$D$12","v":30},{"$f":"kuljetuslaskuri!$D$33","v":14},{"$f":"kuljetuslaskuri!$D$34","v":4000},12,2.1428571428571428,7.5,2,{"$f":"kuljetuslaskuri!$D$35","v":0},21.5,0.71666666666666667,null,1.3953488372093024,null,{"$f":"IF(kuljetuslaskuri!$H$17,kuljetuslaskuri!$D$17,0)","v":25},{"$f":"IF(kuljetuslaskuri!$H$18,kuljetuslaskuri!$D$18,0)","v":0},{"$f":"IF(kuljetuslaskuri!$G$19,kuljetuslaskuri!#REF!,0)","v":0},{"$f":"AVERAGE(IF(P64:R64<>0, P64:R64,\"\"))","v":25},{"$f":"S64*kuljetuslaskuri!$D$19%","v":23.75},12.75,{"$f":"kuljetuslaskuri!$D$24%","v":0},15.94,44.580195408220213,121.2441392062339,7.6923076923076925,7.5,{"$f":"kuljetuslaskuri!$D$25*(laskentapohja!C64/laskentapohja!T64)","v":2.5263157894736841},138.96276268801526,4.6320920896005084,0.21588517254333006,null,138.96276268801526,0.21588517254333006,null,0.80561700487631627,-1.1794636646659722,null,null,null,null,null,null,null,null,null,null,{"$f":"IF(kuljetuslaskuri!$H$45,kuljetuslaskuri!$D$45,0)","v":20},{"$f":"IF(kuljetuslaskuri!$H$46,kuljetuslaskuri!$D$46,0)","v":0},{"$f":"IF(kuljetuslaskuri!$G$19,kuljetuslaskuri!#REF!,0)","v":0},{"$f":"AVERAGE(IF(AV64:AX64<>0, AV64:AX64,\"\"))","v":20},{"$f":"AY64*kuljetuslaskuri!$D$47%","v":19},12.75,{"$f":"kuljetuslaskuri!$D$52%","v":0},15.94,44.355510006442053,151.55517400779237,7.5,7.5,{"$f":"kuljetuslaskuri!$D$53*(laskentapohja!C64/laskentapohja!AZ64)","v":3.1578947368421053},169.71306874463448,12,181.71306874463448,6.0571022914878165,0.1650954452932589,null,81.0616115680089,176.01949940481933,257.08111097282824,null,0.39,149.17500000000001,null,{"$f":"kuljetuslaskuri!$D$74","v":71.100000000000009},null,220.27500000000003,null,{"$f":"N_arvo*N_maara*kuljetuslaskuri!$E$87%*C64","v":59.400000000000006},{"$f":"P_arvo*P_maara*kuljetuslaskuri!$E$88%*C64","v":41.040000000000006},{"$f":"K_arvo*K_maara*kuljetuslaskuri!$E$89%*C64","v":79.2},179.64000000000001]
[null,{"$f":"kuljetuslaskuri!$D$31","v":2500},{"$f":"kuljetuslaskuri!$D$12","v":30},{"$f":"kuljetuslaskuri!$D$33","v":14},{"$f":"kuljetuslaskuri!$D$34","v":4000},12,2.1428571428571428,7.5,2,{"$f":"kuljetuslaskuri!$D$35","v":0},21.5,0.71666666666666667,null,1.3953488372093024,null,{"$f":"IF(kuljetuslaskuri!$H$17,kuljetuslaskuri!$D$17,0)","v":25},{"$f":"IF(kuljetuslaskuri!$H$18,kuljetuslaskuri!$D$18,0)","v":0},{"$f":"IF(kuljetuslaskuri!$G$19,kuljetuslaskuri!#REF!,0)","v":0},{"$f":"AVERAGE(IF(P65:R65<>0, P65:R65,\"\"))","v":25},{"$f":"S65*kuljetuslaskuri!$D$19%","v":23.75},13,{"$f":"kuljetuslaskuri!$D$24%","v":0},15.94,45.141767867204926,123.62147526910123,7.6923076923076925,7.5,{"$f":"kuljetuslaskuri!$D$25*(laskentapohja!C65/laskentapohja!T65)","v":2.5263157894736841},141.34009875088259,4.7113366250294195,0.21225399065891531,null,141.34009875088259,0.21225399065891531,null,0.80380141393410887,-1.183094846550387,null,null,null,null,null,null,null,null,null,null,{"$f":"IF(kuljetuslaskuri!$H$45,kuljetuslaskuri!$D$45,0)","v":20},{"$f":"IF(kuljetuslaskuri!$H$46,kuljetuslaskuri!$D$46,0)","v":0},{"$f":"IF(kuljetuslaskuri!$G$19,kuljetuslaskuri!#REF!,0)","v":0},{"$f":"AVERAGE(IF(AV65:AX65<>0, AV65:AX65,\"\"))","v":20},{"$f":"AY65*kuljetuslaskuri!$D$47%","v":19},13,{"$f":"kuljetuslaskuri!$D$52%","v":0},15.94,44.907421967352683,154.52684408637654,7.5,7.5,{"$f":"kuljetuslaskuri!$D$53*(laskentapohja!C65/laskentapohja!AZ65)","v":3.1578947368421053},172.68473882321865,12,184.68473882321865,6.1561579607739549,0.16243897677282465,null,82.448390938014839,179.03079175111793,261.47918268913276,null,0.39,152.10000000000002,null,{"$f":"kuljetuslaskuri!$D$74","v":71.100000000000009},null,223.20000000000005,null,{"$f":"N_arvo*N_maara*kuljetuslaskuri!$E$87%*C65","v":59.400000000000006},{"$f":"P_arvo*P_maara*kuljetuslaskuri!$E$88%*C65","v":41.040000000000006},{"$f":"K_arvo*K_maara*kuljetuslaskuri!$E$89%*C65","v":79.2},179.64000000000001]
[null,{"$f":"kuljetuslaskuri!$D$31","v":2500},{"$f":"kuljetuslaskuri!$D$12","v":30},{"$f":"kuljetuslaskuri!$D$33","v":14},{"$f":"kuljetuslaskuri!$D$34","v":4000},12,2.1428571428571428,7.5,2,{"$f":"kuljetuslaskuri!$D$35","v":0},21.5,0.71666666666666667,null,1.3953488372093024,null,{"$f":"IF(kuljetuslaskuri!$H$17,kuljetuslaskuri!$D$17,0)","v":25},{"$f":"IF(kuljetuslaskuri!$H$18,kuljetuslaskuri!$D$18,0)","v":0},{"$f":"IF(kuljetuslaskuri!$G$19,kuljetuslaskuri!#REF!,0)","v":0},{"$f":"AVERAGE(IF(P66:R66<>0, P66:R66,\"\"))","v":25},{"$f":"S66*kuljetuslaskuri!$D$19%","v":23.75},13.25,{"$f":"kuljetuslaskuri!$D$24%","v":0},15.94,45.703340326189632,125.99881133196855,7.6923076923076925,7.5,{"$f":"kuljetuslaskuri!$D$25*(laskentapohja!C66/laskentapohja!T66)","v":2.5263157894736841},143.71743481374992,4.7905811604583306,0.20874294088868472,null,143.71743481374992,0.20874294088868472,null,0.80204588904899354,-1.1866058963206176,null,null,null,null,null,null,null,null,null,null,{"$f":"IF(kuljetuslaskuri!$H$45,kuljetuslaskuri!$D$45,0)","v":20},{"$f":"IF(kuljetuslaskuri!$H$46,kuljetuslaskuri!$D$46,0)","v":0},{"$f":"IF(kuljetuslaskuri!$G$19,kuljetuslaskuri!#REF!,0)","v":0},{"$f":"AVERAGE(IF(AV66:AX66<>0, AV66:AX66,\"\"))","v":20},{"$f":"AY66*kuljetuslaskuri!$D$47%","v":19},13.25,{"$f":"kuljetuslaskuri!$D$52%","v":0},15.94,45.459333928263312,157.49851416496071,7.5,7.5,{"$f":"kuljetuslaskuri!$D$53*(laskentapohja!C66/laskentapohja!AZ66)","v":3.1578947368421053},175.65640890180282,12,187.65640890180282,6.2552136300600942,0.15986664231488332,null,83.835170308020793,182.04208409741656,265.87725440543738,null,0.39,155.02500000000001,null,{"$f":"kuljetuslaskuri!$D$74","v":71.100000000000009},null,226.125,null,{"$f":"N_arvo*N_maara*kuljetuslaskuri!$E$87%*C66","v":59.400000000000006},{"$f":"P_arvo*P_maara*kuljetuslaskuri!$E$88%*C66","v":41.040000000000006},{"$f":"K_arvo*K_maara*kuljetuslaskuri!$E$89%*C66","v":79.2},179.64000000000001]
[null,{"$f":"kuljetuslaskuri!$D$31","v":2500},{"$f":"kuljetuslaskuri!$D$12","v":30},{"$f":"kuljetuslaskuri!$D$33","v":14},{"$f":"kuljetuslaskuri!$D$34","v":4000},12,2.1428571428571428,7.5,2,{"$f":"kuljetuslaskuri!$D$35","v":0},21.5,0.71666666666666667,null,1.3953488372093024,null,{"$f":"IF(kuljetuslaskuri!$H$17,kuljetuslaskuri!$D$17,0)","v":25},{"$f":"IF(kuljetuslaskuri!$H$18,kuljetuslaskuri!$D$18,0)","v":0},{"$f":"IF(kuljetuslaskuri!$G$19,kuljetuslaskuri!#REF!,0)","v":0},{"$f":"AVERAGE(IF(P67:R67<>0, P67:R67,\"\"))","v":25},{"$f":"S67*kuljetuslaskuri!$D$19%","v":23.75},13.5,{"$f":"kuljetuslaskuri!$D$24%","v":0},15.94,46.264912785174346,128.3761473948359,7.6923076923076925,7.5,{"$f":"kuljetuslaskuri!$D$25*(laskentapohja!C67/laskentapohja!T67)","v":2.5263157894736841},146.09477087661725,4.8698256958872417,0.20534615866118969,null,146.09477087661725,0.20534615866118969,null,0.80034749793524607,-1.1900026785481126,null,null,null,null,null,null,null,null,null,null,{"$f":"IF(kuljetuslaskuri!$H$45,kuljetuslaskuri!$D$45,0)","v":20},{"$f":"IF(kuljetuslaskuri!$H$46,kuljetuslaskuri!$D$46,0)","v":0},{"$f":"IF(kuljetuslaskuri!$G$19,kuljetuslaskuri!#REF!,0)","v":0},{"$f":"AVERAGE(IF(AV67:AX67<>0, AV67:AX67,\"\"))","v":20},{"$f":"AY67*kuljetuslaskuri!$D$47%","v":19},13.5,{"$f":"kuljetuslaskuri!$D$52%","v":0},15.94,46.011245889173935,160.47018424354488,7.5,7.5,{"$f":"kuljetuslaskuri!$D$53*(laskentapohja!C67/laskentapohja!AZ67)","v":3.1578947368421053},178.62807898038699,12,190.62807898038699,6.3542692993462326,0.15737450726283922,null,85.221949678026732,185.05337644371519,270.27532612174195,null,0.39,157.95000000000002,null,{"$f":"kuljetuslaskuri!$D$74","v":71.100000000000009},null,229.05,null,{"$f":"N_arvo*N_maara*kuljetuslaskuri!$E$87%*C67","v":59.400000000000006},{"$f":"P_arvo*P_maara*kuljetuslaskuri!$E$88%*C67","v":41.040000000000006},{"$f":"K_arvo*K_maara*kuljetuslaskuri!$E$89%*C67","v":79.2},179.64000000000001]
[null,{"$f":"kuljetuslaskuri!$D$31","v":2500},{"$f":"kuljetuslaskuri!$D$12","v":30},{"$f":"kuljetuslaskuri!$D$33","v":14},{"$f":"kuljetuslaskuri!$D$34","v":4000},12,2.1428571428571428,7.5,2,{"$f":"kuljetuslaskuri!$D$35","v":0},21.5,0.71666666666666667,null,1.3953488372093024,null,{"$f":"IF(kuljetuslaskuri!$H$17,kuljetuslaskuri!$D$17,0)","v":25},{"$f":"IF(kuljetuslaskuri!$H$18,kuljetuslaskuri!$D$18,0)","v":0},{"$f":"IF(kuljetuslaskuri!$G$19,kuljetuslaskuri!#REF!,0)","v":0},{"$f":"AVERAGE(IF(P68:R68<>0, P68:R68,\"\"))","v":25},{"$f":"S68*kuljetuslaskuri!$D$19%","v":23.75},13.75,{"$f":"kuljetuslaskuri!$D$24%","v":0},15.94,46.826485244159052,130.75348345770323,7.6923076923076925,7.5,{"$f":"kuljetuslaskuri!$D$25*(laskentapohja!C68/laskentapohja!T68)","v":2.5263157894736841},148.47210693948458,4.9490702313161528,0.20205815501916219,null,148.47210693948458,0.20205815501916219,null,0.7987034961142323,-1.1932906821901401,null,null,null,null,null,null,null,null,null,null,{"$f":"IF(kuljetuslaskuri!$H$45,kuljetuslaskuri!$D$45,0)","v":20},{"$f":"IF(kuljetuslaskuri!$H$46,kuljetuslaskuri!$D$46,0)","v":0},{"$f":"IF(kuljetuslaskuri!$G$19,kuljetuslaskuri!#REF!,0)","v":0},{"$f":"AVERAGE(IF(AV68:AX68<>0, AV68:AX68,\"\"))","v":20},{"$f":"AY68*kuljetuslaskuri!$D$47%","v":19},13.75,{"$f":"kuljetuslaskuri!$D$52%","v":0},15.94,46.563157850084565,163.44185432212905,7.5,7.5,{"$f":"kuljetuslaskuri!$D$53*(laskentapohja!C68/laskentapohja!AZ68)","v":3.1578947368421053},181.59974905897116,12,193.59974905897116,6.4533249686323719,0.15495887854101451,null,86.608729048032671,188.0646687900138,274.67339783804647,null,0.39,160.87500000000003,null,{"$f":"kuljetuslaskuri!$D$74","v":71.100000000000009},null,231.97500000000002,null,{"$f":"N_arvo*N_maara*kuljetuslaskuri!$E$87%*C68","v":59.400000000000006},{"$f":"P_arvo*P_maara*kuljetuslaskuri!$E$88%*C68","v":41.040000000000006},{"$f":"K_arvo*K_maara*kuljetuslaskuri!$E$89%*C68","v":79.2},179.64000000000001]
[null,{"$f":"kuljetuslaskuri!$D$31","v":2500},{"$f":"kuljetuslaskuri!$D$12","v":30},{"$f":"kuljetuslaskuri!$D$33","v":14},{"$f":"kuljetuslaskuri!$D$34","v":4000},12,2.1428571428571428,7.5,2,{"$f":"kuljetuslaskuri!$D$35","v":0},21.5,0.71666666666666667,null,1.3953488372093024,null,{"$f":"IF(kuljetuslaskuri!$H$17,kuljetuslaskuri!$D$17,0)","v":25},{"$f":"IF(kuljetuslaskuri!$H$18,kuljetuslaskuri!$D$18,0)","v":0},{"$f":"IF(kuljetuslaskuri!$G$19,kuljetuslaskuri!#REF!,0)","v":0},{"$f":"AVERAGE(IF(P69:R69<>0, P69:R69,\"\"))","v":25},{"$f":"S69*kuljetuslaskuri!$D$19%","v":23.75},14,{"$f":"kuljetuslaskuri!$D$24%","v":0},15.94,47.388057703143765,133.13081952057055,7.6923076923076925,7.5,{"$f":"kuljetuslaskuri!$D$25*(laskentapohja!C69/laskentapohja!T69)","v":2.5263157894736841},150.8494430023519,5.0283147667450638,0.19887378702175432,null,150.8494430023519,0.19887378702175432,null,0.79711131211552833,-1.1964750501875481,null,null,null,null,null,null,null,null,null,null,{"$f":"IF(kuljetuslaskuri!$H$45,kuljetuslaskuri!$D$45,0)","v":20},{"$f":"IF(kuljetuslaskuri!$H$46,kuljetuslaskuri!$D$46,0)","v":0},{"$f":"IF(kuljetuslaskuri!$G$19,kuljetuslaskuri!#REF!,0)","v":0},{"$f":"AVERAGE(IF(AV69:AX69<>0, AV69:AX69,\"\"))","v":20},{"$f":"AY69*kuljetuslaskuri!$D$47%","v":19},14,{"$f":"kuljetuslaskuri!$D$52%","v":0},15.94,47.115069810995195,166.41352440071321,7.5,7.5,{"$f":"kuljetuslaskuri!$D$53*(laskentapohja!C69/laskentapohja!AZ69)","v":3.1578947368421053},184.57141913755532,12,196.57141913755532,6.5523806379185112,0.15261628639414163,null,87.995508418038611,191.07596113631243,279.07146955435104,null,0.39,163.80000000000001,null,{"$f":"kuljetuslaskuri!$D$74","v":71.100000000000009},null,234.90000000000003,null,{"$f":"N_arvo*N_maara*kuljetuslaskuri!$E$87%*C69","v":59.400000000000006},{"$f":"P_arvo*P_maara*kuljetuslaskuri!$E$88%*C69","v":41.040000000000006},{"$f":"K_arvo*K_maara*kuljetuslaskuri!$E$89%*C69","v":79.2},179.64000000000001]
[null,{"$f":"kuljetuslaskuri!$D$31","v":2500},{"$f":"kuljetuslaskuri!$D$12","v":30},{"$f":"kuljetuslaskuri!$D$33","v":14},{"$f":"kuljetuslaskuri!$D$34","v":4000},12,2.1428571428571428,7.5,2,{"$f":"kuljetuslaskuri!$D$35","v":0},21.5,0.71666666666666667,null,1.3953488372093024,null,{"$f":"IF(kuljetuslaskuri!$H$17,kuljetuslaskuri!$D$17,0)","v":25},{"$f":"IF(kuljetuslaskuri!$H$18,kuljetuslaskuri!$D$18,0)","v":0},{"$f":"IF(kuljetuslaskuri!$G$19,kuljetuslaskuri!#REF!,0)","v":0},{"$f":"AVERAGE(IF(P70:R70<>0, P70:R70,\"\"))","v":25},{"$f":"S70*kuljetuslaskuri!$D$19%","v":23.75},14.25,{"$f":"kuljetuslaskuri!$D$24%","v":0},15.94,47.949630162128472,135.50815558343788,7.6923076923076925,7.5,{"$f":"kuljetuslaskuri!$D$25*(laskentapohja!C70/laskentapohja!T70)","v":2.5263157894736841},153.22677906521923,5.107559302173974,0.19578823090205952,null,153.22677906521923,0.19578823090205952,null,0.79556853405568095,-1.1995606063072428,null,null,null,null,null,null,null,null,null,null,{"$f":"IF(kuljetuslaskuri!$H$45,kuljetuslaskuri!$D$45,0)","v":20},{"$f":"IF(kuljetuslaskuri!$H$46,kuljetuslaskuri!$D$46,0)","v":0},{"$f":"IF(kuljetuslaskuri!$G$19,kuljetuslaskuri!#REF!,0)","v":0},{"$f":"AVERAGE(IF(AV70:AX70<>0, AV70:AX70,\"\"))","v":20},{"$f":"AY70*kuljetuslaskuri!$D$47%","v":19},14.25,{"$f":"kuljetuslaskuri!$D$52%","v":0},15.94,47.666981771905824,169.38519447929735,7.5,7.5,{"$f":"kuljetuslaskuri!$D$53*(laskentapohja!C70/laskentapohja!AZ70)","v":3.1578947368421053},187.54308921613946,12,199.54308921613946,6.6514363072046487,0.15034346775850926,null,89.38228778804455,194.087253482611,283.46954127065555,null,0.39,166.72500000000002,null,{"$f":"kuljetuslaskuri!$D$74","v":71.100000000000009},null,237.82500000000005,null,{"$f":"N_arvo*N_maara*kuljetuslaskuri!$E$87%*C70","v":59.400000000000006},{"$f":"P_arvo*P_maara*kuljetuslaskuri!$E$88%*C70","v":41.040000000000006},{"$f":"K_arvo*K_maara*kuljetuslaskuri!$E$89%*C70","v":79.2},179.64000000000001]
[null,{"$f":"kuljetuslaskuri!$D$31","v":2500},{"$f":"kuljetuslaskuri!$D$12","v":30},{"$f":"kuljetuslaskuri!$D$33","v":14},{"$f":"kuljetuslaskuri!$D$34","v":4000},12,2.1428571428571428,7.5,2,{"$f":"kuljetuslaskuri!$D$35","v":0},21.5,0.71666666666666667,null,1.3953488372093024,null,{"$f":"IF(kuljetuslaskuri!$H$17,kuljetuslaskuri!$D$17,0)","v":25},{"$f":"IF(kuljetuslaskuri!$H$18,kuljetuslaskuri!$D$18,0)","v":0},{"$f":"IF(kuljetuslaskuri!$G$19,kuljetuslaskuri!#REF!,0)","v":0},{"$f":"AVERAGE(IF(P71:R71<>0, P71:R71,\"\"))","v":25},{"$f":"S71*kuljetuslaskuri!$D$19%","v":23.75},14.5,{"$f":"kuljetuslaskuri!$D$24%","v":0},15.94,48.511202621113185,137.88549164630524,7.6923076923076925,7.5,{"$f":"kuljetuslaskuri!$D$25*(laskentapohja!C71/laskentapohja!T71)","v":2.5263157894736841},155.60411512808659,5.186803837602886,0.19279695768524693,null,155.60411512808659,0.19279695768524693,null,0.79407289744727461,-1.2025518795240555,null,null,null,null,null,null,null,null,null,null,{"$f":"IF(kuljetuslaskuri!$H$45,kuljetuslaskuri!$D$45,0)","v":20},{"$f":"IF(kuljetuslaskuri!$H$46,kuljetuslaskuri!$D$46,0)","v":0},{"$f":"IF(kuljetuslaskuri!$G$19,kuljetuslaskuri!#REF!,0)","v":0},{"$f":"AVERAGE(IF(AV71:AX71<>0, AV71:AX71,\"\"))","v":20},{"$f":"AY71*kuljetuslaskuri!$D$47%","v":19},14.5,{"$f":"kuljetuslaskuri!$D$52%","v":0},15.94,48.218893732816454,172.35686455788155,7.5,7.5,{"$f":"kuljetuslaskuri!$D$53*(laskentapohja!C71/laskentapohja!AZ71)","v":3.1578947368421053},190.51475929472366,12,202.51475929472366,6.7504919764907889,0.14813735109716333,null,90.769067158050504,197.09854582890966,287.86761298696018,null,0.39,169.65,null,{"$f":"kuljetuslaskuri!$D$74","v":71.100000000000009},null,240.75,null,{"$f":"N_arvo*N_maara*kuljetuslaskuri!$E$87%*C71","v":59.400000000000006},{"$f":"P_arvo*P_maara*kuljetuslaskuri!$E$88%*C71","v":41.040000000000006},{"$f":"K_arvo*K_maara*kuljetuslaskuri!$E$89%*C71","v":79.2},179.64000000000001]
[null,{"$f":"kuljetuslaskuri!$D$31","v":2500},{"$f":"kuljetuslaskuri!$D$12","v":30},{"$f":"kuljetuslaskuri!$D$33","v":14},{"$f":"kuljetuslaskuri!$D$34","v":4000},12,2.1428571428571428,7.5,2,{"$f":"kuljetuslaskuri!$D$35","v":0},21.5,0.71666666666666667,null,1.3953488372093024,null,{"$f":"IF(kuljetuslaskuri!$H$17,kuljetuslaskuri!$D$17,0)","v":25},{"$f":"IF(kuljetuslaskuri!$H$18,kuljetuslaskuri!$D$18,0)","v":0},{"$f":"IF(kuljetuslaskuri!$G$19,kuljetuslaskuri!#REF!,0)","v":0},{"$f":"AVERAGE(IF(P72:R72<>0, P72:R72,\"\"))","v":25},{"$f":"S72*kuljetuslaskuri!$D$19%","v":23.75},14.75,{"$f":"kuljetuslaskuri!$D$24%","v":0},15.94,49.072775080097891,140.26282770917254,7.6923076923076925,7.5,{"$f":"kuljetuslaskuri!$D$25*(laskentapohja!C72/laskentapohja!T72)","v":2.5263157894736841},157.98145119095389,5.2660483730317962,0.18989571100811498,null,157.98145119095389,0.18989571100811498,null,0.79262227410870867,-1.2054531262011874,null,null,null,null,null,null,null,null,null,null,{"$f":"IF(kuljetuslaskuri!$H$45,kuljetuslaskuri!$D$45,0)","v":20},{"$f":"IF(kuljetuslaskuri!$H$46,kuljetuslaskuri!$D$46,0)","v":0},{"$f":"IF(kuljetuslaskuri!$G$19,kuljetuslaskuri!#REF!,0)","v":0},{"$f":"AVERAGE(IF(AV72:AX72<>0, AV72:AX72,\"\"))","v":20},{"$f":"AY72*kuljetuslaskuri!$D$47%","v":19},14.75,{"$f":"kuljetuslaskuri!$D$52%","v":0},15.94,48.770805693727084,175.32853463646572,7.5,7.5,{"$f":"kuljetuslaskuri!$D$53*(laskentapohja!C72/laskentapohja!AZ72)","v":3.1578947368421053},193.48642937330783,12,205.48642937330783,6.8495476457769273,0.14599504255095555,null,92.155846528056429,200.10983817520827,292.2656847032647,null,0.39,172.57500000000002,null,{"$f":"kuljetuslaskuri!$D$74","v":71.100000000000009},null,243.67500000000001,null,{"$f":"N_arvo*N_maara*kuljetuslaskuri!$E$87%*C72","v":59.400000000000006},{"$f":"P_arvo*P_maara*kuljetuslaskuri!$E$88%*C72","v":41.040000000000006},{"$f":"K_arvo*K_maara*kuljetuslaskuri!$E$89%*C72","v":79.2},179.64000000000001]
[null,{"$f":"kuljetuslaskuri!$D$31","v":2500},{"$f":"kuljetuslaskuri!$D$12","v":30},{"$f":"kuljetuslaskuri!$D$33","v":14},{"$f":"kuljetuslaskuri!$D$34","v":4000},12,2.1428571428571428,7.5,2,{"$f":"kuljetuslaskuri!$D$35","v":0},21.5,0.71666666666666667,null,1.3953488372093024,null,{"$f":"IF(kuljetuslaskuri!$H$17,kuljetuslaskuri!$D$17,0)","v":25},{"$f":"IF(kuljetuslaskuri!$H$18,kuljetuslaskuri!$D$18,0)","v":0},{"$f":"IF(kuljetuslaskuri!$G$19,kuljetuslaskuri!#REF!,0)","v":0},{"$f":"AVERAGE(IF(P73:R73<>0, P73:R73,\"\"))","v":25},{"$f":"S73*kuljetuslaskuri!$D$19%","v":23.75},15,{"$f":"kuljetuslaskuri!$D$24%","v":0},15.94,49.634347539082604,142.64016377203987,7.6923076923076925,7.5,{"$f":"kuljetuslaskuri!$D$25*(laskentapohja!C73/laskentapohja!T73)","v":2.5263157894736841},160.35878725382122,5.3452929084607073,0.18708048691160906,null,160.35878725382122,0.18708048691160906,null,0.79121466206045565,-1.2082683502976934,null,null,null,null,null,null,null,null,null,null,{"$f":"IF(kuljetuslaskuri!$H$45,kuljetuslaskuri!$D$45,0)","v":20},{"$f":"IF(kuljetuslaskuri!$H$46,kuljetuslaskuri!$D$46,0)","v":0},{"$f":"IF(kuljetuslaskuri!$G$19,kuljetuslaskuri!#REF!,0)","v":0},{"$f":"AVERAGE(IF(AV73:AX73<>0, AV73:AX73,\"\"))","v":20},{"$f":"AY73*kuljetuslaskuri!$D$47%","v":19},15,{"$f":"kuljetuslaskuri!$D$52%","v":0},15.94,49.322717654637714,178.30020471504986,7.5,7.5,{"$f":"kuljetuslaskuri!$D$53*(laskentapohja!C73/laskentapohja!AZ73)","v":3.1578947368421053},196.45809945189197,12,208.45809945189197,6.9486033150630657,0.14391381327413191,null,93.542625898062383,203.12113052150687,296.66375641956927,null,0.39,175.50000000000003,null,{"$f":"kuljetuslaskuri!$D$74","v":71.100000000000009},null,246.60000000000002,null,{"$f":"N_arvo*N_maara*kuljetuslaskuri!$E$87%*C73","v":59.400000000000006},{"$f":"P_arvo*P_maara*kuljetuslaskuri!$E$88%*C73","v":41.040000000000006},{"$f":"K_arvo*K_maara*kuljetuslaskuri!$E$89%*C73","v":79.2},179.64000000000001]
[null,{"$f":"kuljetuslaskuri!$D$31","v":2500},{"$f":"kuljetuslaskuri!$D$12","v":30},{"$f":"kuljetuslaskuri!$D$33","v":14},{"$f":"kuljetuslaskuri!$D$34","v":4000},12,2.1428571428571428,7.5,2,{"$f":"kuljetuslaskuri!$D$35","v":0},21.5,0.71666666666666667,null,1.3953488372093024,null,{"$f":"IF(kuljetuslaskuri!$H$17,kuljetuslaskuri!$D$17,0)","v":25},{"$f":"IF(kuljetuslaskuri!$H$18,kuljetuslaskuri!$D$18,0)","v":0},{"$f":"IF(kuljetuslaskuri!$G$19,kuljetuslaskuri!#REF!,0)","v":0},{"$f":"AVERAGE(IF(P74:R74<>0, P74:R74,\"\"))","v":25},{"$f":"S74*kuljetuslaskuri!$D$19%","v":23.75},15.25,{"$f":"kuljetuslaskuri!$D$24%","v":0},15.94,50,145.0174998349072,7.6923076923076925,7.5,{"$f":"kuljetuslaskuri!$D$25*(laskentapohja!C74/laskentapohja!T74)","v":2.5263157894736841},162.73612331668855,5.4245374438896183,0.18434751540455005,null,162.73612331668855,0.18434751540455005,null,0.78984817630692616,-1.2110013218047524,null,null,null,null,null,null,null,null,null,null,{"$f":"IF(kuljetuslaskuri!$H$45,kuljetuslaskuri!$D$45,0)","v":20},{"$f":"IF(kuljetuslaskuri!$H$46,kuljetuslaskuri!$D$46,0)","v":0},{"$f":"IF(kuljetuslaskuri!$G$19,kuljetuslaskuri!#REF!,0)","v":0},{"$f":"AVERAGE(IF(AV74:AX74<>0, AV74:AX74,\"\"))","v":20},{"$f":"AY74*kuljetuslaskuri!$D$47%","v":19},15.25,{"$f":"kuljetuslaskuri!$D$52%","v":0},15.94,50,181.27187479363403,7.5,7.5,{"$f":"kuljetuslaskuri!$D$53*(laskentapohja!C74/laskentapohja!AZ74)","v":3.1578947368421053},199.42976953047614,12,211.42976953047614,7.0476589843492041,0.14189108783792015,null,94.929405268068322,206.1324228678055,301.06182813587384,null,0.39,178.42500000000001,null,{"$f":"kuljetuslaskuri!$D$74","v":71.100000000000009},null,249.52500000000003,null,{"$f":"N_arvo*N_maara*kuljetuslaskuri!$E$87%*C74","v":59.400000000000006},{"$f":"P_arvo*P_maara*kuljetuslaskuri!$E$88%*C74","v":41.040000000000006},{"$f":"K_arvo*K_maara*kuljetuslaskuri!$E$89%*C74","v":79.2},179.64000000000001]
[null,{"$f":"kuljetuslaskuri!$D$31","v":2500},{"$f":"kuljetuslaskuri!$D$12","v":30},{"$f":"kuljetuslaskuri!$D$33","v":14},{"$f":"kuljetuslaskuri!$D$34","v":4000},12,2.1428571428571428,7.5,2,{"$f":"kuljetuslaskuri!$D$35","v":0},21.5,0.71666666666666667,null,1.3953488372093024,null,{"$f":"IF(kuljetuslaskuri!$H$17,kuljetuslaskuri!$D$17,0)","v":25},{"$f":"IF(kuljetuslaskuri!$H$18,kuljetuslaskuri!$D$18,0)","v":0},{"$f":"IF(kuljetuslaskuri!$G$19,kuljetuslaskuri!#REF!,0)","v":0},{"$f":"AVERAGE(IF(P75:R75<>0, P75:R75,\"\"))","v":25},{"$f":"S75*kuljetuslaskuri!$D$19%","v":23.75},15.5,{"$f":"kuljetuslaskuri!$D$24%","v":0},15.94,50,147.39483589777456,7.6923076923076925,7.5,{"$f":"kuljetuslaskuri!$D$25*(laskentapohja!C75/laskentapohja!T75)","v":2.5263157894736841},165.11345937955591,5.5037819793185303,0.18169324362005676,null,165.11345937955591,0.18169324362005676,null,0.78852104041467952,-1.2136555935892457,null,null,null,null,null,null,null,null,null,null,{"$f":"IF(kuljetuslaskuri!$H$45,kuljetuslaskuri!$D$45,0)","v":20},{"$f":"IF(kuljetuslaskuri!$H$46,kuljetuslaskuri!$D$46,0)","v":0},{"$f":"IF(kuljetuslaskuri!$G$19,kuljetuslaskuri!#REF!,0)","v":0},{"$f":"AVERAGE(IF(AV75:AX75<>0, AV75:AX75,\"\"))","v":20},{"$f":"AY75*kuljetuslaskuri!$D$47%","v":19},15.5,{"$f":"kuljetuslaskuri!$D$52%","v":0},15.94,50,184.24354487221819,7.5,7.5,{"$f":"kuljetuslaskuri!$D$53*(laskentapohja!C75/laskentapohja!AZ75)","v":3.1578947368421053},202.4014396090603,12,214.4014396090603,7.1467146536353434,0.13992443359849643,null,96.316184638074276,209.14371521410416,305.45989985217841,null,0.39,181.35000000000002,null,{"$f":"kuljetuslaskuri!$D$74","v":71.100000000000009},null,252.45000000000005,null,{"$f":"N_arvo*N_maara*kuljetuslaskuri!$E$87%*C75","v":59.400000000000006},{"$f":"P_arvo*P_maara*kuljetuslaskuri!$E$88%*C75","v":41.040000000000006},{"$f":"K_arvo*K_maara*kuljetuslaskuri!$E$89%*C75","v":79.2},179.64000000000001]
[null,{"$f":"kuljetuslaskuri!$D$31","v":2500},{"$f":"kuljetuslaskuri!$D$12","v":30},{"$f":"kuljetuslaskuri!$D$33","v":14},{"$f":"kuljetuslaskuri!$D$34","v":4000},12,{"$f":"C76/D76","v":2.1428571428571428},{"$f":"(C76*1000)/E76","v":7.5},{"$f":"Levityksen_apuaika","v":2},{"$f":"kuljetuslaskuri!$D$35","v":0},{"$f":"(F76+H76+I76)*(1+J76%)","v":21.5},{"$f":"K76/C76","v":0.71666666666666667},null,1.3953488372093024,null,{"$f":"IF(kuljetuslaskuri!$H$17,kuljetuslaskuri!$D$17,0)","v":25},{"$f":"IF(kuljetuslaskuri!$H$18,kuljetuslaskuri!$D$18,0)","v":0},{"$f":"IF(kuljetuslaskuri!$G$19,kuljetuslaskuri!#REF!,0)","v":0},{"$f":"AVERAGE(IF(P76:R76<>0, P76:R76,\"\"))","v":25},{"$f":"S76*kuljetuslaskuri!$D$19%","v":23.75},15.75,{"$f":"kuljetuslaskuri!$D$24%","v":0},15.94,50,{"$f":"(C76/T76)*((U76*1000*0.12)/W76)*(1+V76)","v":149.77217196064188},{"$f":"Levitys*1000/Last_nop","v":7.6923076923076925},{"$f":"Levitys*1000/Purk_nop","v":7.5},{"$f":"kuljetuslaskuri!$D$25*(laskentapohja!C76/laskentapohja!T76)","v":2.5263157894736841},167.49079544242323,{"$f":"AC76/C76","v":5.5830265147474414},0.17911432040641792,null,{"$f":"MAX(K76,AC76)","v":167.49079544242323},{"$f":"MIN(N76,AE76)","v":0.17911432040641792},null,0.7872315788078601,-1.2162345168028845,null,null,null,null,null,null,null,null,null,null,{"$f":"IF(kuljetuslaskuri!$H$45,kuljetuslaskuri!$D$45,0)","v":20},{"$f":"IF(kuljetuslaskuri!$H$46,kuljetuslaskuri!$D$46,0)","v":0},{"$f":"IF(kuljetuslaskuri!$G$19,kuljetuslaskuri!#REF!,0)","v":0},{"$f":"AVERAGE(IF(AV76:AX76<>0, AV76:AX76,\"\"))","v":20},{"$f":"AY76*kuljetuslaskuri!$D$47%","v":19},15.75,{"$f":"kuljetuslaskuri!$D$52%","v":0},{"$f":"Kulj_nop","v":15.94},50,{"$f":"(C76/AZ76)*((BA76*1000*0.12)/BC76)","v":187.21521495080236},{"$f":"Levitys*1000/Last_nop2","v":7.5},{"$f":"Levitys*1000/Levitys_kap2","v":7.5},{"$f":"kuljetuslaskuri!$D$53*(laskentapohja!C76/laskentapohja!AZ76)","v":3.1578947368421053},205.37310968764447,{"$f":"(C76*1000)/B76","v":12},217.37310968764447,{"$f":"BK76/C76","v":7.2457703229214827},{"$f":"IF(AW76>0,2*1/BL76,1/BL76)","v":0.13801155093704401},null,{"$f":"AC76/60*työ_kust","v":97.70296400808023},{"$f":"AC76/60*kone_kust","v":212.15500756040277},309.85797156848298,null,{"$f":"kulj_taksa","v":0.39},{"$f":"BS76*C76*U76","v":184.27500000000001},null,{"$f":"kuljetuslaskuri!$D$74","v":71.100000000000009},null,255.375,null,{"$f":"N_arvo*N_maara*kuljetuslaskuri!$E$87%*C76","v":59.400000000000006},{"$f":"P_arvo*P_maara*kuljetuslaskuri!$E$88%*C76","v":41.040000000000006},{"$f":"K_arvo*K_maara*kuljetuslaskuri!$E$89%*C76","v":79.2},179.64000000000001]
[null,{"$f":"kuljetuslaskuri!$D$31","v":2500},{"$f":"kuljetuslaskuri!$D$12","v":30},{"$f":"kuljetuslaskuri!$D$33","v":14},{"$f":"kuljetuslaskuri!$D$34","v":4000},{"$f":"(C77*1000)/B77","v":12},2.1428571428571428,7.5,2,{"$f":"kuljetuslaskuri!$D$35","v":0},21.5,0.71666666666666667,null,{"$f":"1/L77","v":1.3953488372093024},null,{"$f":"IF(kuljetuslaskuri!$H$17,kuljetuslaskuri!$D$17,0)","v":25},{"$f":"IF(kuljetuslaskuri!$H$18,kuljetuslaskuri!$D$18,0)","v":0},{"$f":"IF(kuljetuslaskuri!$G$19,kuljetuslaskuri!#REF!,0)","v":0},{"$f":"AVERAGE(IF(P77:R77<>0, P77:R77,\"\"))","v":25},{"$f":"S77*kuljetuslaskuri!$D$19%","v":23.75},16,{"$f":"kuljetuslaskuri!$D$24%","v":0},15.94,{"$f":"IF(U77>15,50,LN(9.4526)*U77+15.94)","v":50},152.14950802350921,7.6923076923076925,7.5,{"$f":"kuljetuslaskuri!$D$25*(laskentapohja!C77/laskentapohja!T77)","v":2.5263157894736841},{"$f":"SUM(Y77:AB77)","v":169.86813150529056},5.6622710501763525,{"$f":"IF(Q77>0,2*1/AD77,1/AD77)","v":0.17660758221188561},null,169.86813150529056,0.17660758221188561,null,{"$f":"N77+((AE77-N77)/2)","v":0.78597820971059396},-1.2187412549974168,null,null,null,null,null,null,null,null,null,null,{"$f":"IF(kuljetuslaskuri!$H$45,kuljetuslaskuri!$D$45,0)","v":20},{"$f":"IF(kuljetuslaskuri!$H$46,kuljetuslaskuri!$D$46,0)","v":0},{"$f":"IF(kuljetuslaskuri!$G$19,kuljetuslaskuri!#REF!,0)","v":0},{"$f":"AVERAGE(IF(AV77:AX77<>0, AV77:AX77,\"\"))","v":20},{"$f":"AY77*kuljetuslaskuri!$D$47%","v":19},16,{"$f":"kuljetuslaskuri!$D$52%","v":0},15.94,{"$f":"IF(BA77>15,50,LN(9.0943)*BA77+16.208)","v":50},190.18688502938653,7.5,7.5,{"$f":"kuljetuslaskuri!$D$53*(laskentapohja!C77/laskentapohja!AZ77)","v":3.1578947368421053},{"$f":"SUM(BE77:BH77)","v":208.34477976622864},12,{"$f":"SUM(BI77,BJ77)*(1+BB77)","v":220.34477976622864},7.3448259922076211,0.13615026428957397,null,99.089743378086169,215.1662999067014,{"$f":"SUM(BO77:BP77)","v":314.25604328478755},null,0.39,187.20000000000002,null,{"$f":"kuljetuslaskuri!$D$74","v":71.100000000000009},null,{"$f":"BT77+BV77","v":258.3},null,{"$f":"N_arvo*N_maara*kuljetuslaskuri!$E$87%*C77","v":59.400000000000006},{"$f":"P_arvo*P_maara*kuljetuslaskuri!$E$88%*C77","v":41.040000000000006},{"$f":"K_arvo*K_maara*kuljetuslaskuri!$E$89%*C77","v":79.2},{"$f":"SUM(BZ77:CB77)","v":179.64000000000001}]
[null,{"$f":"kuljetuslaskuri!$D$31","v":2500},{"$f":"kuljetuslaskuri!$D$12","v":30},{"$f":"kuljetuslaskuri!$D$33","v":14},{"$f":"kuljetuslaskuri!$D$34","v":4000},12,2.1428571428571428,7.5,2,{"$f":"kuljetuslaskuri!$D$35","v":0},21.5,0.71666666666666667,null,1.3953488372093024,null,{"$f":"IF(kuljetuslaskuri!$H$17,kuljetuslaskuri!$D$17,0)","v":25},{"$f":"IF(kuljetuslaskuri!$H$18,kuljetuslaskuri!$D$18,0)","v":0},{"$f":"IF(kuljetuslaskuri!$G$19,kuljetuslaskuri!#REF!,0)","v":0},{"$f":"AVERAGE(IF(P78:R78<>0, P78:R78,\"\"))","v":25},{"$f":"S78*kuljetuslaskuri!$D$19%","v":23.75},16.25,{"$f":"kuljetuslaskuri!$D$24%","v":0},15.94,50,154.52684408637654,7.6923076923076925,7.5,{"$f":"kuljetuslaskuri!$D$25*(laskentapohja!C78/laskentapohja!T78)","v":2.5263157894736841},172.24546756815789,5.7415155856052627,0.1741700401383795,null,172.24546756815789,0.1741700401383795,null,0.7847594386738409,-1.2211787970709229,null,null,null,null,null,null,null,null,null,null,{"$f":"IF(kuljetuslaskuri!$H$45,kuljetuslaskuri!$D$45,0)","v":20},{"$f":"IF(kuljetuslaskuri!$H$46,kuljetuslaskuri!$D$46,0)","v":0},{"$f":"IF(kuljetuslaskuri!$G$19,kuljetuslaskuri!#REF!,0)","v":0},{"$f":"AVERAGE(IF(AV78:AX78<>0, AV78:AX78,\"\"))","v":20},{"$f":"AY78*kuljetuslaskuri!$D$47%","v":19},16.25,{"$f":"kuljetuslaskuri!$D$52%","v":0},15.94,50,193.15855510797067,7.5,7.5,{"$f":"kuljetuslaskuri!$D$53*(laskentapohja!C78/laskentapohja!AZ78)","v":3.1578947368421053},211.31644984481278,12,223.31644984481278,7.4438816614937595,0.1343385138929426,null,100.47652274809209,218.17759225299997,318.65411500109207,null,0.39,190.12500000000003,null,{"$f":"kuljetuslaskuri!$D$74","v":71.100000000000009},null,261.22500000000002,null,{"$f":"N_arvo*N_maara*kuljetuslaskuri!$E$87%*C78","v":59.400000000000006},{"$f":"P_arvo*P_maara*kuljetuslaskuri!$E$88%*C78","v":41.040000000000006},{"$f":"K_arvo*K_maara*kuljetuslaskuri!$E$89%*C78","v":79.2},179.64000000000001]
[null,{"$f":"kuljetuslaskuri!$D$31","v":2500},{"$f":"kuljetuslaskuri!$D$12","v":30},{"$f":"kuljetuslaskuri!$D$33","v":14},{"$f":"kuljetuslaskuri!$D$34","v":4000},12,2.1428571428571428,7.5,2,{"$f":"kuljetuslaskuri!$D$35","v":0},21.5,0.71666666666666667,null,1.3953488372093024,null,{"$f":"IF(kuljetuslaskuri!$H$17,kuljetuslaskuri!$D$17,0)","v":25},{"$f":"IF(kuljetuslaskuri!$H$18,kuljetuslaskuri!$D$18,0)","v":0},{"$f":"IF(kuljetuslaskuri!$G$19,kuljetuslaskuri!#REF!,0)","v":0},{"$f":"AVERAGE(IF(P79:R79<>0, P79:R79,\"\"))","v":25},{"$f":"S79*kuljetuslaskuri!$D$19%","v":23.75},16.5,{"$f":"kuljetuslaskuri!$D$24%","v":0},15.94,50,156.90418014924387,7.6923076923076925,7.5,{"$f":"kuljetuslaskuri!$D$25*(laskentapohja!C79/laskentapohja!T79)","v":2.5263157894736841},174.62280363102522,5.8207601210341737,0.17179886805270547,null,174.62280363102522,0.17179886805270547,null,0.78357385263100388,-1.223549969156597,null,null,null,null,null,null,null,null,null,null,{"$f":"IF(kuljetuslaskuri!$H$45,kuljetuslaskuri!$D$45,0)","v":20},{"$f":"IF(kuljetuslaskuri!$H$46,kuljetuslaskuri!$D$46,0)","v":0},{"$f":"IF(kuljetuslaskuri!$G$19,kuljetuslaskuri!#REF!,0)","v":0},{"$f":"AVERAGE(IF(AV79:AX79<>0, AV79:AX79,\"\"))","v":20},{"$f":"AY79*kuljetuslaskuri!$D$47%","v":19},16.5,{"$f":"kuljetuslaskuri!$D$52%","v":0},15.94,50,196.13022518655487,7.5,7.5,{"$f":"kuljetuslaskuri!$D$53*(laskentapohja!C79/laskentapohja!AZ79)","v":3.1578947368421053},214.28811992339698,12,226.28811992339698,7.5429373307798988,0.13257434818122843,null,101.86330211809803,221.1888845992986,323.05218671739664,null,0.39,193.05,null,{"$f":"kuljetuslaskuri!$D$74","v":71.100000000000009},null,264.15000000000003,null,{"$f":"N_arvo*N_maara*kuljetuslaskuri!$E$87%*C79","v":59.400000000000006},{"$f":"P_arvo*P_maara*kuljetuslaskuri!$E$88%*C79","v":41.040000000000006},{"$f":"K_arvo*K_maara*kuljetuslaskuri!$E$89%*C79","v":79.2},179.64000000000001]
[null,{"$f":"kuljetuslaskuri!$D$31","v":2500},{"$f":"kuljetuslaskuri!$D$12","v":30},{"$f":"kuljetuslaskuri!$D$33","v":14},{"$f":"kuljetuslaskuri!$D$34","v":4000},12,2.1428571428571428,7.5,2,{"$f":"kuljetuslaskuri!$D$35","v":0},21.5,0.71666666666666667,null,1.3953488372093024,null,{"$f":"IF(kuljetuslaskuri!$H$17,kuljetuslaskuri!$D$17,0)","v":25},{"$f":"IF(kuljetuslaskuri!$H$18,kuljetuslaskuri!$D$18,0)","v":0},{"$f":"IF(kuljetuslaskuri!$G$19,kuljetuslaskuri!#REF!,0)","v":0},{"$f":"AVERAGE(IF(P80:R80<>0, P80:R80,\"\"))","v":25},{"$f":"S80*kuljetuslaskuri!$D$19%","v":23.75},16.75,{"$f":"kuljetuslaskuri!$D$24%","v":0},15.94,50,159.2815162121112,7.6923076923076925,7.5,{"$f":"kuljetuslaskuri!$D$25*(laskentapohja!C80/laskentapohja!T80)","v":2.5263157894736841},177.00013969389255,5.9000046564630848,0.16949139165586297,null,177.00013969389255,0.16949139165586297,null,0.78242011443258264,-1.2258574455534395,null,null,null,null,null,null,null,null,null,null,{"$f":"IF(kuljetuslaskuri!$H$45,kuljetuslaskuri!$D$45,0)","v":20},{"$f":"IF(kuljetuslaskuri!$H$46,kuljetuslaskuri!$D$46,0)","v":0},{"$f":"IF(kuljetuslaskuri!$G$19,kuljetuslaskuri!#REF!,0)","v":0},{"$f":"AVERAGE(IF(AV80:AX80<>0, AV80:AX80,\"\"))","v":20},{"$f":"AY80*kuljetuslaskuri!$D$47%","v":19},16.75,{"$f":"kuljetuslaskuri!$D$52%","v":0},15.94,50,199.10189526513904,7.5,7.5,{"$f":"kuljetuslaskuri!$D$53*(laskentapohja!C80/laskentapohja!AZ80)","v":3.1578947368421053},217.25979000198114,12,229.25979000198114,7.6419930000660381,0.13085591677345929,null,103.25008148810399,224.20017694559724,327.45025843370121,null,0.39,195.97500000000002,null,{"$f":"kuljetuslaskuri!$D$74","v":71.100000000000009},null,267.07500000000005,null,{"$f":"N_arvo*N_maara*kuljetuslaskuri!$E$87%*C80","v":59.400000000000006},{"$f":"P_arvo*P_maara*kuljetuslaskuri!$E$88%*C80","v":41.040000000000006},{"$f":"K_arvo*K_maara*kuljetuslaskuri!$E$89%*C80","v":79.2},179.64000000000001]
[null,{"$f":"kuljetuslaskuri!$D$31","v":2500},{"$f":"kuljetuslaskuri!$D$12","v":30},{"$f":"kuljetuslaskuri!$D$33","v":14},{"$f":"kuljetuslaskuri!$D$34","v":4000},12,2.1428571428571428,7.5,2,{"$f":"kuljetuslaskuri!$D$35","v":0},21.5,0.71666666666666667,null,1.3953488372093024,null,{"$f":"IF(kuljetuslaskuri!$H$17,kuljetuslaskuri!$D$17,0)","v":25},{"$f":"IF(kuljetuslaskuri!$H$18,kuljetuslaskuri!$D$18,0)","v":0},{"$f":"IF(kuljetuslaskuri!$G$19,kuljetuslaskuri!#REF!,0)","v":0},{"$f":"AVERAGE(IF(P81:R81<>0, P81:R81,\"\"))","v":25},{"$f":"S81*kuljetuslaskuri!$D$19%","v":23.75},17,{"$f":"kuljetuslaskuri!$D$24%","v":0},15.94,50,161.65885227497853,7.6923076923076925,7.5,{"$f":"kuljetuslaskuri!$D$25*(laskentapohja!C81/laskentapohja!T81)","v":2.5263157894736841},179.37747575675988,5.9792491918919959,0.16724507842155564,null,179.37747575675988,0.16724507842155564,null,0.78129695781542896,-1.2281037587877468,null,null,null,null,null,null,null,null,null,null,{"$f":"IF(kuljetuslaskuri!$H$45,kuljetuslaskuri!$D$45,0)","v":20},{"$f":"IF(kuljetuslaskuri!$H$46,kuljetuslaskuri!$D$46,0)","v":0},{"$f":"IF(kuljetuslaskuri!$G$19,kuljetuslaskuri!#REF!,0)","v":0},{"$f":"AVERAGE(IF(AV81:AX81<>0, AV81:AX81,\"\"))","v":20},{"$f":"AY81*kuljetuslaskuri!$D$47%","v":19},17,{"$f":"kuljetuslaskuri!$D$52%","v":0},15.94,50,202.07356534372317,7.5,7.5,{"$f":"kuljetuslaskuri!$D$53*(laskentapohja!C81/laskentapohja!AZ81)","v":3.1578947368421053},220.23146008056528,12,232.23146008056528,7.7410486693521765,0.12918146399972019,null,104.63686085810993,227.21146929189584,331.84833015000578,null,0.39,198.9,null,{"$f":"kuljetuslaskuri!$D$74","v":71.100000000000009},null,270,null,{"$f":"N_arvo*N_maara*kuljetuslaskuri!$E$87%*C81","v":59.400000000000006},{"$f":"P_arvo*P_maara*kuljetuslaskuri!$E$88%*C81","v":41.040000000000006},{"$f":"K_arvo*K_maara*kuljetuslaskuri!$E$89%*C81","v":79.2},179.64000000000001]
[null,{"$f":"kuljetuslaskuri!$D$31","v":2500},{"$f":"kuljetuslaskuri!$D$12","v":30},{"$f":"kuljetuslaskuri!$D$33","v":14},{"$f":"kuljetuslaskuri!$D$34","v":4000},12,2.1428571428571428,7.5,2,{"$f":"kuljetuslaskuri!$D$35","v":0},21.5,0.71666666666666667,null,1.3953488372093024,null,{"$f":"IF(kuljetuslaskuri!$H$17,kuljetuslaskuri!$D$17,0)","v":25},{"$f":"IF(kuljetuslaskuri!$H$18,kuljetuslaskuri!$D$18,0)","v":0},{"$f":"IF(kuljetuslaskuri!$G$19,kuljetuslaskuri!#REF!,0)","v":0},{"$f":"AVERAGE(IF(P82:R82<>0, P82:R82,\"\"))","v":25},{"$f":"S82*kuljetuslaskuri!$D$19%","v":23.75},17.25,{"$f":"kuljetuslaskuri!$D$24%","v":0},15.94,50,164.03618833784586,7.6923076923076925,7.5,{"$f":"kuljetuslaskuri!$D$25*(laskentapohja!C82/laskentapohja!T82)","v":2.5263157894736841},181.75481181962721,6.058493727320907,0.16505752832432236,null,181.75481181962721,0.16505752832432236,null,0.78020318276681233,-1.2302913088849801,null,null,null,null,null,null,null,null,null,null,{"$f":"IF(kuljetuslaskuri!$H$45,kuljetuslaskuri!$D$45,0)","v":20},{"$f":"IF(kuljetuslaskuri!$H$46,kuljetuslaskuri!$D$46,0)","v":0},{"$f":"IF(kuljetuslaskuri!$G$19,kuljetuslaskuri!#REF!,0)","v":0},{"$f":"AVERAGE(IF(AV82:AX82<>0, AV82:AX82,\"\"))","v":20},{"$f":"AY82*kuljetuslaskuri!$D$47%","v":19},17.25,{"$f":"kuljetuslaskuri!$D$52%","v":0},15.94,50,205.04523542230734,7.5,7.5,{"$f":"kuljetuslaskuri!$D$53*(laskentapohja!C82/laskentapohja!AZ82)","v":3.1578947368421053},223.20313015914945,12,235.20313015914945,7.8401043386383149,0.12754932291802662,null,106.02364022811587,230.22276163819447,336.24640186631035,null,0.39,201.82500000000002,null,{"$f":"kuljetuslaskuri!$D$74","v":71.100000000000009},null,272.92500000000001,null,{"$f":"N_arvo*N_maara*kuljetuslaskuri!$E$87%*C82","v":59.400000000000006},{"$f":"P_arvo*P_maara*kuljetuslaskuri!$E$88%*C82","v":41.040000000000006},{"$f":"K_arvo*K_maara*kuljetuslaskuri!$E$89%*C82","v":79.2},179.64000000000001]
[null,{"$f":"kuljetuslaskuri!$D$31","v":2500},{"$f":"kuljetuslaskuri!$D$12","v":30},{"$f":"kuljetuslaskuri!$D$33","v":14},{"$f":"kuljetuslaskuri!$D$34","v":4000},12,2.1428571428571428,7.5,2,{"$f":"kuljetuslaskuri!$D$35","v":0},21.5,0.71666666666666667,null,1.3953488372093024,null,{"$f":"IF(kuljetuslaskuri!$H$17,kuljetuslaskuri!$D$17,0)","v":25},{"$f":"IF(kuljetuslaskuri!$H$18,kuljetuslaskuri!$D$18,0)","v":0},{"$f":"IF(kuljetuslaskuri!$G$19,kuljetuslaskuri!#REF!,0)","v":0},{"$f":"AVERAGE(IF(P83:R83<>0, P83:R83,\"\"))","v":25},{"$f":"S83*kuljetuslaskuri!$D$19%","v":23.75},17.5,{"$f":"kuljetuslaskuri!$D$24%","v":0},15.94,50,166.41352440071319,7.6923076923076925,7.5,{"$f":"kuljetuslaskuri!$D$25*(laskentapohja!C83/laskentapohja!T83)","v":2.5263157894736841},184.13214788249454,6.137738262749818,0.16292646528592469,null,184.13214788249454,0.16292646528592469,null,0.77913765124761358,-1.2324223719233776,null,null,null,null,null,null,null,null,null,null,{"$f":"IF(kuljetuslaskuri!$H$45,kuljetuslaskuri!$D$45,0)","v":20},{"$f":"IF(kuljetuslaskuri!$H$46,kuljetuslaskuri!$D$46,0)","v":0},{"$f":"IF(kuljetuslaskuri!$G$19,kuljetuslaskuri!#REF!,0)","v":0},{"$f":"AVERAGE(IF(AV83:AX83<>0, AV83:AX83,\"\"))","v":20},{"$f":"AY83*kuljetuslaskuri!$D$47%","v":19},17.5,{"$f":"kuljetuslaskuri!$D$52%","v":0},15.94,50,208.01690550089151,7.5,7.5,{"$f":"kuljetuslaskuri!$D$53*(laskentapohja!C83/laskentapohja!AZ83)","v":3.1578947368421053},226.17480023773362,12,238.17480023773362,7.9391600079244542,0.1259579097791016,null,107.41041959812182,233.23405398449307,340.64447358261486,null,0.39,204.75000000000003,null,{"$f":"kuljetuslaskuri!$D$74","v":71.100000000000009},null,275.85000000000002,null,{"$f":"N_arvo*N_maara*kuljetuslaskuri!$E$87%*C83","v":59.400000000000006},{"$f":"P_arvo*P_maara*kuljetuslaskuri!$E$88%*C83","v":41.040000000000006},{"$f":"K_arvo*K_maara*kuljetuslaskuri!$E$89%*C83","v":79.2},179.64000000000001]
[null,{"$f":"kuljetuslaskuri!$D$31","v":2500},{"$f":"kuljetuslaskuri!$D$12","v":30},{"$f":"kuljetuslaskuri!$D$33","v":14},{"$f":"kuljetuslaskuri!$D$34","v":4000},12,2.1428571428571428,7.5,2,{"$f":"kuljetuslaskuri!$D$35","v":0},21.5,0.71666666666666667,null,1.3953488372093024,null,{"$f":"IF(kuljetuslaskuri!$H$17,kuljetuslaskuri!$D$17,0)","v":25},{"$f":"IF(kuljetuslaskuri!$H$18,kuljetuslaskuri!$D$18,0)","v":0},{"$f":"IF(kuljetuslaskuri!$G$19,kuljetuslaskuri!#REF!,0)","v":0},{"$f":"AVERAGE(IF(P84:R84<>0, P84:R84,\"\"))","v":25},{"$f":"S84*kuljetuslaskuri!$D$19%","v":23.75},17.75,{"$f":"kuljetuslaskuri!$D$24%","v":0},15.94,50,168.79086046358051,7.6923076923076925,7.5,{"$f":"kuljetuslaskuri!$D$25*(laskentapohja!C84/laskentapohja!T84)","v":2.5263157894736841},186.50948394536186,6.2169827981787291,0.16084972927590388,null,186.50948394536186,0.16084972927590388,null,0.77809928324260313,-1.2344991079333985,null,null,null,null,null,null,null,null,null,null,{"$f":"IF(kuljetuslaskuri!$H$45,kuljetuslaskuri!$D$45,0)","v":20},{"$f":"IF(kuljetuslaskuri!$H$46,kuljetuslaskuri!$D$46,0)","v":0},{"$f":"IF(kuljetuslaskuri!$G$19,kuljetuslaskuri!#REF!,0)","v":0},{"$f":"AVERAGE(IF(AV84:AX84<>0, AV84:AX84,\"\"))","v":20},{"$f":"AY84*kuljetuslaskuri!$D$47%","v":19},17.75,{"$f":"kuljetuslaskuri!$D$52%","v":0},15.94,50,210.98857557947565,7.5,7.5,{"$f":"kuljetuslaskuri!$D$53*(laskentapohja!C84/laskentapohja!AZ84)","v":3.1578947368421053},229.14647031631776,12,241.14647031631776,8.0382156772105926,0.12440571890041874,null,108.79719896812776,236.2453463307917,345.04254529891944,null,0.39,207.67500000000001,null,{"$f":"kuljetuslaskuri!$D$74","v":71.100000000000009},null,278.77500000000003,null,{"$f":"N_arvo*N_maara*kuljetuslaskuri!$E$87%*C84","v":59.400000000000006},{"$f":"P_arvo*P_maara*kuljetuslaskuri!$E$88%*C84","v":41.040000000000006},{"$f":"K_arvo*K_maara*kuljetuslaskuri!$E$89%*C84","v":79.2},179.64000000000001]
[null,{"$f":"kuljetuslaskuri!$D$31","v":2500},{"$f":"kuljetuslaskuri!$D$12","v":30},{"$f":"kuljetuslaskuri!$D$33","v":14},{"$f":"kuljetuslaskuri!$D$34","v":4000},12,2.1428571428571428,7.5,2,{"$f":"kuljetuslaskuri!$D$35","v":0},21.5,0.71666666666666667,null,1.3953488372093024,null,{"$f":"IF(kuljetuslaskuri!$H$17,kuljetuslaskuri!$D$17,0)","v":25},{"$f":"IF(kuljetuslaskuri!$H$18,kuljetuslaskuri!$D$18,0)","v":0},{"$f":"IF(kuljetuslaskuri!$G$19,kuljetuslaskuri!#REF!,0)","v":0},{"$f":"AVERAGE(IF(P85:R85<>0, P85:R85,\"\"))","v":25},{"$f":"S85*kuljetuslaskuri!$D$19%","v":23.75},18,{"$f":"kuljetuslaskuri!$D$24%","v":0},15.94,50,171.16819652644784,7.6923076923076925,7.5,{"$f":"kuljetuslaskuri!$D$25*(laskentapohja!C85/laskentapohja!T85)","v":2.5263157894736841},188.88682000822919,6.2962273336076402,0.15882526900867405,null,188.88682000822919,0.15882526900867405,null,0.77708705310898818,-1.2365235682006284,null,null,null,null,null,null,null,null,null,null,{"$f":"IF(kuljetuslaskuri!$H$45,kuljetuslaskuri!$D$45,0)","v":20},{"$f":"IF(kuljetuslaskuri!$H$46,kuljetuslaskuri!$D$46,0)","v":0},{"$f":"IF(kuljetuslaskuri!$G$19,kuljetuslaskuri!#REF!,0)","v":0},{"$f":"AVERAGE(IF(AV85:AX85<>0, AV85:AX85,\"\"))","v":20},{"$f":"AY85*kuljetuslaskuri!$D$47%","v":19},18,{"$f":"kuljetuslaskuri!$D$52%","v":0},15.94,50,213.96024565805982,7.5,7.5,{"$f":"kuljetuslaskuri!$D$53*(laskentapohja!C85/laskentapohja!AZ85)","v":3.1578947368421053},232.11814039490193,12,244.11814039490193,8.1372713464967301,0.12289131791463749,null,110.1839783381337,239.25663867709034,349.44061701522401,null,0.39,210.60000000000002,null,{"$f":"kuljetuslaskuri!$D$74","v":71.100000000000009},null,281.70000000000005,null,{"$f":"N_arvo*N_maara*kuljetuslaskuri!$E$87%*C85","v":59.400000000000006},{"$f":"P_arvo*P_maara*kuljetuslaskuri!$E$88%*C85","v":41.040000000000006},{"$f":"K_arvo*K_maara*kuljetuslaskuri!$E$89%*C85","v":79.2},179.64000000000001]
[null,{"$f":"kuljetuslaskuri!$D$31","v":2500},{"$f":"kuljetuslaskuri!$D$12","v":30},{"$f":"kuljetuslaskuri!$D$33","v":14},{"$f":"kuljetuslaskuri!$D$34","v":4000},12,2.1428571428571428,7.5,2,{"$f":"kuljetuslaskuri!$D$35","v":0},21.5,0.71666666666666667,null,1.3953488372093024,null,{"$f":"IF(kuljetuslaskuri!$H$17,kuljetuslaskuri!$D$17,0)","v":25},{"$f":"IF(kuljetuslaskuri!$H$18,kuljetuslaskuri!$D$18,0)","v":0},{"$f":"IF(kuljetuslaskuri!$G$19,kuljetuslaskuri!#REF!,0)","v":0},{"$f":"AVERAGE(IF(P86:R86<>0, P86:R86,\"\"))","v":25},{"$f":"S86*kuljetuslaskuri!$D$19%","v":23.75},18.25,{"$f":"kuljetuslaskuri!$D$24%","v":0},15.94,50,173.5455325893152,7.6923076923076925,7.5,{"$f":"kuljetuslaskuri!$D$25*(laskentapohja!C86/laskentapohja!T86)","v":2.5263157894736841},191.26415607109655,6.3754718690365513,0.15685113518524835,null,191.26415607109655,0.15685113518524835,null,0.77609998619727538,-1.238497702024054,null,null,null,null,null,null,null,null,null,null,{"$f":"IF(kuljetuslaskuri!$H$45,kuljetuslaskuri!$D$45,0)","v":20},{"$f":"IF(kuljetuslaskuri!$H$46,kuljetuslaskuri!$D$46,0)","v":0},{"$f":"IF(kuljetuslaskuri!$G$19,kuljetuslaskuri!#REF!,0)","v":0},{"$f":"AVERAGE(IF(AV86:AX86<>0, AV86:AX86,\"\"))","v":20},{"$f":"AY86*kuljetuslaskuri!$D$47%","v":19},18.25,{"$f":"kuljetuslaskuri!$D$52%","v":0},15.94,50,216.93191573664402,7.5,7.5,{"$f":"kuljetuslaskuri!$D$53*(laskentapohja!C86/laskentapohja!AZ86)","v":3.1578947368421053},235.08981047348612,12,247.08981047348612,8.2363270157828712,0.12141334336091184,null,111.57075770813965,242.26793102338894,353.83868873152858,null,0.39,213.52500000000001,null,{"$f":"kuljetuslaskuri!$D$74","v":71.100000000000009},null,284.625,null,{"$f":"N_arvo*N_maara*kuljetuslaskuri!$E$87%*C86","v":59.400000000000006},{"$f":"P_arvo*P_maara*kuljetuslaskuri!$E$88%*C86","v":41.040000000000006},{"$f":"K_arvo*K_maara*kuljetuslaskuri!$E$89%*C86","v":79.2},179.64000000000001]
[null,{"$f":"kuljetuslaskuri!$D$31","v":2500},{"$f":"kuljetuslaskuri!$D$12","v":30},{"$f":"kuljetuslaskuri!$D$33","v":14},{"$f":"kuljetuslaskuri!$D$34","v":4000},12,2.1428571428571428,7.5,2,{"$f":"kuljetuslaskuri!$D$35","v":0},21.5,0.71666666666666667,null,1.3953488372093024,null,{"$f":"IF(kuljetuslaskuri!$H$17,kuljetuslaskuri!$D$17,0)","v":25},{"$f":"IF(kuljetuslaskuri!$H$18,kuljetuslaskuri!$D$18,0)","v":0},{"$f":"IF(kuljetuslaskuri!$G$19,kuljetuslaskuri!#REF!,0)","v":0},{"$f":"AVERAGE(IF(P87:R87<>0, P87:R87,\"\"))","v":25},{"$f":"S87*kuljetuslaskuri!$D$19%","v":23.75},18.5,{"$f":"kuljetuslaskuri!$D$24%","v":0},15.94,50,175.92286865218253,7.6923076923076925,7.5,{"$f":"kuljetuslaskuri!$D$25*(laskentapohja!C87/laskentapohja!T87)","v":2.5263157894736841},193.64149213396388,6.4547164044654624,0.15492547423279296,null,193.64149213396388,0.15492547423279296,null,0.77513715572104769,-1.2404233629765093,null,null,null,null,null,null,null,null,null,null,{"$f":"IF(kuljetuslaskuri!$H$45,kuljetuslaskuri!$D$45,0)","v":20},{"$f":"IF(kuljetuslaskuri!$H$46,kuljetuslaskuri!$D$46,0)","v":0},{"$f":"IF(kuljetuslaskuri!$G$19,kuljetuslaskuri!#REF!,0)","v":0},{"$f":"AVERAGE(IF(AV87:AX87<>0, AV87:AX87,\"\"))","v":20},{"$f":"AY87*kuljetuslaskuri!$D$47%","v":19},18.5,{"$f":"kuljetuslaskuri!$D$52%","v":0},15.94,50,219.90358581522818,7.5,7.5,{"$f":"kuljetuslaskuri!$D$53*(laskentapohja!C87/laskentapohja!AZ87)","v":3.1578947368421053},238.06148055207029,12,250.06148055207029,8.3353826850690105,0.11997049659054985,null,112.95753707814559,245.27922336968757,358.23676044783315,null,0.39,216.45000000000002,null,{"$f":"kuljetuslaskuri!$D$74","v":71.100000000000009},null,287.55,null,{"$f":"N_arvo*N_maara*kuljetuslaskuri!$E$87%*C87","v":59.400000000000006},{"$f":"P_arvo*P_maara*kuljetuslaskuri!$E$88%*C87","v":41.040000000000006},{"$f":"K_arvo*K_maara*kuljetuslaskuri!$E$89%*C87","v":79.2},179.64000000000001]
[null,{"$f":"kuljetuslaskuri!$D$31","v":2500},{"$f":"kuljetuslaskuri!$D$12","v":30},{"$f":"kuljetuslaskuri!$D$33","v":14},{"$f":"kuljetuslaskuri!$D$34","v":4000},12,2.1428571428571428,7.5,2,{"$f":"kuljetuslaskuri!$D$35","v":0},21.5,0.71666666666666667,null,1.3953488372093024,null,{"$f":"IF(kuljetuslaskuri!$H$17,kuljetuslaskuri!$D$17,0)","v":25},{"$f":"IF(kuljetuslaskuri!$H$18,kuljetuslaskuri!$D$18,0)","v":0},{"$f":"IF(kuljetuslaskuri!$G$19,kuljetuslaskuri!#REF!,0)","v":0},{"$f":"AVERAGE(IF(P88:R88<>0, P88:R88,\"\"))","v":25},{"$f":"S88*kuljetuslaskuri!$D$19%","v":23.75},18.75,{"$f":"kuljetuslaskuri!$D$24%","v":0},15.94,50,178.30020471504986,7.6923076923076925,7.5,{"$f":"kuljetuslaskuri!$D$25*(laskentapohja!C88/laskentapohja!T88)","v":2.5263157894736841},196.01882819683121,6.5339609398943734,0.15304652249974512,null,196.01882819683121,0.15304652249974512,null,0.7741976798545237,-1.2423023147095573,null,null,null,null,null,null,null,null,null,null,{"$f":"IF(kuljetuslaskuri!$H$45,kuljetuslaskuri!$D$45,0)","v":20},{"$f":"IF(kuljetuslaskuri!$H$46,kuljetuslaskuri!$D$46,0)","v":0},{"$f":"IF(kuljetuslaskuri!$G$19,kuljetuslaskuri!#REF!,0)","v":0},{"$f":"AVERAGE(IF(AV88:AX88<>0, AV88:AX88,\"\"))","v":20},{"$f":"AY88*kuljetuslaskuri!$D$47%","v":19},18.75,{"$f":"kuljetuslaskuri!$D$52%","v":0},15.94,50,222.87525589381235,7.5,7.5,{"$f":"kuljetuslaskuri!$D$53*(laskentapohja!C88/laskentapohja!AZ88)","v":3.1578947368421053},241.03315063065446,12,253.03315063065446,8.434438354355148,0.11856153996118152,null,114.34431644815153,248.2905157159862,362.63483216413772,null,0.39,219.37500000000003,null,{"$f":"kuljetuslaskuri!$D$74","v":71.100000000000009},null,290.47500000000002,null,{"$f":"N_arvo*N_maara*kuljetuslaskuri!$E$87%*C88","v":59.400000000000006},{"$f":"P_arvo*P_maara*kuljetuslaskuri!$E$88%*C88","v":41.040000000000006},{"$f":"K_arvo*K_maara*kuljetuslaskuri!$E$89%*C88","v":79.2},179.64000000000001]
[null,{"$f":"kuljetuslaskuri!$D$31","v":2500},{"$f":"kuljetuslaskuri!$D$12","v":30},{"$f":"kuljetuslaskuri!$D$33","v":14},{"$f":"kuljetuslaskuri!$D$34","v":4000},12,2.1428571428571428,7.5,2,{"$f":"kuljetuslaskuri!$D$35","v":0},21.5,0.71666666666666667,null,1.3953488372093024,null,{"$f":"IF(kuljetuslaskuri!$H$17,kuljetuslaskuri!$D$17,0)","v":25},{"$f":"IF(kuljetuslaskuri!$H$18,kuljetuslaskuri!$D$18,0)","v":0},{"$f":"IF(kuljetuslaskuri!$G$19,kuljetuslaskuri!#REF!,0)","v":0},{"$f":"AVERAGE(IF(P89:R89<>0, P89:R89,\"\"))","v":25},{"$f":"S89*kuljetuslaskuri!$D$19%","v":23.75},19,{"$f":"kuljetuslaskuri!$D$24%","v":0},15.94,50,180.67754077791719,7.6923076923076925,7.5,{"$f":"kuljetuslaskuri!$D$25*(laskentapohja!C89/laskentapohja!T89)","v":2.5263157894736841},198.39616425969854,6.6132054753232845,0.15121260086828245,null,198.39616425969854,0.15121260086828245,null,0.77328071903879236,-1.24413623634102,null,null,null,null,null,null,null,null,null,null,{"$f":"IF(kuljetuslaskuri!$H$45,kuljetuslaskuri!$D$45,0)","v":20},{"$f":"IF(kuljetuslaskuri!$H$46,kuljetuslaskuri!$D$46,0)","v":0},{"$f":"IF(kuljetuslaskuri!$G$19,kuljetuslaskuri!#REF!,0)","v":0},{"$f":"AVERAGE(IF(AV89:AX89<>0, AV89:AX89,\"\"))","v":20},{"$f":"AY89*kuljetuslaskuri!$D$47%","v":19},19,{"$f":"kuljetuslaskuri!$D$52%","v":0},15.94,50,225.84692597239649,7.5,7.5,{"$f":"kuljetuslaskuri!$D$53*(laskentapohja!C89/laskentapohja!AZ89)","v":3.1578947368421053},244.0048207092386,12,256.00482070923863,8.5334940236412873,0.1171852932959921,null,115.73109581815748,251.30180806228481,367.03290388044229,null,0.39,222.3,null,{"$f":"kuljetuslaskuri!$D$74","v":71.100000000000009},null,293.40000000000003,null,{"$f":"N_arvo*N_maara*kuljetuslaskuri!$E$87%*C89","v":59.400000000000006},{"$f":"P_arvo*P_maara*kuljetuslaskuri!$E$88%*C89","v":41.040000000000006},{"$f":"K_arvo*K_maara*kuljetuslaskuri!$E$89%*C89","v":79.2},179.64000000000001]
[null,{"$f":"kuljetuslaskuri!$D$31","v":2500},{"$f":"kuljetuslaskuri!$D$12","v":30},{"$f":"kuljetuslaskuri!$D$33","v":14},{"$f":"kuljetuslaskuri!$D$34","v":4000},12,2.1428571428571428,7.5,2,{"$f":"kuljetuslaskuri!$D$35","v":0},21.5,0.71666666666666667,null,1.3953488372093024,null,{"$f":"IF(kuljetuslaskuri!$H$17,kuljetuslaskuri!$D$17,0)","v":25},{"$f":"IF(kuljetuslaskuri!$H$18,kuljetuslaskuri!$D$18,0)","v":0},{"$f":"IF(kuljetuslaskuri!$G$19,kuljetuslaskuri!#REF!,0)","v":0},{"$f":"AVERAGE(IF(P90:R90<>0, P90:R90,\"\"))","v":25},{"$f":"S90*kuljetuslaskuri!$D$19%","v":23.75},19.25,{"$f":"kuljetuslaskuri!$D$24%","v":0},15.94,50,183.05487684078452,7.6923076923076925,7.5,{"$f":"kuljetuslaskuri!$D$25*(laskentapohja!C90/laskentapohja!T90)","v":2.5263157894736841},200.77350032256587,6.6924500107521956,0.14942210974955125,null,200.77350032256587,0.14942210974955125,null,0.77238547347942677,-1.2459267274597512,null,null,null,null,null,null,null,null,null,null,{"$f":"IF(kuljetuslaskuri!$H$45,kuljetuslaskuri!$D$45,0)","v":20},{"$f":"IF(kuljetuslaskuri!$H$46,kuljetuslaskuri!$D$46,0)","v":0},{"$f":"IF(kuljetuslaskuri!$G$19,kuljetuslaskuri!#REF!,0)","v":0},{"$f":"AVERAGE(IF(AV90:AX90<>0, AV90:AX90,\"\"))","v":20},{"$f":"AY90*kuljetuslaskuri!$D$47%","v":19},19.25,{"$f":"kuljetuslaskuri!$D$52%","v":0},15.94,50,228.81859605098066,7.5,7.5,{"$f":"kuljetuslaskuri!$D$53*(laskentapohja!C90/laskentapohja!AZ90)","v":3.1578947368421053},246.97649078782277,12,258.97649078782274,8.6325496929274248,0.11584063058673054,null,117.11787518816342,254.31310040858344,371.43097559674686,null,0.39,225.22500000000002,null,{"$f":"kuljetuslaskuri!$D$74","v":71.100000000000009},null,296.32500000000005,null,{"$f":"N_arvo*N_maara*kuljetuslaskuri!$E$87%*C90","v":59.400000000000006},{"$f":"P_arvo*P_maara*kuljetuslaskuri!$E$88%*C90","v":41.040000000000006},{"$f":"K_arvo*K_maara*kuljetuslaskuri!$E$89%*C90","v":79.2},179.64000000000001]
[null,{"$f":"kuljetuslaskuri!$D$31","v":2500},{"$f":"kuljetuslaskuri!$D$12","v":30},{"$f":"kuljetuslaskuri!$D$33","v":14},{"$f":"kuljetuslaskuri!$D$34","v":4000},12,2.1428571428571428,7.5,2,{"$f":"kuljetuslaskuri!$D$35","v":0},21.5,0.71666666666666667,null,1.3953488372093024,null,{"$f":"IF(kuljetuslaskuri!$H$17,kuljetuslaskuri!$D$17,0)","v":25},{"$f":"IF(kuljetuslaskuri!$H$18,kuljetuslaskuri!$D$18,0)","v":0},{"$f":"IF(kuljetuslaskuri!$G$19,kuljetuslaskuri!#REF!,0)","v":0},{"$f":"AVERAGE(IF(P91:R91<>0, P91:R91,\"\"))","v":25},{"$f":"S91*kuljetuslaskuri!$D$19%","v":23.75},19.5,{"$f":"kuljetuslaskuri!$D$24%","v":0},15.94,50,185.43221290365184,7.6923076923076925,7.5,{"$f":"kuljetuslaskuri!$D$25*(laskentapohja!C91/laskentapohja!T91)","v":2.5263157894736841},203.15083638543319,6.7716945461811067,0.14767352443029927,null,203.15083638543319,0.14767352443029927,null,0.77151118081980086,-1.247675312779003,null,null,null,null,null,null,null,null,null,null,{"$f":"IF(kuljetuslaskuri!$H$45,kuljetuslaskuri!$D$45,0)","v":20},{"$f":"IF(kuljetuslaskuri!$H$46,kuljetuslaskuri!$D$46,0)","v":0},{"$f":"IF(kuljetuslaskuri!$G$19,kuljetuslaskuri!#REF!,0)","v":0},{"$f":"AVERAGE(IF(AV91:AX91<>0, AV91:AX91,\"\"))","v":20},{"$f":"AY91*kuljetuslaskuri!$D$47%","v":19},19.5,{"$f":"kuljetuslaskuri!$D$52%","v":0},15.94,50,231.79026612956483,7.5,7.5,{"$f":"kuljetuslaskuri!$D$53*(laskentapohja!C91/laskentapohja!AZ91)","v":3.1578947368421053},249.94816086640694,12,261.94816086640697,8.7316053622135659,0.1145264769211338,null,118.50465455816936,257.32439275488207,375.82904731305143,null,0.39,228.15000000000003,null,{"$f":"kuljetuslaskuri!$D$74","v":71.100000000000009},null,299.25000000000006,null,{"$f":"N_arvo*N_maara*kuljetuslaskuri!$E$87%*C91","v":59.400000000000006},{"$f":"P_arvo*P_maara*kuljetuslaskuri!$E$88%*C91","v":41.040000000000006},{"$f":"K_arvo*K_maara*kuljetuslaskuri!$E$89%*C91","v":79.2},179.64000000000001]
[null,{"$f":"kuljetuslaskuri!$D$31","v":2500},{"$f":"kuljetuslaskuri!$D$12","v":30},{"$f":"kuljetuslaskuri!$D$33","v":14},{"$f":"kuljetuslaskuri!$D$34","v":4000},12,2.1428571428571428,7.5,2,{"$f":"kuljetuslaskuri!$D$35","v":0},21.5,0.71666666666666667,null,1.3953488372093024,null,{"$f":"IF(kuljetuslaskuri!$H$17,kuljetuslaskuri!$D$17,0)","v":25},{"$f":"IF(kuljetuslaskuri!$H$18,kuljetuslaskuri!$D$18,0)","v":0},{"$f":"IF(kuljetuslaskuri!$G$19,kuljetuslaskuri!#REF!,0)","v":0},{"$f":"AVERAGE(IF(P92:R92<>0, P92:R92,\"\"))","v":25},{"$f":"S92*kuljetuslaskuri!$D$19%","v":23.75},19.75,{"$f":"kuljetuslaskuri!$D$24%","v":0},15.94,50,187.80954896651917,7.6923076923076925,7.5,{"$f":"kuljetuslaskuri!$D$25*(laskentapohja!C92/laskentapohja!T92)","v":2.5263157894736841},205.52817244830052,6.8509390816100177,0.14596539074246054,null,205.52817244830052,0.14596539074246054,null,0.77065711397588144,-1.2493834464668419,null,null,null,null,null,null,null,null,null,null,{"$f":"IF(kuljetuslaskuri!$H$45,kuljetuslaskuri!$D$45,0)","v":20},{"$f":"IF(kuljetuslaskuri!$H$46,kuljetuslaskuri!$D$46,0)","v":0},{"$f":"IF(kuljetuslaskuri!$G$19,kuljetuslaskuri!#REF!,0)","v":0},{"$f":"AVERAGE(IF(AV92:AX92<>0, AV92:AX92,\"\"))","v":20},{"$f":"AY92*kuljetuslaskuri!$D$47%","v":19},19.75,{"$f":"kuljetuslaskuri!$D$52%","v":0},15.94,50,234.76193620814897,7.5,7.5,{"$f":"kuljetuslaskuri!$D$53*(laskentapohja!C92/laskentapohja!AZ92)","v":3.1578947368421053},252.91983094499108,12,264.91983094499108,8.8306610314997034,0.11324180561714652,null,119.89143392817532,260.33568510118067,380.227119029356,null,0.39,231.07500000000002,null,{"$f":"kuljetuslaskuri!$D$74","v":71.100000000000009},null,302.17500000000001,null,{"$f":"N_arvo*N_maara*kuljetuslaskuri!$E$87%*C92","v":59.400000000000006},{"$f":"P_arvo*P_maara*kuljetuslaskuri!$E$88%*C92","v":41.040000000000006},{"$f":"K_arvo*K_maara*kuljetuslaskuri!$E$89%*C92","v":79.2},179.64000000000001]
[null,{"$f":"kuljetuslaskuri!$D$31","v":2500},{"$f":"kuljetuslaskuri!$D$12","v":30},{"$f":"kuljetuslaskuri!$D$33","v":14},{"$f":"kuljetuslaskuri!$D$34","v":4000},12,2.1428571428571428,7.5,2,{"$f":"kuljetuslaskuri!$D$35","v":0},21.5,0.71666666666666667,null,1.3953488372093024,null,{"$f":"IF(kuljetuslaskuri!$H$17,kuljetuslaskuri!$D$17,0)","v":25},{"$f":"IF(kuljetuslaskuri!$H$18,kuljetuslaskuri!$D$18,0)","v":0},{"$f":"IF(kuljetuslaskuri!$G$19,kuljetuslaskuri!#REF!,0)","v":0},{"$f":"AVERAGE(IF(P93:R93<>0, P93:R93,\"\"))","v":25},{"$f":"S93*kuljetuslaskuri!$D$19%","v":23.75},20,{"$f":"kuljetuslaskuri!$D$24%","v":0},15.94,50,190.1868850293865,7.6923076923076925,7.5,{"$f":"kuljetuslaskuri!$D$25*(laskentapohja!C93/laskentapohja!T93)","v":2.5263157894736841},207.90550851116785,6.9301836170389288,0.14429632102984188,null,207.90550851116785,0.14429632102984188,null,0.76982257911957208,-1.2510525161794606,null,null,null,null,null,null,null,null,null,null,{"$f":"IF(kuljetuslaskuri!$H$45,kuljetuslaskuri!$D$45,0)","v":20},{"$f":"IF(kuljetuslaskuri!$H$46,kuljetuslaskuri!$D$46,0)","v":0},{"$f":"IF(kuljetuslaskuri!$G$19,kuljetuslaskuri!#REF!,0)","v":0},{"$f":"AVERAGE(IF(AV93:AX93<>0, AV93:AX93,\"\"))","v":20},{"$f":"AY93*kuljetuslaskuri!$D$47%","v":19},20,{"$f":"kuljetuslaskuri!$D$52%","v":0},15.94,50,237.73360628673313,7.5,7.5,{"$f":"kuljetuslaskuri!$D$53*(laskentapohja!C93/laskentapohja!AZ93)","v":3.1578947368421053},255.89150102357524,12,267.89150102357524,8.9297167007858409,0.1119856355478777,null,121.27821329818126,263.34697744747928,384.62519074566052,null,0.39,234.00000000000003,null,{"$f":"kuljetuslaskuri!$D$74","v":71.100000000000009},null,305.10000000000002,null,{"$f":"N_arvo*N_maara*kuljetuslaskuri!$E$87%*C93","v":59.400000000000006},{"$f":"P_arvo*P_maara*kuljetuslaskuri!$E$88%*C93","v":41.040000000000006},{"$f":"K_arvo*K_maara*kuljetuslaskuri!$E$89%*C93","v":79.2},179.64000000000001]
[null,{"$f":"kuljetuslaskuri!$D$31","v":2500},{"$f":"kuljetuslaskuri!$D$12","v":30},{"$f":"kuljetuslaskuri!$D$33","v":14},{"$f":"kuljetuslaskuri!$D$34","v":4000},12,2.1428571428571428,7.5,2,{"$f":"kuljetuslaskuri!$D$35","v":0},21.5,0.71666666666666667,null,1.3953488372093024,null,{"$f":"IF(kuljetuslaskuri!$H$17,kuljetuslaskuri!$D$17,0)","v":25},{"$f":"IF(kuljetuslaskuri!$H$18,kuljetuslaskuri!$D$18,0)","v":0},{"$f":"IF(kuljetuslaskuri!$G$19,kuljetuslaskuri!#REF!,0)","v":0},{"$f":"AVERAGE(IF(P94:R94<>0, P94:R94,\"\"))","v":25},{"$f":"S94*kuljetuslaskuri!$D$19%","v":23.75},20.25,{"$f":"kuljetuslaskuri!$D$24%","v":0},15.94,50,192.56422109225386,7.6923076923076925,7.5,{"$f":"kuljetuslaskuri!$D$25*(laskentapohja!C94/laskentapohja!T94)","v":2.5263157894736841},210.28284457403521,7.0094281524678399,0.14266499038839933,null,210.28284457403521,0.14266499038839933,null,0.76900691379885089,-1.2526838468209029,null,null,null,null,null,null,null,null,null,null,{"$f":"IF(kuljetuslaskuri!$H$45,kuljetuslaskuri!$D$45,0)","v":20},{"$f":"IF(kuljetuslaskuri!$H$46,kuljetuslaskuri!$D$46,0)","v":0},{"$f":"IF(kuljetuslaskuri!$G$19,kuljetuslaskuri!#REF!,0)","v":0},{"$f":"AVERAGE(IF(AV94:AX94<>0, AV94:AX94,\"\"))","v":20},{"$f":"AY94*kuljetuslaskuri!$D$47%","v":19},20.25,{"$f":"kuljetuslaskuri!$D$52%","v":0},15.94,50,240.70527636531733,7.5,7.5,{"$f":"kuljetuslaskuri!$D$53*(laskentapohja!C94/laskentapohja!AZ94)","v":3.1578947368421053},258.86317110215941,12,270.86317110215941,9.0287723700719802,0.11075702864264676,null,122.6649926681872,266.35826979377794,389.02326246196515,null,0.39,236.92500000000001,null,{"$f":"kuljetuslaskuri!$D$74","v":71.100000000000009},null,308.02500000000003,null,{"$f":"N_arvo*N_maara*kuljetuslaskuri!$E$87%*C94","v":59.400000000000006},{"$f":"P_arvo*P_maara*kuljetuslaskuri!$E$88%*C94","v":41.040000000000006},{"$f":"K_arvo*K_maara*kuljetuslaskuri!$E$89%*C94","v":79.2},179.64000000000001]
[null,{"$f":"kuljetuslaskuri!$D$31","v":2500},{"$f":"kuljetuslaskuri!$D$12","v":30},{"$f":"kuljetuslaskuri!$D$33","v":14},{"$f":"kuljetuslaskuri!$D$34","v":4000},12,2.1428571428571428,7.5,2,{"$f":"kuljetuslaskuri!$D$35","v":0},21.5,0.71666666666666667,null,1.3953488372093024,null,{"$f":"IF(kuljetuslaskuri!$H$17,kuljetuslaskuri!$D$17,0)","v":25},{"$f":"IF(kuljetuslaskuri!$H$18,kuljetuslaskuri!$D$18,0)","v":0},{"$f":"IF(kuljetuslaskuri!$G$19,kuljetuslaskuri!#REF!,0)","v":0},{"$f":"AVERAGE(IF(P95:R95<>0, P95:R95,\"\"))","v":25},{"$f":"S95*kuljetuslaskuri!$D$19%","v":23.75},20.5,{"$f":"kuljetuslaskuri!$D$24%","v":0},15.94,50,194.94155715512119,7.6923076923076925,7.5,{"$f":"kuljetuslaskuri!$D$25*(laskentapohja!C95/laskentapohja!T95)","v":2.5263157894736841},212.66018063690254,7.088672687896751,0.14107013315869513,null,212.66018063690254,0.14107013315869513,null,0.76820948518399879,-1.2542787040506072,null,null,null,null,null,null,null,null,null,null,{"$f":"IF(kuljetuslaskuri!$H$45,kuljetuslaskuri!$D$45,0)","v":20},{"$f":"IF(kuljetuslaskuri!$H$46,kuljetuslaskuri!$D$46,0)","v":0},{"$f":"IF(kuljetuslaskuri!$G$19,kuljetuslaskuri!#REF!,0)","v":0},{"$f":"AVERAGE(IF(AV95:AX95<>0, AV95:AX95,\"\"))","v":20},{"$f":"AY95*kuljetuslaskuri!$D$47%","v":19},20.5,{"$f":"kuljetuslaskuri!$D$52%","v":0},15.94,50,243.6769464439015,7.5,7.5,{"$f":"kuljetuslaskuri!$D$53*(laskentapohja!C95/laskentapohja!AZ95)","v":3.1578947368421053},261.83484118074358,12,273.83484118074358,9.1278280393581195,0.10955508755074239,null,124.05177203819314,269.36956214007654,393.42133417826966,null,0.39,239.85000000000002,null,{"$f":"kuljetuslaskuri!$D$74","v":71.100000000000009},null,310.95000000000005,null,{"$f":"N_arvo*N_maara*kuljetuslaskuri!$E$87%*C95","v":59.400000000000006},{"$f":"P_arvo*P_maara*kuljetuslaskuri!$E$88%*C95","v":41.040000000000006},{"$f":"K_arvo*K_maara*kuljetuslaskuri!$E$89%*C95","v":79.2},179.64000000000001]
[null,{"$f":"kuljetuslaskuri!$D$31","v":2500},{"$f":"kuljetuslaskuri!$D$12","v":30},{"$f":"kuljetuslaskuri!$D$33","v":14},{"$f":"kuljetuslaskuri!$D$34","v":4000},12,2.1428571428571428,7.5,2,{"$f":"kuljetuslaskuri!$D$35","v":0},21.5,0.71666666666666667,null,1.3953488372093024,null,{"$f":"IF(kuljetuslaskuri!$H$17,kuljetuslaskuri!$D$17,0)","v":25},{"$f":"IF(kuljetuslaskuri!$H$18,kuljetuslaskuri!$D$18,0)","v":0},{"$f":"IF(kuljetuslaskuri!$G$19,kuljetuslaskuri!#REF!,0)","v":0},{"$f":"AVERAGE(IF(P96:R96<>0, P96:R96,\"\"))","v":25},{"$f":"S96*kuljetuslaskuri!$D$19%","v":23.75},20.75,{"$f":"kuljetuslaskuri!$D$24%","v":0},15.94,50,197.31889321798852,7.6923076923076925,7.5,{"$f":"kuljetuslaskuri!$D$25*(laskentapohja!C96/laskentapohja!T96)","v":2.5263157894736841},215.03751669976987,7.1679172233256621,0.13951053965101945,null,215.03751669976987,0.13951053965101945,null,0.76742968843016091,-1.2558382975582829,null,null,null,null,null,null,null,null,null,null,{"$f":"IF(kuljetuslaskuri!$H$45,kuljetuslaskuri!$D$45,0)","v":20},{"$f":"IF(kuljetuslaskuri!$H$46,kuljetuslaskuri!$D$46,0)","v":0},{"$f":"IF(kuljetuslaskuri!$G$19,kuljetuslaskuri!#REF!,0)","v":0},{"$f":"AVERAGE(IF(AV96:AX96<>0, AV96:AX96,\"\"))","v":20},{"$f":"AY96*kuljetuslaskuri!$D$47%","v":19},20.75,{"$f":"kuljetuslaskuri!$D$52%","v":0},15.94,50,246.64861652248567,7.5,7.5,{"$f":"kuljetuslaskuri!$D$53*(laskentapohja!C96/laskentapohja!AZ96)","v":3.1578947368421053},264.80651125932775,12,276.80651125932775,9.2268837086442588,0.1083789534556661,null,125.43855140819909,272.38085448637514,397.81940589457423,null,0.39,242.77500000000003,null,{"$f":"kuljetuslaskuri!$D$74","v":71.100000000000009},null,313.87500000000006,null,{"$f":"N_arvo*N_maara*kuljetuslaskuri!$E$87%*C96","v":59.400000000000006},{"$f":"P_arvo*P_maara*kuljetuslaskuri!$E$88%*C96","v":41.040000000000006},{"$f":"K_arvo*K_maara*kuljetuslaskuri!$E$89%*C96","v":79.2},179.64000000000001]
[null,{"$f":"kuljetuslaskuri!$D$31","v":2500},{"$f":"kuljetuslaskuri!$D$12","v":30},{"$f":"kuljetuslaskuri!$D$33","v":14},{"$f":"kuljetuslaskuri!$D$34","v":4000},12,2.1428571428571428,7.5,2,{"$f":"kuljetuslaskuri!$D$35","v":0},21.5,0.71666666666666667,null,1.3953488372093024,null,{"$f":"IF(kuljetuslaskuri!$H$17,kuljetuslaskuri!$D$17,0)","v":25},{"$f":"IF(kuljetuslaskuri!$H$18,kuljetuslaskuri!$D$18,0)","v":0},{"$f":"IF(kuljetuslaskuri!$G$19,kuljetuslaskuri!#REF!,0)","v":0},{"$f":"AVERAGE(IF(P97:R97<>0, P97:R97,\"\"))","v":25},{"$f":"S97*kuljetuslaskuri!$D$19%","v":23.75},21,{"$f":"kuljetuslaskuri!$D$24%","v":0},15.94,50,199.69622928085585,7.6923076923076925,7.5,{"$f":"kuljetuslaskuri!$D$25*(laskentapohja!C97/laskentapohja!T97)","v":2.5263157894736841},217.4148527626372,7.2471617587545731,0.13798505308536818,null,217.4148527626372,0.13798505308536818,null,0.76666694514733524,-1.2573637841239342,null,null,null,null,null,null,null,null,null,null,{"$f":"IF(kuljetuslaskuri!$H$45,kuljetuslaskuri!$D$45,0)","v":20},{"$f":"IF(kuljetuslaskuri!$H$46,kuljetuslaskuri!$D$46,0)","v":0},{"$f":"IF(kuljetuslaskuri!$G$19,kuljetuslaskuri!#REF!,0)","v":0},{"$f":"AVERAGE(IF(AV97:AX97<>0, AV97:AX97,\"\"))","v":20},{"$f":"AY97*kuljetuslaskuri!$D$47%","v":19},21,{"$f":"kuljetuslaskuri!$D$52%","v":0},15.94,50,249.62028660106981,7.5,7.5,{"$f":"kuljetuslaskuri!$D$53*(laskentapohja!C97/laskentapohja!AZ97)","v":3.1578947368421053},267.77818133791186,12,279.77818133791186,9.3259393779303945,0.10722780402867248,null,126.82533077820503,275.3921468326738,402.21747761087886,null,0.39,245.70000000000002,null,{"$f":"kuljetuslaskuri!$D$74","v":71.100000000000009},null,316.8,null,{"$f":"N_arvo*N_maara*kuljetuslaskuri!$E$87%*C97","v":59.400000000000006},{"$f":"P_arvo*P_maara*kuljetuslaskuri!$E$88%*C97","v":41.040000000000006},{"$f":"K_arvo*K_maara*kuljetuslaskuri!$E$89%*C97","v":79.2},179.64000000000001]
[null,{"$f":"kuljetuslaskuri!$D$31","v":2500},{"$f":"kuljetuslaskuri!$D$12","v":30},{"$f":"kuljetuslaskuri!$D$33","v":14},{"$f":"kuljetuslaskuri!$D$34","v":4000},12,2.1428571428571428,7.5,2,{"$f":"kuljetuslaskuri!$D$35","v":0},21.5,0.71666666666666667,null,1.3953488372093024,null,{"$f":"IF(kuljetuslaskuri!$H$17,kuljetuslaskuri!$D$17,0)","v":25},{"$f":"IF(kuljetuslaskuri!$H$18,kuljetuslaskuri!$D$18,0)","v":0},{"$f":"IF(kuljetuslaskuri!$G$19,kuljetuslaskuri!#REF!,0)","v":0},{"$f":"AVERAGE(IF(P98:R98<>0, P98:R98,\"\"))","v":25},{"$f":"S98*kuljetuslaskuri!$D$19%","v":23.75},21.25,{"$f":"kuljetuslaskuri!$D$24%","v":0},15.94,50,202.07356534372317,7.6923076923076925,7.5,{"$f":"kuljetuslaskuri!$D$25*(laskentapohja!C98/laskentapohja!T98)","v":2.5263157894736841},219.79218882550452,7.3264062941834842,0.1364925667300094,null,219.79218882550452,0.1364925667300094,null,0.76592070196965589,-1.2588562704792929,null,null,null,null,null,null,null,null,null,null,{"$f":"IF(kuljetuslaskuri!$H$45,kuljetuslaskuri!$D$45,0)","v":20},{"$f":"IF(kuljetuslaskuri!$H$46,kuljetuslaskuri!$D$46,0)","v":0},{"$f":"IF(kuljetuslaskuri!$G$19,kuljetuslaskuri!#REF!,0)","v":0},{"$f":"AVERAGE(IF(AV98:AX98<>0, AV98:AX98,\"\"))","v":20},{"$f":"AY98*kuljetuslaskuri!$D$47%","v":19},21.25,{"$f":"kuljetuslaskuri!$D$52%","v":0},15.94,50,252.59195667965398,7.5,7.5,{"$f":"kuljetuslaskuri!$D$53*(laskentapohja!C98/laskentapohja!AZ98)","v":3.1578947368421053},270.74985141649609,12,282.74985141649609,9.4249950472165356,0.10610085151135734,null,128.21211014821097,278.40343917897241,406.61554932718337,null,0.39,248.62500000000003,null,{"$f":"kuljetuslaskuri!$D$74","v":71.100000000000009},null,319.72500000000002,null,{"$f":"N_arvo*N_maara*kuljetuslaskuri!$E$87%*C98","v":59.400000000000006},{"$f":"P_arvo*P_maara*kuljetuslaskuri!$E$88%*C98","v":41.040000000000006},{"$f":"K_arvo*K_maara*kuljetuslaskuri!$E$89%*C98","v":79.2},179.64000000000001]
[null,{"$f":"kuljetuslaskuri!$D$31","v":2500},{"$f":"kuljetuslaskuri!$D$12","v":30},{"$f":"kuljetuslaskuri!$D$33","v":14},{"$f":"kuljetuslaskuri!$D$34","v":4000},12,2.1428571428571428,7.5,2,{"$f":"kuljetuslaskuri!$D$35","v":0},21.5,0.71666666666666667,null,1.3953488372093024,null,{"$f":"IF(kuljetuslaskuri!$H$17,kuljetuslaskuri!$D$17,0)","v":25},{"$f":"IF(kuljetuslaskuri!$H$18,kuljetuslaskuri!$D$18,0)","v":0},{"$f":"IF(kuljetuslaskuri!$G$19,kuljetuslaskuri!#REF!,0)","v":0},{"$f":"AVERAGE(IF(P99:R99<>0, P99:R99,\"\"))","v":25},{"$f":"S99*kuljetuslaskuri!$D$19%","v":23.75},21.5,{"$f":"kuljetuslaskuri!$D$24%","v":0},15.94,50,204.4509014065905,7.6923076923076925,7.5,{"$f":"kuljetuslaskuri!$D$25*(laskentapohja!C99/laskentapohja!T99)","v":2.5263157894736841},222.16952488837185,7.4056508296123953,0.13503202122376312,null,222.16952488837185,0.13503202122376312,null,0.7651904292165328,-1.2603168159855391,null,null,null,null,null,null,null,null,null,null,{"$f":"IF(kuljetuslaskuri!$H$45,kuljetuslaskuri!$D$45,0)","v":20},{"$f":"IF(kuljetuslaskuri!$H$46,kuljetuslaskuri!$D$46,0)","v":0},{"$f":"IF(kuljetuslaskuri!$G$19,kuljetuslaskuri!#REF!,0)","v":0},{"$f":"AVERAGE(IF(AV99:AX99<>0, AV99:AX99,\"\"))","v":20},{"$f":"AY99*kuljetuslaskuri!$D$47%","v":19},21.5,{"$f":"kuljetuslaskuri!$D$52%","v":0},15.94,50,255.56362675823814,7.5,7.5,{"$f":"kuljetuslaskuri!$D$53*(laskentapohja!C99/laskentapohja!AZ99)","v":3.1578947368421053},273.7215214950802,12,285.7215214950802,9.5240507165026731,0.1049973409178999,null,129.59888951821691,281.41473152527101,411.01362104348789,null,0.39,251.55,null,{"$f":"kuljetuslaskuri!$D$74","v":71.100000000000009},null,322.65000000000003,null,{"$f":"N_arvo*N_maara*kuljetuslaskuri!$E$87%*C99","v":59.400000000000006},{"$f":"P_arvo*P_maara*kuljetuslaskuri!$E$88%*C99","v":41.040000000000006},{"$f":"K_arvo*K_maara*kuljetuslaskuri!$E$89%*C99","v":79.2},179.64000000000001]
[null,{"$f":"kuljetuslaskuri!$D$31","v":2500},{"$f":"kuljetuslaskuri!$D$12","v":30},{"$f":"kuljetuslaskuri!$D$33","v":14},{"$f":"kuljetuslaskuri!$D$34","v":4000},12,2.1428571428571428,7.5,2,{"$f":"kuljetuslaskuri!$D$35","v":0},21.5,0.71666666666666667,null,1.3953488372093024,null,{"$f":"IF(kuljetuslaskuri!$H$17,kuljetuslaskuri!$D$17,0)","v":25},{"$f":"IF(kuljetuslaskuri!$H$18,kuljetuslaskuri!$D$18,0)","v":0},{"$f":"IF(kuljetuslaskuri!$G$19,kuljetuslaskuri!#REF!,0)","v":0},{"$f":"AVERAGE(IF(P100:R100<>0, P100:R100,\"\"))","v":25},{"$f":"S100*kuljetuslaskuri!$D$19%","v":23.75},21.75,{"$f":"kuljetuslaskuri!$D$24%","v":0},15.94,50,206.82823746945783,7.6923076923076925,7.5,{"$f":"kuljetuslaskuri!$D$25*(laskentapohja!C100/laskentapohja!T100)","v":2.5263157894736841},224.54686095123918,7.4848953650413064,0.13360240206837967,null,224.54686095123918,0.13360240206837967,null,0.76447561963884103,-1.2617464351409227,null,null,null,null,null,null,null,null,null,null,{"$f":"IF(kuljetuslaskuri!$H$45,kuljetuslaskuri!$D$45,0)","v":20},{"$f":"IF(kuljetuslaskuri!$H$46,kuljetuslaskuri!$D$46,0)","v":0},{"$f":"IF(kuljetuslaskuri!$G$19,kuljetuslaskuri!#REF!,0)","v":0},{"$f":"AVERAGE(IF(AV100:AX100<>0, AV100:AX100,\"\"))","v":20},{"$f":"AY100*kuljetuslaskuri!$D$47%","v":19},21.75,{"$f":"kuljetuslaskuri!$D$52%","v":0},15.94,50,258.53529683682228,7.5,7.5,{"$f":"kuljetuslaskuri!$D$53*(laskentapohja!C100/laskentapohja!AZ100)","v":3.1578947368421053},276.69319157366436,12,288.69319157366436,9.6231063857888124,0.10391654834833558,null,130.98566888822288,284.42602387156967,415.41169275979257,null,0.39,254.47500000000002,null,{"$f":"kuljetuslaskuri!$D$74","v":71.100000000000009},null,325.57500000000005,null,{"$f":"N_arvo*N_maara*kuljetuslaskuri!$E$87%*C100","v":59.400000000000006},{"$f":"P_arvo*P_maara*kuljetuslaskuri!$E$88%*C100","v":41.040000000000006},{"$f":"K_arvo*K_maara*kuljetuslaskuri!$E$89%*C100","v":79.2},179.64000000000001]
[null,{"$f":"kuljetuslaskuri!$D$31","v":2500},{"$f":"kuljetuslaskuri!$D$12","v":30},{"$f":"kuljetuslaskuri!$D$33","v":14},{"$f":"kuljetuslaskuri!$D$34","v":4000},12,2.1428571428571428,7.5,2,{"$f":"kuljetuslaskuri!$D$35","v":0},21.5,0.71666666666666667,null,1.3953488372093024,null,{"$f":"IF(kuljetuslaskuri!$H$17,kuljetuslaskuri!$D$17,0)","v":25},{"$f":"IF(kuljetuslaskuri!$H$18,kuljetuslaskuri!$D$18,0)","v":0},{"$f":"IF(kuljetuslaskuri!$G$19,kuljetuslaskuri!#REF!,0)","v":0},{"$f":"AVERAGE(IF(P101:R101<>0, P101:R101,\"\"))","v":25},{"$f":"S101*kuljetuslaskuri!$D$19%","v":23.75},22,{"$f":"kuljetuslaskuri!$D$24%","v":0},15.94,50,209.20557353232516,7.6923076923076925,7.5,{"$f":"kuljetuslaskuri!$D$25*(laskentapohja!C101/laskentapohja!T101)","v":2.5263157894736841},226.92419701410651,7.5641399004702174,0.13220273727854187,null,226.92419701410651,0.13220273727854187,null,0.76377578724392214,-1.2631460999307604,null,null,null,null,null,null,null,null,null,null,{"$f":"IF(kuljetuslaskuri!$H$45,kuljetuslaskuri!$D$45,0)","v":20},{"$f":"IF(kuljetuslaskuri!$H$46,kuljetuslaskuri!$D$46,0)","v":0},{"$f":"IF(kuljetuslaskuri!$G$19,kuljetuslaskuri!#REF!,0)","v":0},{"$f":"AVERAGE(IF(AV101:AX101<>0, AV101:AX101,\"\"))","v":20},{"$f":"AY101*kuljetuslaskuri!$D$47%","v":19},22,{"$f":"kuljetuslaskuri!$D$52%","v":0},15.94,50,261.50696691540645,7.5,7.5,{"$f":"kuljetuslaskuri!$D$53*(laskentapohja!C101/laskentapohja!AZ101)","v":3.1578947368421053},279.66486165224853,12,291.66486165224853,9.7221620550749517,0.10285777940494231,null,132.37244825822881,287.43731621786827,419.80976447609709,null,0.39,257.40000000000003,null,{"$f":"kuljetuslaskuri!$D$74","v":71.100000000000009},null,328.50000000000006,null,{"$f":"N_arvo*N_maara*kuljetuslaskuri!$E$87%*C101","v":59.400000000000006},{"$f":"P_arvo*P_maara*kuljetuslaskuri!$E$88%*C101","v":41.040000000000006},{"$f":"K_arvo*K_maara*kuljetuslaskuri!$E$89%*C101","v":79.2},179.64000000000001]
[null,{"$f":"kuljetuslaskuri!$D$31","v":2500},{"$f":"kuljetuslaskuri!$D$12","v":30},{"$f":"kuljetuslaskuri!$D$33","v":14},{"$f":"kuljetuslaskuri!$D$34","v":4000},12,2.1428571428571428,7.5,2,{"$f":"kuljetuslaskuri!$D$35","v":0},21.5,0.71666666666666667,null,1.3953488372093024,null,{"$f":"IF(kuljetuslaskuri!$H$17,kuljetuslaskuri!$D$17,0)","v":25},{"$f":"IF(kuljetuslaskuri!$H$18,kuljetuslaskuri!$D$18,0)","v":0},{"$f":"IF(kuljetuslaskuri!$G$19,kuljetuslaskuri!#REF!,0)","v":0},{"$f":"AVERAGE(IF(P102:R102<>0, P102:R102,\"\"))","v":25},{"$f":"S102*kuljetuslaskuri!$D$19%","v":23.75},22.25,{"$f":"kuljetuslaskuri!$D$24%","v":0},15.94,50,211.58290959519249,7.6923076923076925,7.5,{"$f":"kuljetuslaskuri!$D$25*(laskentapohja!C102/laskentapohja!T102)","v":2.5263157894736841},229.30153307697384,7.6433844358991276,0.13083209517805253,null,229.30153307697384,0.13083209517805253,null,0.76309046619367749,-1.2645167420312498,null,null,null,null,null,null,null,null,null,null,{"$f":"IF(kuljetuslaskuri!$H$45,kuljetuslaskuri!$D$45,0)","v":20},{"$f":"IF(kuljetuslaskuri!$H$46,kuljetuslaskuri!$D$46,0)","v":0},{"$f":"IF(kuljetuslaskuri!$G$19,kuljetuslaskuri!#REF!,0)","v":0},{"$f":"AVERAGE(IF(AV102:AX102<>0, AV102:AX102,\"\"))","v":20},{"$f":"AY102*kuljetuslaskuri!$D$47%","v":19},22.25,{"$f":"kuljetuslaskuri!$D$52%","v":0},15.94,50,264.47863699399062,7.5,7.5,{"$f":"kuljetuslaskuri!$D$53*(laskentapohja!C102/laskentapohja!AZ102)","v":3.1578947368421053},282.6365317308327,12,294.6365317308327,9.8212177243610892,0.10182036770445939,null,133.75922762823473,290.44860856416688,424.2078361924016,null,0.39,260.32500000000005,null,{"$f":"kuljetuslaskuri!$D$74","v":71.100000000000009},null,331.42500000000007,null,{"$f":"N_arvo*N_maara*kuljetuslaskuri!$E$87%*C102","v":59.400000000000006},{"$f":"P_arvo*P_maara*kuljetuslaskuri!$E$88%*C102","v":41.040000000000006},{"$f":"K_arvo*K_maara*kuljetuslaskuri!$E$89%*C102","v":79.2},179.64000000000001]
[null,{"$f":"kuljetuslaskuri!$D$31","v":2500},{"$f":"kuljetuslaskuri!$D$12","v":30},{"$f":"kuljetuslaskuri!$D$33","v":14},{"$f":"kuljetuslaskuri!$D$34","v":4000},12,2.1428571428571428,7.5,2,{"$f":"kuljetuslaskuri!$D$35","v":0},21.5,0.71666666666666667,null,1.3953488372093024,null,{"$f":"IF(kuljetuslaskuri!$H$17,kuljetuslaskuri!$D$17,0)","v":25},{"$f":"IF(kuljetuslaskuri!$H$18,kuljetuslaskuri!$D$18,0)","v":0},{"$f":"IF(kuljetuslaskuri!$G$19,kuljetuslaskuri!#REF!,0)","v":0},{"$f":"AVERAGE(IF(P103:R103<>0, P103:R103,\"\"))","v":25},{"$f":"S103*kuljetuslaskuri!$D$19%","v":23.75},22.5,{"$f":"kuljetuslaskuri!$D$24%","v":0},15.94,50,213.96024565805985,7.6923076923076925,7.5,{"$f":"kuljetuslaskuri!$D$25*(laskentapohja!C103/laskentapohja!T103)","v":2.5263157894736841},231.6788691398412,7.7226289713280396,0.12948958233170599,null,231.6788691398412,0.12948958233170599,null,0.76241920977050415,-1.2658592548775964,null,null,null,null,null,null,null,null,null,null,{"$f":"IF(kuljetuslaskuri!$H$45,kuljetuslaskuri!$D$45,0)","v":20},{"$f":"IF(kuljetuslaskuri!$H$46,kuljetuslaskuri!$D$46,0)","v":0},{"$f":"IF(kuljetuslaskuri!$G$19,kuljetuslaskuri!#REF!,0)","v":0},{"$f":"AVERAGE(IF(AV103:AX103<>0, AV103:AX103,\"\"))","v":20},{"$f":"AY103*kuljetuslaskuri!$D$47%","v":19},22.5,{"$f":"kuljetuslaskuri!$D$52%","v":0},15.94,50,267.45030707257484,7.5,7.5,{"$f":"kuljetuslaskuri!$D$53*(laskentapohja!C103/laskentapohja!AZ103)","v":3.1578947368421053},285.60820180941693,12,297.60820180941693,9.9202733936472303,0.10080367347944086,null,135.14600699824069,293.45990091046548,428.60590790870617,null,0.39,263.25,null,{"$f":"kuljetuslaskuri!$D$74","v":71.100000000000009},null,334.35,null,{"$f":"N_arvo*N_maara*kuljetuslaskuri!$E$87%*C103","v":59.400000000000006},{"$f":"P_arvo*P_maara*kuljetuslaskuri!$E$88%*C103","v":41.040000000000006},{"$f":"K_arvo*K_maara*kuljetuslaskuri!$E$89%*C103","v":79.2},179.64000000000001]
[null,{"$f":"kuljetuslaskuri!$D$31","v":2500},{"$f":"kuljetuslaskuri!$D$12","v":30},{"$f":"kuljetuslaskuri!$D$33","v":14},{"$f":"kuljetuslaskuri!$D$34","v":4000},12,2.1428571428571428,7.5,2,{"$f":"kuljetuslaskuri!$D$35","v":0},21.5,0.71666666666666667,null,1.3953488372093024,null,{"$f":"IF(kuljetuslaskuri!$H$17,kuljetuslaskuri!$D$17,0)","v":25},{"$f":"IF(kuljetuslaskuri!$H$18,kuljetuslaskuri!$D$18,0)","v":0},{"$f":"IF(kuljetuslaskuri!$G$19,kuljetuslaskuri!#REF!,0)","v":0},{"$f":"AVERAGE(IF(P104:R104<>0, P104:R104,\"\"))","v":25},{"$f":"S104*kuljetuslaskuri!$D$19%","v":23.75},22.75,{"$f":"kuljetuslaskuri!$D$24%","v":0},15.94,50,216.33758172092718,7.6923076923076925,7.5,{"$f":"kuljetuslaskuri!$D$25*(laskentapohja!C104/laskentapohja!T104)","v":2.5263157894736841},234.05620520270853,7.8018735067569507,0.12817434160319727,null,234.05620520270853,0.12817434160319727,null,0.76176158940624983,-1.2671744956061051,null,null,null,null,null,null,null,null,null,null,{"$f":"IF(kuljetuslaskuri!$H$45,kuljetuslaskuri!$D$45,0)","v":20},{"$f":"IF(kuljetuslaskuri!$H$46,kuljetuslaskuri!$D$46,0)","v":0},{"$f":"IF(kuljetuslaskuri!$G$19,kuljetuslaskuri!#REF!,0)","v":0},{"$f":"AVERAGE(IF(AV104:AX104<>0, AV104:AX104,\"\"))","v":20},{"$f":"AY104*kuljetuslaskuri!$D$47%","v":19},22.75,{"$f":"kuljetuslaskuri!$D$52%","v":0},15.94,50,270.42197715115896,7.5,7.5,{"$f":"kuljetuslaskuri!$D$53*(laskentapohja!C104/laskentapohja!AZ104)","v":3.1578947368421053},288.57987188800104,12,300.57987188800104,10.019329062933368,9.9807082262575092E-2,null,136.53278636824663,296.47119325676414,433.00397962501074,null,0.39,266.17500000000001,null,{"$f":"kuljetuslaskuri!$D$74","v":71.100000000000009},null,337.27500000000003,null,{"$f":"N_arvo*N_maara*kuljetuslaskuri!$E$87%*C104","v":59.400000000000006},{"$f":"P_arvo*P_maara*kuljetuslaskuri!$E$88%*C104","v":41.040000000000006},{"$f":"K_arvo*K_maara*kuljetuslaskuri!$E$89%*C104","v":79.2},179.64000000000001]
[null,{"$f":"kuljetuslaskuri!$D$31","v":2500},{"$f":"kuljetuslaskuri!$D$12","v":30},{"$f":"kuljetuslaskuri!$D$33","v":14},{"$f":"kuljetuslaskuri!$D$34","v":4000},12,2.1428571428571428,7.5,2,{"$f":"kuljetuslaskuri!$D$35","v":0},21.5,0.71666666666666667,null,1.3953488372093024,null,{"$f":"IF(kuljetuslaskuri!$H$17,kuljetuslaskuri!$D$17,0)","v":25},{"$f":"IF(kuljetuslaskuri!$H$18,kuljetuslaskuri!$D$18,0)","v":0},{"$f":"IF(kuljetuslaskuri!$G$19,kuljetuslaskuri!#REF!,0)","v":0},{"$f":"AVERAGE(IF(P105:R105<>0, P105:R105,\"\"))","v":25},{"$f":"S105*kuljetuslaskuri!$D$19%","v":23.75},23,{"$f":"kuljetuslaskuri!$D$24%","v":0},15.94,50,218.7149177837945,7.6923076923076925,7.5,{"$f":"kuljetuslaskuri!$D$25*(laskentapohja!C105/laskentapohja!T105)","v":2.5263157894736841},236.43354126557585,7.8811180421858618,0.12688555033019727,null,236.43354126557585,0.12688555033019727,null,0.76111719376974984,-1.268463286879105,null,null,null,null,null,null,null,null,null,null,{"$f":"IF(kuljetuslaskuri!$H$45,kuljetuslaskuri!$D$45,0)","v":20},{"$f":"IF(kuljetuslaskuri!$H$46,kuljetuslaskuri!$D$46,0)","v":0},{"$f":"IF(kuljetuslaskuri!$G$19,kuljetuslaskuri!#REF!,0)","v":0},{"$f":"AVERAGE(IF(AV105:AX105<>0, AV105:AX105,\"\"))","v":20},{"$f":"AY105*kuljetuslaskuri!$D$47%","v":19},23,{"$f":"kuljetuslaskuri!$D$52%","v":0},15.94,50,273.39364722974312,7.5,7.5,{"$f":"kuljetuslaskuri!$D$53*(laskentapohja!C105/laskentapohja!AZ105)","v":3.1578947368421053},291.55154196658521,12,303.55154196658521,10.118384732219507,9.8830003648284495E-2,null,137.91956573825257,299.48248560306274,437.40205134131531,null,0.39,269.10000000000002,null,{"$f":"kuljetuslaskuri!$D$74","v":71.100000000000009},null,340.20000000000005,null,{"$f":"N_arvo*N_maara*kuljetuslaskuri!$E$87%*C105","v":59.400000000000006},{"$f":"P_arvo*P_maara*kuljetuslaskuri!$E$88%*C105","v":41.040000000000006},{"$f":"K_arvo*K_maara*kuljetuslaskuri!$E$89%*C105","v":79.2},179.64000000000001]
[null,{"$f":"kuljetuslaskuri!$D$31","v":2500},{"$f":"kuljetuslaskuri!$D$12","v":30},{"$f":"kuljetuslaskuri!$D$33","v":14},{"$f":"kuljetuslaskuri!$D$34","v":4000},12,2.1428571428571428,7.5,2,{"$f":"kuljetuslaskuri!$D$35","v":0},21.5,0.71666666666666667,null,1.3953488372093024,null,{"$f":"IF(kuljetuslaskuri!$H$17,kuljetuslaskuri!$D$17,0)","v":25},{"$f":"IF(kuljetuslaskuri!$H$18,kuljetuslaskuri!$D$18,0)","v":0},{"$f":"IF(kuljetuslaskuri!$G$19,kuljetuslaskuri!#REF!,0)","v":0},{"$f":"AVERAGE(IF(P106:R106<>0, P106:R106,\"\"))","v":25},{"$f":"S106*kuljetuslaskuri!$D$19%","v":23.75},23.25,{"$f":"kuljetuslaskuri!$D$24%","v":0},15.94,50,221.09225384666183,7.6923076923076925,7.5,{"$f":"kuljetuslaskuri!$D$25*(laskentapohja!C106/laskentapohja!T106)","v":2.5263157894736841},238.81087732844318,7.9603625776147728,0.12562241860842951,null,238.81087732844318,0.12562241860842951,null,0.76048562790886598,{"$f":"AH106-N106","v":-1.2697264186008728},null,null,null,null,null,null,null,null,null,null,{"$f":"IF(kuljetuslaskuri!$H$45,kuljetuslaskuri!$D$45,0)","v":20},{"$f":"IF(kuljetuslaskuri!$H$46,kuljetuslaskuri!$D$46,0)","v":0},{"$f":"IF(kuljetuslaskuri!$G$19,kuljetuslaskuri!#REF!,0)","v":0},{"$f":"AVERAGE(IF(AV106:AX106<>0, AV106:AX106,\"\"))","v":20},{"$f":"AY106*kuljetuslaskuri!$D$47%","v":19},23.25,{"$f":"kuljetuslaskuri!$D$52%","v":0},15.94,50,276.36531730832729,7.5,7.5,{"$f":"kuljetuslaskuri!$D$53*(laskentapohja!C106/laskentapohja!AZ106)","v":3.1578947368421053},294.52321204516937,12,306.52321204516937,10.217440401505646,9.7871870126361546E-2,null,139.30634510825851,302.49377794936134,441.80012305761989,null,0.39,272.02500000000003,null,{"$f":"kuljetuslaskuri!$D$74","v":71.100000000000009},null,343.12500000000006,null,{"$f":"N_arvo*N_maara*kuljetuslaskuri!$E$87%*C106","v":59.400000000000006},{"$f":"P_arvo*P_maara*kuljetuslaskuri!$E$88%*C106","v":41.040000000000006},{"$f":"K_arvo*K_maara*kuljetuslaskuri!$E$89%*C106","v":79.2},179.64000000000001]
[null,{"$f":"kuljetuslaskuri!$D$31","v":2500},{"$f":"kuljetuslaskuri!$D$12","v":30},{"$f":"kuljetuslaskuri!$D$33","v":14},{"$f":"kuljetuslaskuri!$D$34","v":4000},12,2.1428571428571428,7.5,2,{"$f":"kuljetuslaskuri!$D$35","v":0},21.5,0.71666666666666667,null,1.3953488372093024,null,{"$f":"IF(kuljetuslaskuri!$H$17,kuljetuslaskuri!$D$17,0)","v":25},{"$f":"IF(kuljetuslaskuri!$H$18,kuljetuslaskuri!$D$18,0)","v":0},{"$f":"IF(kuljetuslaskuri!$G$19,kuljetuslaskuri!#REF!,0)","v":0},{"$f":"AVERAGE(IF(P107:R107<>0, P107:R107,\"\"))","v":25},{"$f":"S107*kuljetuslaskuri!$D$19%","v":23.75},23.5,{"$f":"kuljetuslaskuri!$D$24%","v":0},15.94,50,223.46958990952916,7.6923076923076925,7.5,{"$f":"kuljetuslaskuri!$D$25*(laskentapohja!C107/laskentapohja!T107)","v":2.5263157894736841},241.18821339131051,8.039607113043683,0.12438418767722767,null,241.18821339131051,0.12438418767722767,null,0.75986651244326497,-1.2709646495320748,null,null,null,null,null,null,null,null,null,null,{"$f":"IF(kuljetuslaskuri!$H$45,kuljetuslaskuri!$D$45,0)","v":20},{"$f":"IF(kuljetuslaskuri!$H$46,kuljetuslaskuri!$D$46,0)","v":0},{"$f":"IF(kuljetuslaskuri!$G$19,kuljetuslaskuri!#REF!,0)","v":0},{"$f":"AVERAGE(IF(AV107:AX107<>0, AV107:AX107,\"\"))","v":20},{"$f":"AY107*kuljetuslaskuri!$D$47%","v":19},23.5,{"$f":"kuljetuslaskuri!$D$52%","v":0},15.94,50,279.33698738691146,7.5,7.5,{"$f":"kuljetuslaskuri!$D$53*(laskentapohja!C107/laskentapohja!AZ107)","v":3.1578947368421053},297.49488212375354,12,309.49488212375354,10.316496070791784,9.6932135982798928E-2,null,140.69312447826445,305.50507029565995,446.1981947739244,null,0.39,274.95000000000005,null,{"$f":"kuljetuslaskuri!$D$74","v":71.100000000000009},null,346.05000000000007,null,{"$f":"N_arvo*N_maara*kuljetuslaskuri!$E$87%*C107","v":59.400000000000006},{"$f":"P_arvo*P_maara*kuljetuslaskuri!$E$88%*C107","v":41.040000000000006},{"$f":"K_arvo*K_maara*kuljetuslaskuri!$E$89%*C107","v":79.2},179.64000000000001]
[null,{"$f":"kuljetuslaskuri!$D$31","v":2500},{"$f":"kuljetuslaskuri!$D$12","v":30},{"$f":"kuljetuslaskuri!$D$33","v":14},{"$f":"kuljetuslaskuri!$D$34","v":4000},12,2.1428571428571428,7.5,2,{"$f":"kuljetuslaskuri!$D$35","v":0},21.5,0.71666666666666667,null,1.3953488372093024,null,{"$f":"IF(kuljetuslaskuri!$H$17,kuljetuslaskuri!$D$17,0)","v":25},{"$f":"IF(kuljetuslaskuri!$H$18,kuljetuslaskuri!$D$18,0)","v":0},{"$f":"IF(kuljetuslaskuri!$G$19,kuljetuslaskuri!#REF!,0)","v":0},{"$f":"AVERAGE(IF(P108:R108<>0, P108:R108,\"\"))","v":25},{"$f":"S108*kuljetuslaskuri!$D$19%","v":23.75},23.75,{"$f":"kuljetuslaskuri!$D$24%","v":0},15.94,50,225.84692597239646,7.6923076923076925,7.5,{"$f":"kuljetuslaskuri!$D$25*(laskentapohja!C108/laskentapohja!T108)","v":2.5263157894736841},243.56554945417781,8.1188516484725941,0.12317012839964021,null,243.56554945417781,0.12317012839964021,null,0.75925948280447131,-1.2721787088096621,null,null,null,null,null,null,null,null,null,null,{"$f":"IF(kuljetuslaskuri!$H$45,kuljetuslaskuri!$D$45,0)","v":20},{"$f":"IF(kuljetuslaskuri!$H$46,kuljetuslaskuri!$D$46,0)","v":0},{"$f":"IF(kuljetuslaskuri!$G$19,kuljetuslaskuri!#REF!,0)","v":0},{"$f":"AVERAGE(IF(AV108:AX108<>0, AV108:AX108,\"\"))","v":20},{"$f":"AY108*kuljetuslaskuri!$D$47%","v":19},23.75,{"$f":"kuljetuslaskuri!$D$52%","v":0},15.94,50,282.30865746549563,7.5,7.5,{"$f":"kuljetuslaskuri!$D$53*(laskentapohja!C108/laskentapohja!AZ108)","v":3.1578947368421053},300.46655220233771,12,312.46655220233771,10.415551740077923,9.601027626334066E-2,null,142.07990384827039,308.51636264195855,450.59626649022891,null,0.39,277.875,null,{"$f":"kuljetuslaskuri!$D$74","v":71.100000000000009},null,348.97500000000002,null,{"$f":"N_arvo*N_maara*kuljetuslaskuri!$E$87%*C108","v":59.400000000000006},{"$f":"P_arvo*P_maara*kuljetuslaskuri!$E$88%*C108","v":41.040000000000006},{"$f":"K_arvo*K_maara*kuljetuslaskuri!$E$89%*C108","v":79.2},179.64000000000001]
[null,{"$f":"kuljetuslaskuri!$D$31","v":2500},{"$f":"kuljetuslaskuri!$D$12","v":30},{"$f":"kuljetuslaskuri!$D$33","v":14},{"$f":"kuljetuslaskuri!$D$34","v":4000},12,2.1428571428571428,7.5,2,{"$f":"kuljetuslaskuri!$D$35","v":0},21.5,0.71666666666666667,null,1.3953488372093024,null,{"$f":"IF(kuljetuslaskuri!$H$17,kuljetuslaskuri!$D$17,0)","v":25},{"$f":"IF(kuljetuslaskuri!$H$18,kuljetuslaskuri!$D$18,0)","v":0},{"$f":"IF(kuljetuslaskuri!$G$19,kuljetuslaskuri!#REF!,0)","v":0},{"$f":"AVERAGE(IF(P109:R109<>0, P109:R109,\"\"))","v":25},{"$f":"S109*kuljetuslaskuri!$D$19%","v":23.75},24,{"$f":"kuljetuslaskuri!$D$24%","v":0},15.94,50,228.22426203526379,7.6923076923076925,7.5,{"$f":"kuljetuslaskuri!$D$25*(laskentapohja!C109/laskentapohja!T109)","v":2.5263157894736841},245.94288551704514,8.1980961839015052,0.12197953983068496,null,245.94288551704514,0.12197953983068496,null,0.75866418851999362,-1.2733692973786175,null,null,null,null,null,null,null,null,null,null,{"$f":"IF(kuljetuslaskuri!$H$45,kuljetuslaskuri!$D$45,0)","v":20},{"$f":"IF(kuljetuslaskuri!$H$46,kuljetuslaskuri!$D$46,0)","v":0},{"$f":"IF(kuljetuslaskuri!$G$19,kuljetuslaskuri!#REF!,0)","v":0},{"$f":"AVERAGE(IF(AV109:AX109<>0, AV109:AX109,\"\"))","v":20},{"$f":"AY109*kuljetuslaskuri!$D$47%","v":19},24,{"$f":"kuljetuslaskuri!$D$52%","v":0},15.94,50,285.2803275440798,7.5,7.5,{"$f":"kuljetuslaskuri!$D$53*(laskentapohja!C109/laskentapohja!AZ109)","v":3.1578947368421053},303.43822228092188,12,315.43822228092188,10.514607409364062,9.5105785795618333E-2,null,143.46668321827633,311.52765498825721,454.99433820653354,null,0.39,280.8,null,{"$f":"kuljetuslaskuri!$D$74","v":71.100000000000009},null,351.90000000000003,null,{"$f":"N_arvo*N_maara*kuljetuslaskuri!$E$87%*C109","v":59.400000000000006},{"$f":"P_arvo*P_maara*kuljetuslaskuri!$E$88%*C109","v":41.040000000000006},{"$f":"K_arvo*K_maara*kuljetuslaskuri!$E$89%*C109","v":79.2},179.64000000000001]
[null,{"$f":"kuljetuslaskuri!$D$31","v":2500},{"$f":"kuljetuslaskuri!$D$12","v":30},{"$f":"kuljetuslaskuri!$D$33","v":14},{"$f":"kuljetuslaskuri!$D$34","v":4000},12,2.1428571428571428,7.5,2,{"$f":"kuljetuslaskuri!$D$35","v":0},21.5,0.71666666666666667,null,1.3953488372093024,null,{"$f":"IF(kuljetuslaskuri!$H$17,kuljetuslaskuri!$D$17,0)","v":25},{"$f":"IF(kuljetuslaskuri!$H$18,kuljetuslaskuri!$D$18,0)","v":0},{"$f":"IF(kuljetuslaskuri!$G$19,kuljetuslaskuri!#REF!,0)","v":0},{"$f":"AVERAGE(IF(P110:R110<>0, P110:R110,\"\"))","v":25},{"$f":"S110*kuljetuslaskuri!$D$19%","v":23.75},24.25,{"$f":"kuljetuslaskuri!$D$24%","v":0},15.94,50,230.60159809813112,7.6923076923076925,7.5,{"$f":"kuljetuslaskuri!$D$25*(laskentapohja!C110/laskentapohja!T110)","v":2.5263157894736841},248.32022157991247,8.2773407193304163,0.12081174786784585,null,248.32022157991247,0.12081174786784585,null,0.75808029253857412,-1.2745370893414565,null,null,null,null,null,null,null,null,null,null,{"$f":"IF(kuljetuslaskuri!$H$45,kuljetuslaskuri!$D$45,0)","v":20},{"$f":"IF(kuljetuslaskuri!$H$46,kuljetuslaskuri!$D$46,0)","v":0},{"$f":"IF(kuljetuslaskuri!$G$19,kuljetuslaskuri!#REF!,0)","v":0},{"$f":"AVERAGE(IF(AV110:AX110<>0, AV110:AX110,\"\"))","v":20},{"$f":"AY110*kuljetuslaskuri!$D$47%","v":19},24.25,{"$f":"kuljetuslaskuri!$D$52%","v":0},15.94,50,288.25199762266391,7.5,7.5,{"$f":"kuljetuslaskuri!$D$53*(laskentapohja!C110/laskentapohja!AZ110)","v":3.1578947368421053},306.40989235950599,12,318.40989235950599,10.6136630786502,9.4218178266044575E-2,null,144.8534625882823,314.53894733455581,459.39240992283811,null,0.39,283.72500000000002,null,{"$f":"kuljetuslaskuri!$D$74","v":71.100000000000009},null,354.82500000000005,null,{"$f":"N_arvo*N_maara*kuljetuslaskuri!$E$87%*C110","v":59.400000000000006},{"$f":"P_arvo*P_maara*kuljetuslaskuri!$E$88%*C110","v":41.040000000000006},{"$f":"K_arvo*K_maara*kuljetuslaskuri!$E$89%*C110","v":79.2},179.64000000000001]
[null,{"$f":"kuljetuslaskuri!$D$31","v":2500},{"$f":"kuljetuslaskuri!$D$12","v":30},{"$f":"kuljetuslaskuri!$D$33","v":14},{"$f":"kuljetuslaskuri!$D$34","v":4000},12,2.1428571428571428,7.5,2,{"$f":"kuljetuslaskuri!$D$35","v":0},21.5,0.71666666666666667,null,1.3953488372093024,null,{"$f":"IF(kuljetuslaskuri!$H$17,kuljetuslaskuri!$D$17,0)","v":25},{"$f":"IF(kuljetuslaskuri!$H$18,kuljetuslaskuri!$D$18,0)","v":0},{"$f":"IF(kuljetuslaskuri!$G$19,kuljetuslaskuri!#REF!,0)","v":0},{"$f":"AVERAGE(IF(P111:R111<>0, P111:R111,\"\"))","v":25},{"$f":"S111*kuljetuslaskuri!$D$19%","v":23.75},24.5,{"$f":"kuljetuslaskuri!$D$24%","v":0},15.94,50,232.97893416099851,7.6923076923076925,7.5,{"$f":"kuljetuslaskuri!$D$25*(laskentapohja!C111/laskentapohja!T111)","v":2.5263157894736841},250.69755764277986,8.3565852547593291,0.11966610397835284,null,250.69755764277986,0.11966610397835284,null,0.75750747059382761,-1.2756827332309495,null,null,null,null,null,null,null,null,null,null,{"$f":"IF(kuljetuslaskuri!$H$45,kuljetuslaskuri!$D$45,0)","v":20},{"$f":"IF(kuljetuslaskuri!$H$46,kuljetuslaskuri!$D$46,0)","v":0},{"$f":"IF(kuljetuslaskuri!$G$19,kuljetuslaskuri!#REF!,0)","v":0},{"$f":"AVERAGE(IF(AV111:AX111<>0, AV111:AX111,\"\"))","v":20},{"$f":"AY111*kuljetuslaskuri!$D$47%","v":19},24.5,{"$f":"kuljetuslaskuri!$D$52%","v":0},15.94,50,291.22366770124813,7.5,7.5,{"$f":"kuljetuslaskuri!$D$53*(laskentapohja!C111/laskentapohja!AZ111)","v":3.1578947368421053},309.38156243809021,12,321.38156243809021,10.712718747936341,9.3346985347919853E-2,null,146.24024195828827,317.55023968085453,463.7904816391428,null,0.39,286.65000000000003,null,{"$f":"kuljetuslaskuri!$D$74","v":71.100000000000009},null,357.75000000000006,null,{"$f":"N_arvo*N_maara*kuljetuslaskuri!$E$87%*C111","v":59.400000000000006},{"$f":"P_arvo*P_maara*kuljetuslaskuri!$E$88%*C111","v":41.040000000000006},{"$f":"K_arvo*K_maara*kuljetuslaskuri!$E$89%*C111","v":79.2},179.64000000000001]
[null,{"$f":"kuljetuslaskuri!$D$31","v":2500},{"$f":"kuljetuslaskuri!$D$12","v":30},{"$f":"kuljetuslaskuri!$D$33","v":14},{"$f":"kuljetuslaskuri!$D$34","v":4000},12,2.1428571428571428,7.5,2,{"$f":"kuljetuslaskuri!$D$35","v":0},21.5,0.71666666666666667,null,1.3953488372093024,null,{"$f":"IF(kuljetuslaskuri!$H$17,kuljetuslaskuri!$D$17,0)","v":25},{"$f":"IF(kuljetuslaskuri!$H$18,kuljetuslaskuri!$D$18,0)","v":0},{"$f":"IF(kuljetuslaskuri!$G$19,kuljetuslaskuri!#REF!,0)","v":0},{"$f":"AVERAGE(IF(P112:R112<>0, P112:R112,\"\"))","v":25},{"$f":"S112*kuljetuslaskuri!$D$19%","v":23.75},24.75,{"$f":"kuljetuslaskuri!$D$24%","v":0},15.94,50,235.35627022386581,7.6923076923076925,7.5,{"$f":"kuljetuslaskuri!$D$25*(laskentapohja!C112/laskentapohja!T112)","v":2.5263157894736841},253.07489370564716,8.4358297901882384,0.11854198399819608,null,253.07489370564716,0.11854198399819608,null,0.7569454106037492,-1.2768068532111063,null,null,null,null,null,null,null,null,null,null,{"$f":"IF(kuljetuslaskuri!$H$45,kuljetuslaskuri!$D$45,0)","v":20},{"$f":"IF(kuljetuslaskuri!$H$46,kuljetuslaskuri!$D$46,0)","v":0},{"$f":"IF(kuljetuslaskuri!$G$19,kuljetuslaskuri!#REF!,0)","v":0},{"$f":"AVERAGE(IF(AV112:AX112<>0, AV112:AX112,\"\"))","v":20},{"$f":"AY112*kuljetuslaskuri!$D$47%","v":19},24.75,{"$f":"kuljetuslaskuri!$D$52%","v":0},15.94,50,294.1953377798323,7.5,7.5,{"$f":"kuljetuslaskuri!$D$53*(laskentapohja!C112/laskentapohja!AZ112)","v":3.1578947368421053},312.35323251667438,12,324.35323251667438,10.811774417222479,9.2491755877468426E-2,null,147.62702132829418,320.56153202715308,468.18855335544725,null,0.39,289.57500000000005,null,{"$f":"kuljetuslaskuri!$D$74","v":71.100000000000009},null,360.67500000000007,null,{"$f":"N_arvo*N_maara*kuljetuslaskuri!$E$87%*C112","v":59.400000000000006},{"$f":"P_arvo*P_maara*kuljetuslaskuri!$E$88%*C112","v":41.040000000000006},{"$f":"K_arvo*K_maara*kuljetuslaskuri!$E$89%*C112","v":79.2},179.64000000000001]
[null,{"$f":"kuljetuslaskuri!$D$31","v":2500},{"$f":"kuljetuslaskuri!$D$12","v":30},{"$f":"kuljetuslaskuri!$D$33","v":14},{"$f":"kuljetuslaskuri!$D$34","v":4000},12,2.1428571428571428,7.5,2,{"$f":"kuljetuslaskuri!$D$35","v":0},21.5,0.71666666666666667,null,1.3953488372093024,null,{"$f":"IF(kuljetuslaskuri!$H$17,kuljetuslaskuri!$D$17,0)","v":25},{"$f":"IF(kuljetuslaskuri!$H$18,kuljetuslaskuri!$D$18,0)","v":0},{"$f":"IF(kuljetuslaskuri!$G$19,kuljetuslaskuri!#REF!,0)","v":0},{"$f":"AVERAGE(IF(P113:R113<>0, P113:R113,\"\"))","v":25},{"$f":"S113*kuljetuslaskuri!$D$19%","v":23.75},25,{"$f":"kuljetuslaskuri!$D$24%","v":0},15.94,50,237.73360628673313,7.6923076923076925,7.5,{"$f":"kuljetuslaskuri!$D$25*(laskentapohja!C113/laskentapohja!T113)","v":2.5263157894736841},255.45222976851448,8.5150743256171495,0.11743878699820071,null,255.45222976851448,0.11743878699820071,null,0.75639381210375156,-1.2779100502111016,null,null,null,null,null,null,null,null,null,null,{"$f":"IF(kuljetuslaskuri!$H$45,kuljetuslaskuri!$D$45,0)","v":20},{"$f":"IF(kuljetuslaskuri!$H$46,kuljetuslaskuri!$D$46,0)","v":0},{"$f":"IF(kuljetuslaskuri!$G$19,kuljetuslaskuri!#REF!,0)","v":0},{"$f":"AVERAGE(IF(AV113:AX113<>0, AV113:AX113,\"\"))","v":20},{"$f":"AY113*kuljetuslaskuri!$D$47%","v":19},25,{"$f":"kuljetuslaskuri!$D$52%","v":0},15.94,50,297.16700785841647,7.5,7.5,{"$f":"kuljetuslaskuri!$D$53*(laskentapohja!C113/laskentapohja!AZ113)","v":3.1578947368421053},315.32490259525855,12,327.32490259525855,10.910830086508618,9.1652055074756683E-2,null,149.01380069830012,323.57282437345168,472.58662507175177,null,0.39,292.5,null,{"$f":"kuljetuslaskuri!$D$74","v":71.100000000000009},null,363.6,null,{"$f":"N_arvo*N_maara*kuljetuslaskuri!$E$87%*C113","v":59.400000000000006},{"$f":"P_arvo*P_maara*kuljetuslaskuri!$E$88%*C113","v":41.040000000000006},{"$f":"K_arvo*K_maara*kuljetuslaskuri!$E$89%*C113","v":79.2},179.64000000000001]
[null,{"$f":"kuljetuslaskuri!$D$31","v":2500},{"$f":"kuljetuslaskuri!$D$12","v":30},{"$f":"kuljetuslaskuri!$D$33","v":14},{"$f":"kuljetuslaskuri!$D$34","v":4000},12,2.1428571428571428,7.5,2,{"$f":"kuljetuslaskuri!$D$35","v":0},21.5,0.71666666666666667,null,1.3953488372093024,null,{"$f":"IF(kuljetuslaskuri!$H$17,kuljetuslaskuri!$D$17,0)","v":25},{"$f":"IF(kuljetuslaskuri!$H$18,kuljetuslaskuri!$D$18,0)","v":0},{"$f":"IF(kuljetuslaskuri!$G$19,kuljetuslaskuri!#REF!,0)","v":0},{"$f":"AVERAGE(IF(P114:R114<>0, P114:R114,\"\"))","v":25},{"$f":"S114*kuljetuslaskuri!$D$19%","v":23.75},25.25,{"$f":"kuljetuslaskuri!$D$24%","v":0},15.94,50,240.11094234960046,7.6923076923076925,7.5,{"$f":"kuljetuslaskuri!$D$25*(laskentapohja!C114/laskentapohja!T114)","v":2.5263157894736841},257.82956583138184,8.5943188610460606,0.11635593421283472,null,257.82956583138184,0.11635593421283472,null,0.7558523857110685,-1.2789929029964677,null,null,null,null,null,null,null,null,null,null,{"$f":"IF(kuljetuslaskuri!$H$45,kuljetuslaskuri!$D$45,0)","v":20},{"$f":"IF(kuljetuslaskuri!$H$46,kuljetuslaskuri!$D$46,0)","v":0},{"$f":"IF(kuljetuslaskuri!$G$19,kuljetuslaskuri!#REF!,0)","v":0},{"$f":"AVERAGE(IF(AV114:AX114<>0, AV114:AX114,\"\"))","v":20},{"$f":"AY114*kuljetuslaskuri!$D$47%","v":19},25.25,{"$f":"kuljetuslaskuri!$D$52%","v":0},15.94,50,300.13867793700064,7.5,7.5,{"$f":"kuljetuslaskuri!$D$53*(laskentapohja!C114/laskentapohja!AZ114)","v":3.1578947368421053},318.29657267384272,12,330.29657267384272,11.009885755794757,9.0827463806668188E-2,null,150.40058006830606,326.58411671975028,476.98469678805634,null,0.39,295.42500000000001,null,{"$f":"kuljetuslaskuri!$D$74","v":71.100000000000009},null,366.52500000000003,null,{"$f":"N_arvo*N_maara*kuljetuslaskuri!$E$87%*C114","v":59.400000000000006},{"$f":"P_arvo*P_maara*kuljetuslaskuri!$E$88%*C114","v":41.040000000000006},{"$f":"K_arvo*K_maara*kuljetuslaskuri!$E$89%*C114","v":79.2},179.64000000000001]
[null,{"$f":"kuljetuslaskuri!$D$31","v":2500},{"$f":"kuljetuslaskuri!$D$12","v":30},{"$f":"kuljetuslaskuri!$D$33","v":14},{"$f":"kuljetuslaskuri!$D$34","v":4000},12,2.1428571428571428,7.5,2,{"$f":"kuljetuslaskuri!$D$35","v":0},21.5,0.71666666666666667,null,1.3953488372093024,null,{"$f":"IF(kuljetuslaskuri!$H$17,kuljetuslaskuri!$D$17,0)","v":25},{"$f":"IF(kuljetuslaskuri!$H$18,kuljetuslaskuri!$D$18,0)","v":0},{"$f":"IF(kuljetuslaskuri!$G$19,kuljetuslaskuri!#REF!,0)","v":0},{"$f":"AVERAGE(IF(P115:R115<>0, P115:R115,\"\"))","v":25},{"$f":"S115*kuljetuslaskuri!$D$19%","v":23.75},25.5,{"$f":"kuljetuslaskuri!$D$24%","v":0},15.94,50,242.48827841246779,7.6923076923076925,7.5,{"$f":"kuljetuslaskuri!$D$25*(laskentapohja!C115/laskentapohja!T115)","v":2.5263157894736841},260.20690189424914,8.6735633964749717,0.1152928680277371,null,260.20690189424914,0.1152928680277371,null,0.75532085261851978,-1.2800559691815652,null,null,null,null,null,null,null,null,null,null,{"$f":"IF(kuljetuslaskuri!$H$45,kuljetuslaskuri!$D$45,0)","v":20},{"$f":"IF(kuljetuslaskuri!$H$46,kuljetuslaskuri!$D$46,0)","v":0},{"$f":"IF(kuljetuslaskuri!$G$19,kuljetuslaskuri!#REF!,0)","v":0},{"$f":"AVERAGE(IF(AV115:AX115<>0, AV115:AX115,\"\"))","v":20},{"$f":"AY115*kuljetuslaskuri!$D$47%","v":19},25.5,{"$f":"kuljetuslaskuri!$D$52%","v":0},15.94,50,303.11034801558475,7.5,7.5,{"$f":"kuljetuslaskuri!$D$53*(laskentapohja!C115/laskentapohja!AZ115)","v":3.1578947368421053},321.26824275242683,12,333.26824275242683,11.108941425080895,9.0017577889309836E-2,null,151.787359438312,329.59540906604894,481.38276850436091,null,0.39,298.35000000000002,null,{"$f":"kuljetuslaskuri!$D$74","v":71.100000000000009},null,369.45000000000005,null,{"$f":"N_arvo*N_maara*kuljetuslaskuri!$E$87%*C115","v":59.400000000000006},{"$f":"P_arvo*P_maara*kuljetuslaskuri!$E$88%*C115","v":41.040000000000006},{"$f":"K_arvo*K_maara*kuljetuslaskuri!$E$89%*C115","v":79.2},179.64000000000001]
[null,{"$f":"kuljetuslaskuri!$D$31","v":2500},{"$f":"kuljetuslaskuri!$D$12","v":30},{"$f":"kuljetuslaskuri!$D$33","v":14},{"$f":"kuljetuslaskuri!$D$34","v":4000},12,2.1428571428571428,7.5,2,{"$f":"kuljetuslaskuri!$D$35","v":0},21.5,0.71666666666666667,null,1.3953488372093024,null,{"$f":"IF(kuljetuslaskuri!$H$17,kuljetuslaskuri!$D$17,0)","v":25},{"$f":"IF(kuljetuslaskuri!$H$18,kuljetuslaskuri!$D$18,0)","v":0},{"$f":"IF(kuljetuslaskuri!$G$19,kuljetuslaskuri!#REF!,0)","v":0},{"$f":"AVERAGE(IF(P116:R116<>0, P116:R116,\"\"))","v":25},{"$f":"S116*kuljetuslaskuri!$D$19%","v":23.75},25.75,{"$f":"kuljetuslaskuri!$D$24%","v":0},15.94,50,244.86561447533512,7.6923076923076925,7.5,{"$f":"kuljetuslaskuri!$D$25*(laskentapohja!C116/laskentapohja!T116)","v":2.5263157894736841},262.5842379571165,8.7528079319038827,0.11424905102224529,null,262.5842379571165,0.11424905102224529,null,0.75479894411577386,-1.281099786187057,null,null,null,null,null,null,null,null,null,null,{"$f":"IF(kuljetuslaskuri!$H$45,kuljetuslaskuri!$D$45,0)","v":20},{"$f":"IF(kuljetuslaskuri!$H$46,kuljetuslaskuri!$D$46,0)","v":0},{"$f":"IF(kuljetuslaskuri!$G$19,kuljetuslaskuri!#REF!,0)","v":0},{"$f":"AVERAGE(IF(AV116:AX116<>0, AV116:AX116,\"\"))","v":20},{"$f":"AY116*kuljetuslaskuri!$D$47%","v":19},25.75,{"$f":"kuljetuslaskuri!$D$52%","v":0},15.94,50,306.08201809416892,7.5,7.5,{"$f":"kuljetuslaskuri!$D$53*(laskentapohja!C116/laskentapohja!AZ116)","v":3.1578947368421053},324.239912831011,12,336.239912831011,11.207997094367034,8.922200742740953E-2,null,153.17413880831793,332.60670141234755,485.78084022066548,null,0.39,301.27500000000003,null,{"$f":"kuljetuslaskuri!$D$74","v":71.100000000000009},null,372.37500000000006,null,{"$f":"N_arvo*N_maara*kuljetuslaskuri!$E$87%*C116","v":59.400000000000006},{"$f":"P_arvo*P_maara*kuljetuslaskuri!$E$88%*C116","v":41.040000000000006},{"$f":"K_arvo*K_maara*kuljetuslaskuri!$E$89%*C116","v":79.2},179.64000000000001]
[null,{"$f":"kuljetuslaskuri!$D$31","v":2500},{"$f":"kuljetuslaskuri!$D$12","v":30},{"$f":"kuljetuslaskuri!$D$33","v":14},{"$f":"kuljetuslaskuri!$D$34","v":4000},12,2.1428571428571428,7.5,2,{"$f":"kuljetuslaskuri!$D$35","v":0},21.5,0.71666666666666667,null,1.3953488372093024,null,{"$f":"IF(kuljetuslaskuri!$H$17,kuljetuslaskuri!$D$17,0)","v":25},{"$f":"IF(kuljetuslaskuri!$H$18,kuljetuslaskuri!$D$18,0)","v":0},{"$f":"IF(kuljetuslaskuri!$G$19,kuljetuslaskuri!#REF!,0)","v":0},{"$f":"AVERAGE(IF(P117:R117<>0, P117:R117,\"\"))","v":25},{"$f":"S117*kuljetuslaskuri!$D$19%","v":23.75},26,{"$f":"kuljetuslaskuri!$D$24%","v":0},15.94,50,247.24295053820245,7.6923076923076925,7.5,{"$f":"kuljetuslaskuri!$D$25*(laskentapohja!C117/laskentapohja!T117)","v":2.5263157894736841},264.96157401998386,8.8320524673327956,0.11322396506346746,null,264.96157401998386,0.11322396506346746,null,0.7542864011363849,-1.2821248721458349,null,null,null,null,null,null,null,null,null,null,{"$f":"IF(kuljetuslaskuri!$H$45,kuljetuslaskuri!$D$45,0)","v":20},{"$f":"IF(kuljetuslaskuri!$H$46,kuljetuslaskuri!$D$46,0)","v":0},{"$f":"IF(kuljetuslaskuri!$G$19,kuljetuslaskuri!#REF!,0)","v":0},{"$f":"AVERAGE(IF(AV117:AX117<>0, AV117:AX117,\"\"))","v":20},{"$f":"AY117*kuljetuslaskuri!$D$47%","v":19},26,{"$f":"kuljetuslaskuri!$D$52%","v":0},15.94,50,309.05368817275308,7.5,7.5,{"$f":"kuljetuslaskuri!$D$53*(laskentapohja!C117/laskentapohja!AZ117)","v":3.1578947368421053},327.21158290959517,12,339.21158290959517,11.307052763653171,8.8440376188437642E-2,null,154.56091817832393,335.61799375864621,490.17891193697017,null,0.39,304.20000000000005,null,{"$f":"kuljetuslaskuri!$D$74","v":71.100000000000009},null,375.30000000000007,null,{"$f":"N_arvo*N_maara*kuljetuslaskuri!$E$87%*C117","v":59.400000000000006},{"$f":"P_arvo*P_maara*kuljetuslaskuri!$E$88%*C117","v":41.040000000000006},{"$f":"K_arvo*K_maara*kuljetuslaskuri!$E$89%*C117","v":79.2},179.64000000000001]
[null,{"$f":"kuljetuslaskuri!$D$31","v":2500},{"$f":"kuljetuslaskuri!$D$12","v":30},{"$f":"kuljetuslaskuri!$D$33","v":14},{"$f":"kuljetuslaskuri!$D$34","v":4000},12,2.1428571428571428,7.5,2,{"$f":"kuljetuslaskuri!$D$35","v":0},21.5,0.71666666666666667,null,1.3953488372093024,null,{"$f":"IF(kuljetuslaskuri!$H$17,kuljetuslaskuri!$D$17,0)","v":25},{"$f":"IF(kuljetuslaskuri!$H$18,kuljetuslaskuri!$D$18,0)","v":0},{"$f":"IF(kuljetuslaskuri!$G$19,kuljetuslaskuri!#REF!,0)","v":0},{"$f":"AVERAGE(IF(P118:R118<>0, P118:R118,\"\"))","v":25},{"$f":"S118*kuljetuslaskuri!$D$19%","v":23.75},26.25,{"$f":"kuljetuslaskuri!$D$24%","v":0},15.94,50,249.62028660106978,7.6923076923076925,7.5,{"$f":"kuljetuslaskuri!$D$25*(laskentapohja!C118/laskentapohja!T118)","v":2.5263157894736841},267.33891008285116,8.9112970027617049,0.11221711044869108,null,267.33891008285116,0.11221711044869108,null,0.75378297382899673,-1.2831317267606113,null,null,null,null,null,null,null,null,null,null,{"$f":"IF(kuljetuslaskuri!$H$45,kuljetuslaskuri!$D$45,0)","v":20},{"$f":"IF(kuljetuslaskuri!$H$46,kuljetuslaskuri!$D$46,0)","v":0},{"$f":"IF(kuljetuslaskuri!$G$19,kuljetuslaskuri!#REF!,0)","v":0},{"$f":"AVERAGE(IF(AV118:AX118<>0, AV118:AX118,\"\"))","v":20},{"$f":"AY118*kuljetuslaskuri!$D$47%","v":19},26.25,{"$f":"kuljetuslaskuri!$D$52%","v":0},15.94,50,312.02535825133725,7.5,7.5,{"$f":"kuljetuslaskuri!$D$53*(laskentapohja!C118/laskentapohja!AZ118)","v":3.1578947368421053},330.18325298817933,12,342.18325298817933,11.406108432939311,8.7672321009340415E-2,null,155.94769754832984,338.62928610494481,494.57698365327462,null,0.39,307.125,null,{"$f":"kuljetuslaskuri!$D$74","v":71.100000000000009},null,378.22500000000002,null,{"$f":"N_arvo*N_maara*kuljetuslaskuri!$E$87%*C118","v":59.400000000000006},{"$f":"P_arvo*P_maara*kuljetuslaskuri!$E$88%*C118","v":41.040000000000006},{"$f":"K_arvo*K_maara*kuljetuslaskuri!$E$89%*C118","v":79.2},179.64000000000001]
[null,{"$f":"kuljetuslaskuri!$D$31","v":2500},{"$f":"kuljetuslaskuri!$D$12","v":30},{"$f":"kuljetuslaskuri!$D$33","v":14},{"$f":"kuljetuslaskuri!$D$34","v":4000},12,2.1428571428571428,7.5,2,{"$f":"kuljetuslaskuri!$D$35","v":0},21.5,0.71666666666666667,null,1.3953488372093024,null,{"$f":"IF(kuljetuslaskuri!$H$17,kuljetuslaskuri!$D$17,0)","v":25},{"$f":"IF(kuljetuslaskuri!$H$18,kuljetuslaskuri!$D$18,0)","v":0},{"$f":"IF(kuljetuslaskuri!$G$19,kuljetuslaskuri!#REF!,0)","v":0},{"$f":"AVERAGE(IF(P119:R119<>0, P119:R119,\"\"))","v":25},{"$f":"S119*kuljetuslaskuri!$D$19%","v":23.75},26.5,{"$f":"kuljetuslaskuri!$D$24%","v":0},15.94,50,251.99762266393711,7.6923076923076925,7.5,{"$f":"kuljetuslaskuri!$D$25*(laskentapohja!C119/laskentapohja!T119)","v":2.5263157894736841},269.71624614571851,8.9905415381906177,0.11122800509314526,null,269.71624614571851,0.11122800509314526,null,0.75328842115122385,-1.284120832116157,null,null,null,null,null,null,null,null,null,null,{"$f":"IF(kuljetuslaskuri!$H$45,kuljetuslaskuri!$D$45,0)","v":20},{"$f":"IF(kuljetuslaskuri!$H$46,kuljetuslaskuri!$D$46,0)","v":0},{"$f":"IF(kuljetuslaskuri!$G$19,kuljetuslaskuri!#REF!,0)","v":0},{"$f":"AVERAGE(IF(AV119:AX119<>0, AV119:AX119,\"\"))","v":20},{"$f":"AY119*kuljetuslaskuri!$D$47%","v":19},26.5,{"$f":"kuljetuslaskuri!$D$52%","v":0},15.94,50,314.99702832992142,7.5,7.5,{"$f":"kuljetuslaskuri!$D$53*(laskentapohja!C119/laskentapohja!AZ119)","v":3.1578947368421053},333.1549230667635,12,345.1549230667635,11.50516410222545,8.691749123392073E-2,null,157.33447691833581,341.64057845124347,498.97505536957931,null,0.39,310.05,null,{"$f":"kuljetuslaskuri!$D$74","v":71.100000000000009},null,381.15000000000003,null,{"$f":"N_arvo*N_maara*kuljetuslaskuri!$E$87%*C119","v":59.400000000000006},{"$f":"P_arvo*P_maara*kuljetuslaskuri!$E$88%*C119","v":41.040000000000006},{"$f":"K_arvo*K_maara*kuljetuslaskuri!$E$89%*C119","v":79.2},179.64000000000001]
[null,{"$f":"kuljetuslaskuri!$D$31","v":2500},{"$f":"kuljetuslaskuri!$D$12","v":30},{"$f":"kuljetuslaskuri!$D$33","v":14},{"$f":"kuljetuslaskuri!$D$34","v":4000},12,2.1428571428571428,7.5,2,{"$f":"kuljetuslaskuri!$D$35","v":0},21.5,0.71666666666666667,null,1.3953488372093024,null,{"$f":"IF(kuljetuslaskuri!$H$17,kuljetuslaskuri!$D$17,0)","v":25},{"$f":"IF(kuljetuslaskuri!$H$18,kuljetuslaskuri!$D$18,0)","v":0},{"$f":"IF(kuljetuslaskuri!$G$19,kuljetuslaskuri!#REF!,0)","v":0},{"$f":"AVERAGE(IF(P120:R120<>0, P120:R120,\"\"))","v":25},{"$f":"S120*kuljetuslaskuri!$D$19%","v":23.75},26.75,{"$f":"kuljetuslaskuri!$D$24%","v":0},15.94,50,254.37495872680446,7.6923076923076925,7.5,{"$f":"kuljetuslaskuri!$D$25*(laskentapohja!C120/laskentapohja!T120)","v":2.5263157894736841},272.09358220858587,9.0697860736195288,0.1102561837603436,null,272.09358220858587,0.1102561837603436,null,0.75280251048482294,-1.2850926534489588,null,null,null,null,null,null,null,null,null,null,{"$f":"IF(kuljetuslaskuri!$H$45,kuljetuslaskuri!$D$45,0)","v":20},{"$f":"IF(kuljetuslaskuri!$H$46,kuljetuslaskuri!$D$46,0)","v":0},{"$f":"IF(kuljetuslaskuri!$G$19,kuljetuslaskuri!#REF!,0)","v":0},{"$f":"AVERAGE(IF(AV120:AX120<>0, AV120:AX120,\"\"))","v":20},{"$f":"AY120*kuljetuslaskuri!$D$47%","v":19},26.75,{"$f":"kuljetuslaskuri!$D$52%","v":0},15.94,50,317.96869840850559,7.5,7.5,{"$f":"kuljetuslaskuri!$D$53*(laskentapohja!C120/laskentapohja!AZ120)","v":3.1578947368421053},336.12659314534767,12,348.12659314534767,11.604219771511589,8.6175548179034361E-2,null,158.72125628834175,344.65187079754207,503.37312708588382,null,0.39,312.97500000000002,null,{"$f":"kuljetuslaskuri!$D$74","v":71.100000000000009},null,384.07500000000005,null,{"$f":"N_arvo*N_maara*kuljetuslaskuri!$E$87%*C120","v":59.400000000000006},{"$f":"P_arvo*P_maara*kuljetuslaskuri!$E$88%*C120","v":41.040000000000006},{"$f":"K_arvo*K_maara*kuljetuslaskuri!$E$89%*C120","v":79.2},179.64000000000001]
[null,{"$f":"kuljetuslaskuri!$D$31","v":2500},{"$f":"kuljetuslaskuri!$D$12","v":30},{"$f":"kuljetuslaskuri!$D$33","v":14},{"$f":"kuljetuslaskuri!$D$34","v":4000},12,2.1428571428571428,7.5,2,{"$f":"kuljetuslaskuri!$D$35","v":0},21.5,0.71666666666666667,null,1.3953488372093024,null,{"$f":"IF(kuljetuslaskuri!$H$17,kuljetuslaskuri!$D$17,0)","v":25},{"$f":"IF(kuljetuslaskuri!$H$18,kuljetuslaskuri!$D$18,0)","v":0},{"$f":"IF(kuljetuslaskuri!$G$19,kuljetuslaskuri!#REF!,0)","v":0},{"$f":"AVERAGE(IF(P121:R121<>0, P121:R121,\"\"))","v":25},{"$f":"S121*kuljetuslaskuri!$D$19%","v":23.75},27,{"$f":"kuljetuslaskuri!$D$24%","v":0},15.94,50,256.75229478967179,7.6923076923076925,7.5,{"$f":"kuljetuslaskuri!$D$25*(laskentapohja!C121/laskentapohja!T121)","v":2.5263157894736841},274.47091827145317,9.1490306090484399,0.10930119733242499,null,274.47091827145317,0.10930119733242499,null,0.75232501727086365,-1.2860476398768774,null,null,null,null,null,null,null,null,null,null,{"$f":"IF(kuljetuslaskuri!$H$45,kuljetuslaskuri!$D$45,0)","v":20},{"$f":"IF(kuljetuslaskuri!$H$46,kuljetuslaskuri!$D$46,0)","v":0},{"$f":"IF(kuljetuslaskuri!$G$19,kuljetuslaskuri!#REF!,0)","v":0},{"$f":"AVERAGE(IF(AV121:AX121<>0, AV121:AX121,\"\"))","v":20},{"$f":"AY121*kuljetuslaskuri!$D$47%","v":19},27,{"$f":"kuljetuslaskuri!$D$52%","v":0},15.94,50,320.94036848708976,7.5,7.5,{"$f":"kuljetuslaskuri!$D$53*(laskentapohja!C121/laskentapohja!AZ121)","v":3.1578947368421053},339.09826322393184,12,351.09826322393184,11.703275440797729,8.5446164627894727E-2,null,160.10803565834769,347.66316314384073,507.77119880218845,null,0.39,315.90000000000003,null,{"$f":"kuljetuslaskuri!$D$74","v":71.100000000000009},null,387.00000000000006,null,{"$f":"N_arvo*N_maara*kuljetuslaskuri!$E$87%*C121","v":59.400000000000006},{"$f":"P_arvo*P_maara*kuljetuslaskuri!$E$88%*C121","v":41.040000000000006},{"$f":"K_arvo*K_maara*kuljetuslaskuri!$E$89%*C121","v":79.2},179.64000000000001]
[null,{"$f":"kuljetuslaskuri!$D$31","v":2500},{"$f":"kuljetuslaskuri!$D$12","v":30},{"$f":"kuljetuslaskuri!$D$33","v":14},{"$f":"kuljetuslaskuri!$D$34","v":4000},12,2.1428571428571428,7.5,2,{"$f":"kuljetuslaskuri!$D$35","v":0},21.5,0.71666666666666667,null,1.3953488372093024,null,{"$f":"IF(kuljetuslaskuri!$H$17,kuljetuslaskuri!$D$17,0)","v":25},{"$f":"IF(kuljetuslaskuri!$H$18,kuljetuslaskuri!$D$18,0)","v":0},{"$f":"IF(kuljetuslaskuri!$G$19,kuljetuslaskuri!#REF!,0)","v":0},{"$f":"AVERAGE(IF(P122:R122<>0, P122:R122,\"\"))","v":25},{"$f":"S122*kuljetuslaskuri!$D$19%","v":23.75},27.25,{"$f":"kuljetuslaskuri!$D$24%","v":0},15.94,50,259.12963085253915,7.6923076923076925,7.5,{"$f":"kuljetuslaskuri!$D$25*(laskentapohja!C122/laskentapohja!T122)","v":2.5263157894736841},276.84825433432053,9.228275144477351,0.1083626121180889,null,276.84825433432053,0.1083626121180889,null,0.75185572466369566,-1.2869862250912134,null,null,null,null,null,null,null,null,null,null,{"$f":"IF(kuljetuslaskuri!$H$45,kuljetuslaskuri!$D$45,0)","v":20},{"$f":"IF(kuljetuslaskuri!$H$46,kuljetuslaskuri!$D$46,0)","v":0},{"$f":"IF(kuljetuslaskuri!$G$19,kuljetuslaskuri!#REF!,0)","v":0},{"$f":"AVERAGE(IF(AV122:AX122<>0, AV122:AX122,\"\"))","v":20},{"$f":"AY122*kuljetuslaskuri!$D$47%","v":19},27.25,{"$f":"kuljetuslaskuri!$D$52%","v":0},15.94,50,323.91203856567392,7.5,7.5,{"$f":"kuljetuslaskuri!$D$53*(laskentapohja!C122/laskentapohja!AZ122)","v":3.1578947368421053},342.06993330251601,12,354.06993330251601,11.802331110083866,8.4729024348893567E-2,null,161.49481502835363,350.67445549013934,512.16927051849302,null,0.39,318.82500000000005,null,{"$f":"kuljetuslaskuri!$D$74","v":71.100000000000009},null,389.92500000000007,null,{"$f":"N_arvo*N_maara*kuljetuslaskuri!$E$87%*C122","v":59.400000000000006},{"$f":"P_arvo*P_maara*kuljetuslaskuri!$E$88%*C122","v":41.040000000000006},{"$f":"K_arvo*K_maara*kuljetuslaskuri!$E$89%*C122","v":79.2},179.64000000000001]
[null,{"$f":"kuljetuslaskuri!$D$31","v":2500},{"$f":"kuljetuslaskuri!$D$12","v":30},{"$f":"kuljetuslaskuri!$D$33","v":14},{"$f":"kuljetuslaskuri!$D$34","v":4000},12,2.1428571428571428,7.5,2,{"$f":"kuljetuslaskuri!$D$35","v":0},21.5,0.71666666666666667,null,1.3953488372093024,null,{"$f":"IF(kuljetuslaskuri!$H$17,kuljetuslaskuri!$D$17,0)","v":25},{"$f":"IF(kuljetuslaskuri!$H$18,kuljetuslaskuri!$D$18,0)","v":0},{"$f":"IF(kuljetuslaskuri!$G$19,kuljetuslaskuri!#REF!,0)","v":0},{"$f":"AVERAGE(IF(P123:R123<>0, P123:R123,\"\"))","v":25},{"$f":"S123*kuljetuslaskuri!$D$19%","v":23.75},27.5,{"$f":"kuljetuslaskuri!$D$24%","v":0},15.94,50,261.50696691540645,7.6923076923076925,7.5,{"$f":"kuljetuslaskuri!$D$25*(laskentapohja!C123/laskentapohja!T123)","v":2.5263157894736841},279.22559039718783,9.3075196799062603,0.10744000919588401,null,279.22559039718783,0.10744000919588401,null,0.7513944232025932,-1.2879088280134183,null,null,null,null,null,null,null,null,null,null,{"$f":"IF(kuljetuslaskuri!$H$45,kuljetuslaskuri!$D$45,0)","v":20},{"$f":"IF(kuljetuslaskuri!$H$46,kuljetuslaskuri!$D$46,0)","v":0},{"$f":"IF(kuljetuslaskuri!$G$19,kuljetuslaskuri!#REF!,0)","v":0},{"$f":"AVERAGE(IF(AV123:AX123<>0, AV123:AX123,\"\"))","v":20},{"$f":"AY123*kuljetuslaskuri!$D$47%","v":19},27.5,{"$f":"kuljetuslaskuri!$D$52%","v":0},15.94,50,326.88370864425809,7.5,7.5,{"$f":"kuljetuslaskuri!$D$53*(laskentapohja!C123/laskentapohja!AZ123)","v":3.1578947368421053},345.04160338110017,12,357.04160338110017,11.901386779370005,8.4023821638450652E-2,null,162.88159439835957,353.68574783643788,516.56734223479748,null,0.39,321.75000000000006,null,{"$f":"kuljetuslaskuri!$D$74","v":71.100000000000009},null,392.85000000000008,null,{"$f":"N_arvo*N_maara*kuljetuslaskuri!$E$87%*C123","v":59.400000000000006},{"$f":"P_arvo*P_maara*kuljetuslaskuri!$E$88%*C123","v":41.040000000000006},{"$f":"K_arvo*K_maara*kuljetuslaskuri!$E$89%*C123","v":79.2},179.64000000000001]
[null,{"$f":"kuljetuslaskuri!$D$31","v":2500},{"$f":"kuljetuslaskuri!$D$12","v":30},{"$f":"kuljetuslaskuri!$D$33","v":14},{"$f":"kuljetuslaskuri!$D$34","v":4000},12,2.1428571428571428,7.5,2,{"$f":"kuljetuslaskuri!$D$35","v":0},21.5,0.71666666666666667,null,1.3953488372093024,null,{"$f":"IF(kuljetuslaskuri!$H$17,kuljetuslaskuri!$D$17,0)","v":25},{"$f":"IF(kuljetuslaskuri!$H$18,kuljetuslaskuri!$D$18,0)","v":0},{"$f":"IF(kuljetuslaskuri!$G$19,kuljetuslaskuri!#REF!,0)","v":0},{"$f":"AVERAGE(IF(P124:R124<>0, P124:R124,\"\"))","v":25},{"$f":"S124*kuljetuslaskuri!$D$19%","v":23.75},27.75,{"$f":"kuljetuslaskuri!$D$24%","v":0},15.94,50,263.88430297827381,7.6923076923076925,7.5,{"$f":"kuljetuslaskuri!$D$25*(laskentapohja!C124/laskentapohja!T124)","v":2.5263157894736841},281.60292646005519,9.3867642153351731,0.10653298379076127,null,281.60292646005519,0.10653298379076127,null,0.75094091050003187,-1.288815853418541,null,null,null,null,null,null,null,null,null,null,{"$f":"IF(kuljetuslaskuri!$H$45,kuljetuslaskuri!$D$45,0)","v":20},{"$f":"IF(kuljetuslaskuri!$H$46,kuljetuslaskuri!$D$46,0)","v":0},{"$f":"IF(kuljetuslaskuri!$G$19,kuljetuslaskuri!#REF!,0)","v":0},{"$f":"AVERAGE(IF(AV124:AX124<>0, AV124:AX124,\"\"))","v":20},{"$f":"AY124*kuljetuslaskuri!$D$47%","v":19},27.75,{"$f":"kuljetuslaskuri!$D$52%","v":0},15.94,50,329.85537872284226,7.5,7.5,{"$f":"kuljetuslaskuri!$D$53*(laskentapohja!C124/laskentapohja!AZ124)","v":3.1578947368421053},348.01327345968434,12,360.01327345968434,12.000442448656145,8.3330260886504554E-2,null,164.26837376836554,356.6970401827366,520.96541395110216,null,0.39,324.67500000000001,null,{"$f":"kuljetuslaskuri!$D$74","v":71.100000000000009},null,395.77500000000003,null,{"$f":"N_arvo*N_maara*kuljetuslaskuri!$E$87%*C124","v":59.400000000000006},{"$f":"P_arvo*P_maara*kuljetuslaskuri!$E$88%*C124","v":41.040000000000006},{"$f":"K_arvo*K_maara*kuljetuslaskuri!$E$89%*C124","v":79.2},179.64000000000001]
[null,{"$f":"kuljetuslaskuri!$D$31","v":2500},{"$f":"kuljetuslaskuri!$D$12","v":30},{"$f":"kuljetuslaskuri!$D$33","v":14},{"$f":"kuljetuslaskuri!$D$34","v":4000},12,2.1428571428571428,7.5,2,{"$f":"kuljetuslaskuri!$D$35","v":0},21.5,0.71666666666666667,null,1.3953488372093024,null,{"$f":"IF(kuljetuslaskuri!$H$17,kuljetuslaskuri!$D$17,0)","v":25},{"$f":"IF(kuljetuslaskuri!$H$18,kuljetuslaskuri!$D$18,0)","v":0},{"$f":"IF(kuljetuslaskuri!$G$19,kuljetuslaskuri!#REF!,0)","v":0},{"$f":"AVERAGE(IF(P125:R125<>0, P125:R125,\"\"))","v":25},{"$f":"S125*kuljetuslaskuri!$D$19%","v":23.75},28,{"$f":"kuljetuslaskuri!$D$24%","v":0},15.94,50,266.26163904114111,7.6923076923076925,7.5,{"$f":"kuljetuslaskuri!$D$25*(laskentapohja!C125/laskentapohja!T125)","v":2.5263157894736841},283.98026252292249,9.4660087507640824,0.10564114468194227,null,283.98026252292249,0.10564114468194227,null,0.75049499094562233,-1.2897076925273601,null,null,null,null,null,null,null,null,null,null,{"$f":"IF(kuljetuslaskuri!$H$45,kuljetuslaskuri!$D$45,0)","v":20},{"$f":"IF(kuljetuslaskuri!$H$46,kuljetuslaskuri!$D$46,0)","v":0},{"$f":"IF(kuljetuslaskuri!$G$19,kuljetuslaskuri!#REF!,0)","v":0},{"$f":"AVERAGE(IF(AV125:AX125<>0, AV125:AX125,\"\"))","v":20},{"$f":"AY125*kuljetuslaskuri!$D$47%","v":19},28,{"$f":"kuljetuslaskuri!$D$52%","v":0},15.94,50,332.82704880142643,7.5,7.5,{"$f":"kuljetuslaskuri!$D$53*(laskentapohja!C125/laskentapohja!AZ125)","v":3.1578947368421053},350.98494353826851,12,362.98494353826851,12.099498117942284,8.264805616334657E-2,null,165.65515313837145,359.70833252903515,525.36348566740662,null,0.39,327.60000000000002,null,{"$f":"kuljetuslaskuri!$D$74","v":71.100000000000009},null,398.70000000000005,null,{"$f":"N_arvo*N_maara*kuljetuslaskuri!$E$87%*C125","v":59.400000000000006},{"$f":"P_arvo*P_maara*kuljetuslaskuri!$E$88%*C125","v":41.040000000000006},{"$f":"K_arvo*K_maara*kuljetuslaskuri!$E$89%*C125","v":79.2},179.64000000000001]
[null,{"$f":"kuljetuslaskuri!$D$31","v":2500},{"$f":"kuljetuslaskuri!$D$12","v":30},{"$f":"kuljetuslaskuri!$D$33","v":14},{"$f":"kuljetuslaskuri!$D$34","v":4000},12,2.1428571428571428,7.5,2,{"$f":"kuljetuslaskuri!$D$35","v":0},21.5,0.71666666666666667,null,1.3953488372093024,null,{"$f":"IF(kuljetuslaskuri!$H$17,kuljetuslaskuri!$D$17,0)","v":25},{"$f":"IF(kuljetuslaskuri!$H$18,kuljetuslaskuri!$D$18,0)","v":0},{"$f":"IF(kuljetuslaskuri!$G$19,kuljetuslaskuri!#REF!,0)","v":0},{"$f":"AVERAGE(IF(P126:R126<>0, P126:R126,\"\"))","v":25},{"$f":"S126*kuljetuslaskuri!$D$19%","v":23.75},28.25,{"$f":"kuljetuslaskuri!$D$24%","v":0},15.94,50,268.63897510400841,7.6923076923076925,7.5,{"$f":"kuljetuslaskuri!$D$25*(laskentapohja!C126/laskentapohja!T126)","v":2.5263157894736841},286.35759858578979,9.5452532861929935,0.10476411364028221,null,286.35759858578979,0.10476411364028221,null,0.75005647542479226,-1.2905847235690202,null,null,null,null,null,null,null,null,null,null,{"$f":"IF(kuljetuslaskuri!$H$45,kuljetuslaskuri!$D$45,0)","v":20},{"$f":"IF(kuljetuslaskuri!$H$46,kuljetuslaskuri!$D$46,0)","v":0},{"$f":"IF(kuljetuslaskuri!$G$19,kuljetuslaskuri!#REF!,0)","v":0},{"$f":"AVERAGE(IF(AV126:AX126<>0, AV126:AX126,\"\"))","v":20},{"$f":"AY126*kuljetuslaskuri!$D$47%","v":19},28.25,{"$f":"kuljetuslaskuri!$D$52%","v":0},15.94,50,335.7987188800106,7.5,7.5,{"$f":"kuljetuslaskuri!$D$53*(laskentapohja!C126/laskentapohja!AZ126)","v":3.1578947368421053},353.95661361685268,12,365.95661361685268,12.198553787228423,8.1976930826584929E-2,null,167.04193250837739,362.71962487533375,529.76155738371108,null,0.39,330.52500000000003,null,{"$f":"kuljetuslaskuri!$D$74","v":71.100000000000009},null,401.62500000000006,null,{"$f":"N_arvo*N_maara*kuljetuslaskuri!$E$87%*C126","v":59.400000000000006},{"$f":"P_arvo*P_maara*kuljetuslaskuri!$E$88%*C126","v":41.040000000000006},{"$f":"K_arvo*K_maara*kuljetuslaskuri!$E$89%*C126","v":79.2},179.64000000000001]
[null,{"$f":"kuljetuslaskuri!$D$31","v":2500},{"$f":"kuljetuslaskuri!$D$12","v":30},{"$f":"kuljetuslaskuri!$D$33","v":14},{"$f":"kuljetuslaskuri!$D$34","v":4000},12,2.1428571428571428,7.5,2,{"$f":"kuljetuslaskuri!$D$35","v":0},21.5,0.71666666666666667,null,1.3953488372093024,null,{"$f":"IF(kuljetuslaskuri!$H$17,kuljetuslaskuri!$D$17,0)","v":25},{"$f":"IF(kuljetuslaskuri!$H$18,kuljetuslaskuri!$D$18,0)","v":0},{"$f":"IF(kuljetuslaskuri!$G$19,kuljetuslaskuri!#REF!,0)","v":0},{"$f":"AVERAGE(IF(P127:R127<>0, P127:R127,\"\"))","v":25},{"$f":"S127*kuljetuslaskuri!$D$19%","v":23.75},28.5,{"$f":"kuljetuslaskuri!$D$24%","v":0},15.94,50,271.01631116687577,7.6923076923076925,7.5,{"$f":"kuljetuslaskuri!$D$25*(laskentapohja!C127/laskentapohja!T127)","v":2.5263157894736841},288.73493464865714,9.6244978216219046,0.10390152489342884,null,288.73493464865714,0.10390152489342884,null,0.74962518105136555,-1.2914473123158736,null,null,null,null,null,null,null,null,null,null,{"$f":"IF(kuljetuslaskuri!$H$45,kuljetuslaskuri!$D$45,0)","v":20},{"$f":"IF(kuljetuslaskuri!$H$46,kuljetuslaskuri!$D$46,0)","v":0},{"$f":"IF(kuljetuslaskuri!$G$19,kuljetuslaskuri!#REF!,0)","v":0},{"$f":"AVERAGE(IF(AV127:AX127<>0, AV127:AX127,\"\"))","v":20},{"$f":"AY127*kuljetuslaskuri!$D$47%","v":19},28.5,{"$f":"kuljetuslaskuri!$D$52%","v":0},15.94,50,338.77038895859471,7.5,7.5,{"$f":"kuljetuslaskuri!$D$53*(laskentapohja!C127/laskentapohja!AZ127)","v":3.1578947368421053},356.92828369543679,12,368.92828369543679,12.297609456514559,8.1316617147103989E-2,null,168.42871187838333,365.73091722163235,534.15962910001565,null,0.39,333.45000000000005,null,{"$f":"kuljetuslaskuri!$D$74","v":71.100000000000009},null,404.55000000000007,null,{"$f":"N_arvo*N_maara*kuljetuslaskuri!$E$87%*C127","v":59.400000000000006},{"$f":"P_arvo*P_maara*kuljetuslaskuri!$E$88%*C127","v":41.040000000000006},{"$f":"K_arvo*K_maara*kuljetuslaskuri!$E$89%*C127","v":79.2},179.64000000000001]
[null,{"$f":"kuljetuslaskuri!$D$31","v":2500},{"$f":"kuljetuslaskuri!$D$12","v":30},{"$f":"kuljetuslaskuri!$D$33","v":14},{"$f":"kuljetuslaskuri!$D$34","v":4000},12,2.1428571428571428,7.5,2,{"$f":"kuljetuslaskuri!$D$35","v":0},21.5,0.71666666666666667,null,1.3953488372093024,null,{"$f":"IF(kuljetuslaskuri!$H$17,kuljetuslaskuri!$D$17,0)","v":25},{"$f":"IF(kuljetuslaskuri!$H$18,kuljetuslaskuri!$D$18,0)","v":0},{"$f":"IF(kuljetuslaskuri!$G$19,kuljetuslaskuri!#REF!,0)","v":0},{"$f":"AVERAGE(IF(P128:R128<>0, P128:R128,\"\"))","v":25},{"$f":"S128*kuljetuslaskuri!$D$19%","v":23.75},28.75,{"$f":"kuljetuslaskuri!$D$24%","v":0},15.94,50,273.39364722974312,7.6923076923076925,7.5,{"$f":"kuljetuslaskuri!$D$25*(laskentapohja!C128/laskentapohja!T128)","v":2.5263157894736841},291.1122707115245,9.7037423570508174,0.1030530246171872,null,291.1122707115245,0.1030530246171872,null,0.7492009309132448,-1.2922958125921151,null,null,null,null,null,null,null,null,null,null,{"$f":"IF(kuljetuslaskuri!$H$45,kuljetuslaskuri!$D$45,0)","v":20},{"$f":"IF(kuljetuslaskuri!$H$46,kuljetuslaskuri!$D$46,0)","v":0},{"$f":"IF(kuljetuslaskuri!$G$19,kuljetuslaskuri!#REF!,0)","v":0},{"$f":"AVERAGE(IF(AV128:AX128<>0, AV128:AX128,\"\"))","v":20},{"$f":"AY128*kuljetuslaskuri!$D$47%","v":19},28.75,{"$f":"kuljetuslaskuri!$D$52%","v":0},15.94,50,341.74205903717893,7.5,7.5,{"$f":"kuljetuslaskuri!$D$53*(laskentapohja!C128/laskentapohja!AZ128)","v":3.1578947368421053},359.89995377402101,12,371.89995377402101,12.3966651258007,8.066685595295614E-2,null,169.81549124838929,368.74220956793107,538.55770081632033,null,0.39,336.37500000000006,null,{"$f":"kuljetuslaskuri!$D$74","v":71.100000000000009},null,407.47500000000008,null,{"$f":"N_arvo*N_maara*kuljetuslaskuri!$E$87%*C128","v":59.400000000000006},{"$f":"P_arvo*P_maara*kuljetuslaskuri!$E$88%*C128","v":41.040000000000006},{"$f":"K_arvo*K_maara*kuljetuslaskuri!$E$89%*C128","v":79.2},179.64000000000001]
[null,{"$f":"kuljetuslaskuri!$D$31","v":2500},{"$f":"kuljetuslaskuri!$D$12","v":30},{"$f":"kuljetuslaskuri!$D$33","v":14},{"$f":"kuljetuslaskuri!$D$34","v":4000},12,2.1428571428571428,7.5,2,{"$f":"kuljetuslaskuri!$D$35","v":0},21.5,0.71666666666666667,null,1.3953488372093024,null,{"$f":"IF(kuljetuslaskuri!$H$17,kuljetuslaskuri!$D$17,0)","v":25},{"$f":"IF(kuljetuslaskuri!$H$18,kuljetuslaskuri!$D$18,0)","v":0},{"$f":"IF(kuljetuslaskuri!$G$19,kuljetuslaskuri!#REF!,0)","v":0},{"$f":"AVERAGE(IF(P129:R129<>0, P129:R129,\"\"))","v":25},{"$f":"S129*kuljetuslaskuri!$D$19%","v":23.75},29,{"$f":"kuljetuslaskuri!$D$24%","v":0},15.94,50,275.77098329261048,7.6923076923076925,7.5,{"$f":"kuljetuslaskuri!$D$25*(laskentapohja!C129/laskentapohja!T129)","v":2.5263157894736841},293.48960677439186,9.7829868924797285,0.10221827045160503,null,293.48960677439186,0.10221827045160503,null,0.7487835538304537,-1.2931305667576973,null,null,null,null,null,null,null,null,null,null,{"$f":"IF(kuljetuslaskuri!$H$45,kuljetuslaskuri!$D$45,0)","v":20},{"$f":"IF(kuljetuslaskuri!$H$46,kuljetuslaskuri!$D$46,0)","v":0},{"$f":"IF(kuljetuslaskuri!$G$19,kuljetuslaskuri!#REF!,0)","v":0},{"$f":"AVERAGE(IF(AV129:AX129<>0, AV129:AX129,\"\"))","v":20},{"$f":"AY129*kuljetuslaskuri!$D$47%","v":19},29,{"$f":"kuljetuslaskuri!$D$52%","v":0},15.94,50,344.7137291157631,7.5,7.5,{"$f":"kuljetuslaskuri!$D$53*(laskentapohja!C129/laskentapohja!AZ129)","v":3.1578947368421053},362.87162385260518,12,374.87162385260518,12.495720795086839,8.0027396290191399E-2,null,171.20227061839526,371.75350191422967,542.95577253262491,null,0.39,339.3,null,{"$f":"kuljetuslaskuri!$D$74","v":71.100000000000009},null,410.40000000000003,null,{"$f":"N_arvo*N_maara*kuljetuslaskuri!$E$87%*C129","v":59.400000000000006},{"$f":"P_arvo*P_maara*kuljetuslaskuri!$E$88%*C129","v":41.040000000000006},{"$f":"K_arvo*K_maara*kuljetuslaskuri!$E$89%*C129","v":79.2},179.64000000000001]
[null,{"$f":"kuljetuslaskuri!$D$31","v":2500},{"$f":"kuljetuslaskuri!$D$12","v":30},{"$f":"kuljetuslaskuri!$D$33","v":14},{"$f":"kuljetuslaskuri!$D$34","v":4000},12,2.1428571428571428,7.5,2,{"$f":"kuljetuslaskuri!$D$35","v":0},21.5,0.71666666666666667,null,1.3953488372093024,null,{"$f":"IF(kuljetuslaskuri!$H$17,kuljetuslaskuri!$D$17,0)","v":25},{"$f":"IF(kuljetuslaskuri!$H$18,kuljetuslaskuri!$D$18,0)","v":0},{"$f":"IF(kuljetuslaskuri!$G$19,kuljetuslaskuri!#REF!,0)","v":0},{"$f":"AVERAGE(IF(P130:R130<>0, P130:R130,\"\"))","v":25},{"$f":"S130*kuljetuslaskuri!$D$19%","v":23.75},29.25,{"$f":"kuljetuslaskuri!$D$24%","v":0},15.94,50,278.14831935547778,7.6923076923076925,7.5,{"$f":"kuljetuslaskuri!$D$25*(laskentapohja!C130/laskentapohja!T130)","v":2.5263157894736841},295.86694283725916,9.8622314279086378,0.10139693104038806,null,295.86694283725916,0.10139693104038806,null,0.74837288412484526,-1.2939519061689142,null,null,null,null,null,null,null,null,null,null,{"$f":"IF(kuljetuslaskuri!$H$45,kuljetuslaskuri!$D$45,0)","v":20},{"$f":"IF(kuljetuslaskuri!$H$46,kuljetuslaskuri!$D$46,0)","v":0},{"$f":"IF(kuljetuslaskuri!$G$19,kuljetuslaskuri!#REF!,0)","v":0},{"$f":"AVERAGE(IF(AV130:AX130<>0, AV130:AX130,\"\"))","v":20},{"$f":"AY130*kuljetuslaskuri!$D$47%","v":19},29.25,{"$f":"kuljetuslaskuri!$D$52%","v":0},15.94,50,347.68539919434727,7.5,7.5,{"$f":"kuljetuslaskuri!$D$53*(laskentapohja!C130/laskentapohja!AZ130)","v":3.1578947368421053},365.84329393118935,12,377.84329393118935,12.594776464372979,7.9397995099691851E-2,null,172.58904998840117,374.76479426052822,547.35384424892936,null,0.39,342.22500000000002,null,{"$f":"kuljetuslaskuri!$D$74","v":71.100000000000009},null,413.32500000000005,null,{"$f":"N_arvo*N_maara*kuljetuslaskuri!$E$87%*C130","v":59.400000000000006},{"$f":"P_arvo*P_maara*kuljetuslaskuri!$E$88%*C130","v":41.040000000000006},{"$f":"K_arvo*K_maara*kuljetuslaskuri!$E$89%*C130","v":79.2},179.64000000000001]
[null,{"$f":"kuljetuslaskuri!$D$31","v":2500},{"$f":"kuljetuslaskuri!$D$12","v":30},{"$f":"kuljetuslaskuri!$D$33","v":14},{"$f":"kuljetuslaskuri!$D$34","v":4000},12,2.1428571428571428,7.5,2,{"$f":"kuljetuslaskuri!$D$35","v":0},21.5,0.71666666666666667,null,1.3953488372093024,null,{"$f":"IF(kuljetuslaskuri!$H$17,kuljetuslaskuri!$D$17,0)","v":25},{"$f":"IF(kuljetuslaskuri!$H$18,kuljetuslaskuri!$D$18,0)","v":0},{"$f":"IF(kuljetuslaskuri!$G$19,kuljetuslaskuri!#REF!,0)","v":0},{"$f":"AVERAGE(IF(P131:R131<>0, P131:R131,\"\"))","v":25},{"$f":"S131*kuljetuslaskuri!$D$19%","v":23.75},29.5,{"$f":"kuljetuslaskuri!$D$24%","v":0},15.94,50,280.52565541834508,7.6923076923076925,7.5,{"$f":"kuljetuslaskuri!$D$25*(laskentapohja!C131/laskentapohja!T131)","v":2.5263157894736841},298.24427890012646,9.9414759633375489,0.10058868559234341,null,298.24427890012646,0.10058868559234341,null,0.74796876140082291,-1.2947601516169589,null,null,null,null,null,null,null,null,null,null,{"$f":"IF(kuljetuslaskuri!$H$45,kuljetuslaskuri!$D$45,0)","v":20},{"$f":"IF(kuljetuslaskuri!$H$46,kuljetuslaskuri!$D$46,0)","v":0},{"$f":"IF(kuljetuslaskuri!$G$19,kuljetuslaskuri!#REF!,0)","v":0},{"$f":"AVERAGE(IF(AV131:AX131<>0, AV131:AX131,\"\"))","v":20},{"$f":"AY131*kuljetuslaskuri!$D$47%","v":19},29.5,{"$f":"kuljetuslaskuri!$D$52%","v":0},15.94,50,350.65706927293144,7.5,7.5,{"$f":"kuljetuslaskuri!$D$53*(laskentapohja!C131/laskentapohja!AZ131)","v":3.1578947368421053},368.81496400977352,12,380.81496400977352,12.693832133659118,7.8778416909137158E-2,null,173.97582935840711,377.77608660682688,551.75191596523405,null,0.39,345.15000000000003,null,{"$f":"kuljetuslaskuri!$D$74","v":71.100000000000009},null,416.25000000000006,null,{"$f":"N_arvo*N_maara*kuljetuslaskuri!$E$87%*C131","v":59.400000000000006},{"$f":"P_arvo*P_maara*kuljetuslaskuri!$E$88%*C131","v":41.040000000000006},{"$f":"K_arvo*K_maara*kuljetuslaskuri!$E$89%*C131","v":79.2},179.64000000000001]
[null,{"$f":"kuljetuslaskuri!$D$31","v":2500},{"$f":"kuljetuslaskuri!$D$12","v":30},{"$f":"kuljetuslaskuri!$D$33","v":14},{"$f":"kuljetuslaskuri!$D$34","v":4000},12,2.1428571428571428,7.5,2,{"$f":"kuljetuslaskuri!$D$35","v":0},21.5,0.71666666666666667,null,1.3953488372093024,null,{"$f":"IF(kuljetuslaskuri!$H$17,kuljetuslaskuri!$D$17,0)","v":25},{"$f":"IF(kuljetuslaskuri!$H$18,kuljetuslaskuri!$D$18,0)","v":0},{"$f":"IF(kuljetuslaskuri!$G$19,kuljetuslaskuri!#REF!,0)","v":0},{"$f":"AVERAGE(IF(P132:R132<>0, P132:R132,\"\"))","v":25},{"$f":"S132*kuljetuslaskuri!$D$19%","v":23.75},29.75,{"$f":"kuljetuslaskuri!$D$24%","v":0},15.94,50,282.90299148121244,7.6923076923076925,7.5,{"$f":"kuljetuslaskuri!$D$25*(laskentapohja!C132/laskentapohja!T132)","v":2.5263157894736841},300.62161496299382,10.02072049876646,9.9793223463632078E-2,null,300.62161496299382,9.9793223463632078E-2,null,0.74757103033646721,-1.2955556137456703,null,null,null,null,null,null,null,null,null,null,{"$f":"IF(kuljetuslaskuri!$H$45,kuljetuslaskuri!$D$45,0)","v":20},{"$f":"IF(kuljetuslaskuri!$H$46,kuljetuslaskuri!$D$46,0)","v":0},{"$f":"IF(kuljetuslaskuri!$G$19,kuljetuslaskuri!#REF!,0)","v":0},{"$f":"AVERAGE(IF(AV132:AX132<>0, AV132:AX132,\"\"))","v":20},{"$f":"AY132*kuljetuslaskuri!$D$47%","v":19},29.75,{"$f":"kuljetuslaskuri!$D$52%","v":0},15.94,50,353.62873935151555,7.5,7.5,{"$f":"kuljetuslaskuri!$D$53*(laskentapohja!C132/laskentapohja!AZ132)","v":3.1578947368421053},371.78663408835763,12,383.78663408835763,12.792887802945254,7.8168433539280643E-2,null,175.36260872841305,380.78737895312548,556.14998768153851,null,0.39,348.07500000000005,null,{"$f":"kuljetuslaskuri!$D$74","v":71.100000000000009},null,419.17500000000007,null,{"$f":"N_arvo*N_maara*kuljetuslaskuri!$E$87%*C132","v":59.400000000000006},{"$f":"P_arvo*P_maara*kuljetuslaskuri!$E$88%*C132","v":41.040000000000006},{"$f":"K_arvo*K_maara*kuljetuslaskuri!$E$89%*C132","v":79.2},179.64000000000001]
[null,{"$f":"kuljetuslaskuri!$D$31","v":2500},{"$f":"kuljetuslaskuri!$D$12","v":30},{"$f":"kuljetuslaskuri!$D$33","v":14},{"$f":"kuljetuslaskuri!$D$34","v":4000},12,2.1428571428571428,7.5,2,{"$f":"kuljetuslaskuri!$D$35","v":0},21.5,0.71666666666666667,null,1.3953488372093024,null,{"$f":"IF(kuljetuslaskuri!$H$17,kuljetuslaskuri!$D$17,0)","v":25},{"$f":"IF(kuljetuslaskuri!$H$18,kuljetuslaskuri!$D$18,0)","v":0},{"$f":"IF(kuljetuslaskuri!$G$19,kuljetuslaskuri!#REF!,0)","v":0},{"$f":"AVERAGE(IF(P133:R133<>0, P133:R133,\"\"))","v":25},{"$f":"S133*kuljetuslaskuri!$D$19%","v":23.75},30,{"$f":"kuljetuslaskuri!$D$24%","v":0},15.94,50,285.28032754407974,7.6923076923076925,7.5,{"$f":"kuljetuslaskuri!$D$25*(laskentapohja!C133/laskentapohja!T133)","v":2.5263157894736841},302.99895102586112,10.099965034195371,9.9010243759687089E-2,null,302.99895102586112,9.9010243759687089E-2,null,0.74717954048449475,-1.2963385934496152,null,null,null,null,null,null,null,null,null,null,{"$f":"IF(kuljetuslaskuri!$H$45,kuljetuslaskuri!$D$45,0)","v":20},{"$f":"IF(kuljetuslaskuri!$H$46,kuljetuslaskuri!$D$46,0)","v":0},{"$f":"IF(kuljetuslaskuri!$G$19,kuljetuslaskuri!#REF!,0)","v":0},{"$f":"AVERAGE(IF(AV133:AX133<>0, AV133:AX133,\"\"))","v":20},{"$f":"AY133*kuljetuslaskuri!$D$47%","v":19},30,{"$f":"kuljetuslaskuri!$D$52%","v":0},15.94,50,356.60040943009972,7.5,7.5,{"$f":"kuljetuslaskuri!$D$53*(laskentapohja!C133/laskentapohja!AZ133)","v":3.1578947368421053},374.7583041669418,12,386.7583041669418,12.891943472231393,7.7567823823766396E-2,null,176.74938809841899,383.79867129942409,560.54805939784308,null,0.39,351.00000000000006,null,{"$f":"kuljetuslaskuri!$D$74","v":71.100000000000009},null,422.10000000000008,null,{"$f":"N_arvo*N_maara*kuljetuslaskuri!$E$87%*C133","v":59.400000000000006},{"$f":"P_arvo*P_maara*kuljetuslaskuri!$E$88%*C133","v":41.040000000000006},{"$f":"K_arvo*K_maara*kuljetuslaskuri!$E$89%*C133","v":79.2},179.64000000000001]
[null,{"$f":"kuljetuslaskuri!$D$31","v":2500},{"$f":"kuljetuslaskuri!$D$12","v":30},{"$f":"kuljetuslaskuri!$D$33","v":14},{"$f":"kuljetuslaskuri!$D$34","v":4000},12,2.1428571428571428,7.5,2,{"$f":"kuljetuslaskuri!$D$35","v":0},21.5,0.71666666666666667,null,1.3953488372093024,null,{"$f":"IF(kuljetuslaskuri!$H$17,kuljetuslaskuri!$D$17,0)","v":25},{"$f":"IF(kuljetuslaskuri!$H$18,kuljetuslaskuri!$D$18,0)","v":0},{"$f":"IF(kuljetuslaskuri!$G$19,kuljetuslaskuri!#REF!,0)","v":0},{"$f":"AVERAGE(IF(P134:R134<>0, P134:R134,\"\"))","v":25},{"$f":"S134*kuljetuslaskuri!$D$19%","v":23.75},30.25,{"$f":"kuljetuslaskuri!$D$24%","v":0},15.94,50,287.6576636069471,7.6923076923076925,7.5,{"$f":"kuljetuslaskuri!$D$25*(laskentapohja!C134/laskentapohja!T134)","v":2.5263157894736841},305.37628708872847,10.179209569624282,9.823945495572603E-2,null,305.37628708872847,9.823945495572603E-2,null,0.74679414608251415,-1.2971093822535764,null,null,null,null,null,null,null,null,null,null,{"$f":"IF(kuljetuslaskuri!$H$45,kuljetuslaskuri!$D$45,0)","v":20},{"$f":"IF(kuljetuslaskuri!$H$46,kuljetuslaskuri!$D$46,0)","v":0},{"$f":"IF(kuljetuslaskuri!$G$19,kuljetuslaskuri!#REF!,0)","v":0},{"$f":"AVERAGE(IF(AV134:AX134<>0, AV134:AX134,\"\"))","v":20},{"$f":"AY134*kuljetuslaskuri!$D$47%","v":19},30.25,{"$f":"kuljetuslaskuri!$D$52%","v":0},15.94,50,359.57207950868388,7.5,7.5,{"$f":"kuljetuslaskuri!$D$53*(laskentapohja!C134/laskentapohja!AZ134)","v":3.1578947368421053},377.72997424552597,12,389.72997424552597,12.990999141517532,7.6976373341764839E-2,null,178.13616746842493,386.80996364572275,564.94613111414765,null,0.39,353.92500000000001,null,{"$f":"kuljetuslaskuri!$D$74","v":71.100000000000009},null,425.02500000000003,null,{"$f":"N_arvo*N_maara*kuljetuslaskuri!$E$87%*C134","v":59.400000000000006},{"$f":"P_arvo*P_maara*kuljetuslaskuri!$E$88%*C134","v":41.040000000000006},{"$f":"K_arvo*K_maara*kuljetuslaskuri!$E$89%*C134","v":79.2},179.64000000000001]
[null,{"$f":"kuljetuslaskuri!$D$31","v":2500},{"$f":"kuljetuslaskuri!$D$12","v":30},{"$f":"kuljetuslaskuri!$D$33","v":14},{"$f":"kuljetuslaskuri!$D$34","v":4000},12,2.1428571428571428,7.5,2,{"$f":"kuljetuslaskuri!$D$35","v":0},21.5,0.71666666666666667,null,1.3953488372093024,null,{"$f":"IF(kuljetuslaskuri!$H$17,kuljetuslaskuri!$D$17,0)","v":25},{"$f":"IF(kuljetuslaskuri!$H$18,kuljetuslaskuri!$D$18,0)","v":0},{"$f":"IF(kuljetuslaskuri!$G$19,kuljetuslaskuri!#REF!,0)","v":0},{"$f":"AVERAGE(IF(P135:R135<>0, P135:R135,\"\"))","v":25},{"$f":"S135*kuljetuslaskuri!$D$19%","v":23.75},30.5,{"$f":"kuljetuslaskuri!$D$24%","v":0},15.94,50,290.0349996698144,7.6923076923076925,7.5,{"$f":"kuljetuslaskuri!$D$25*(laskentapohja!C135/laskentapohja!T135)","v":2.5263157894736841},307.75362315159578,10.258454105053193,9.7480574534852357E-2,null,307.75362315159578,9.7480574534852357E-2,null,0.74641470587207737,-1.29786826267445,null,null,null,null,null,null,null,null,null,null,{"$f":"IF(kuljetuslaskuri!$H$45,kuljetuslaskuri!$D$45,0)","v":20},{"$f":"IF(kuljetuslaskuri!$H$46,kuljetuslaskuri!$D$46,0)","v":0},{"$f":"IF(kuljetuslaskuri!$G$19,kuljetuslaskuri!#REF!,0)","v":0},{"$f":"AVERAGE(IF(AV135:AX135<>0, AV135:AX135,\"\"))","v":20},{"$f":"AY135*kuljetuslaskuri!$D$47%","v":19},30.5,{"$f":"kuljetuslaskuri!$D$52%","v":0},15.94,50,362.54374958726805,7.5,7.5,{"$f":"kuljetuslaskuri!$D$53*(laskentapohja!C135/laskentapohja!AZ135)","v":3.1578947368421053},380.70164432411013,12,392.70164432411013,13.090054810803672,7.6393874162747261E-2,null,179.52294683843087,389.82125599202135,569.34420283045222,null,0.39,356.85,null,{"$f":"kuljetuslaskuri!$D$74","v":71.100000000000009},null,427.95000000000005,null,{"$f":"N_arvo*N_maara*kuljetuslaskuri!$E$87%*C135","v":59.400000000000006},{"$f":"P_arvo*P_maara*kuljetuslaskuri!$E$88%*C135","v":41.040000000000006},{"$f":"K_arvo*K_maara*kuljetuslaskuri!$E$89%*C135","v":79.2},179.64000000000001]
[null,{"$f":"kuljetuslaskuri!$D$31","v":2500},{"$f":"kuljetuslaskuri!$D$12","v":30},{"$f":"kuljetuslaskuri!$D$33","v":14},{"$f":"kuljetuslaskuri!$D$34","v":4000},12,2.1428571428571428,7.5,2,{"$f":"kuljetuslaskuri!$D$35","v":0},21.5,0.71666666666666667,null,1.3953488372093024,null,{"$f":"IF(kuljetuslaskuri!$H$17,kuljetuslaskuri!$D$17,0)","v":25},{"$f":"IF(kuljetuslaskuri!$H$18,kuljetuslaskuri!$D$18,0)","v":0},{"$f":"IF(kuljetuslaskuri!$G$19,kuljetuslaskuri!#REF!,0)","v":0},{"$f":"AVERAGE(IF(P136:R136<>0, P136:R136,\"\"))","v":25},{"$f":"S136*kuljetuslaskuri!$D$19%","v":23.75},30.75,{"$f":"kuljetuslaskuri!$D$24%","v":0},15.94,50,292.41233573268175,7.6923076923076925,7.5,{"$f":"kuljetuslaskuri!$D$25*(laskentapohja!C136/laskentapohja!T136)","v":2.5263157894736841},310.13095921446313,10.337698640482104,9.6733328642801722E-2,null,310.13095921446313,9.6733328642801722E-2,null,0.74604108292605209,-1.2986155085665005,null,null,null,null,null,null,null,null,null,null,{"$f":"IF(kuljetuslaskuri!$H$45,kuljetuslaskuri!$D$45,0)","v":20},{"$f":"IF(kuljetuslaskuri!$H$46,kuljetuslaskuri!$D$46,0)","v":0},{"$f":"IF(kuljetuslaskuri!$G$19,kuljetuslaskuri!#REF!,0)","v":0},{"$f":"AVERAGE(IF(AV136:AX136<>0, AV136:AX136,\"\"))","v":20},{"$f":"AY136*kuljetuslaskuri!$D$47%","v":19},30.75,{"$f":"kuljetuslaskuri!$D$52%","v":0},15.94,50,365.51541966585222,7.5,7.5,{"$f":"kuljetuslaskuri!$D$53*(laskentapohja!C136/laskentapohja!AZ136)","v":3.1578947368421053},383.6733144026943,12,395.6733144026943,13.189110480089811,7.5820124602761732E-2,null,180.90972620843684,392.83254833831995,573.74227454675679,null,0.39,359.77500000000003,null,{"$f":"kuljetuslaskuri!$D$74","v":71.100000000000009},null,430.87500000000006,null,{"$f":"N_arvo*N_maara*kuljetuslaskuri!$E$87%*C136","v":59.400000000000006},{"$f":"P_arvo*P_maara*kuljetuslaskuri!$E$88%*C136","v":41.040000000000006},{"$f":"K_arvo*K_maara*kuljetuslaskuri!$E$89%*C136","v":79.2},179.64000000000001]
[null,{"$f":"kuljetuslaskuri!$D$31","v":2500},{"$f":"kuljetuslaskuri!$D$12","v":30},{"$f":"kuljetuslaskuri!$D$33","v":14},{"$f":"kuljetuslaskuri!$D$34","v":4000},12,2.1428571428571428,7.5,2,{"$f":"kuljetuslaskuri!$D$35","v":0},21.5,0.71666666666666667,null,1.3953488372093024,null,{"$f":"IF(kuljetuslaskuri!$H$17,kuljetuslaskuri!$D$17,0)","v":25},{"$f":"IF(kuljetuslaskuri!$H$18,kuljetuslaskuri!$D$18,0)","v":0},{"$f":"IF(kuljetuslaskuri!$G$19,kuljetuslaskuri!#REF!,0)","v":0},{"$f":"AVERAGE(IF(P137:R137<>0, P137:R137,\"\"))","v":25},{"$f":"S137*kuljetuslaskuri!$D$19%","v":23.75},31,{"$f":"kuljetuslaskuri!$D$24%","v":0},15.94,50,294.78967179554911,7.6923076923076925,7.5,{"$f":"kuljetuslaskuri!$D$25*(laskentapohja!C137/laskentapohja!T137)","v":2.5263157894736841},312.50829527733049,10.416943175911017,9.5997451758446845E-2,null,312.50829527733049,9.5997451758446845E-2,null,0.74567314448387456,-1.2993513854508556,null,null,null,null,null,null,null,null,null,null,{"$f":"IF(kuljetuslaskuri!$H$45,kuljetuslaskuri!$D$45,0)","v":20},{"$f":"IF(kuljetuslaskuri!$H$46,kuljetuslaskuri!$D$46,0)","v":0},{"$f":"IF(kuljetuslaskuri!$G$19,kuljetuslaskuri!#REF!,0)","v":0},{"$f":"AVERAGE(IF(AV137:AX137<>0, AV137:AX137,\"\"))","v":20},{"$f":"AY137*kuljetuslaskuri!$D$47%","v":19},31,{"$f":"kuljetuslaskuri!$D$52%","v":0},15.94,50,368.48708974443639,7.5,7.5,{"$f":"kuljetuslaskuri!$D$53*(laskentapohja!C137/laskentapohja!AZ137)","v":3.1578947368421053},386.64498448127847,12,398.64498448127847,13.288166149375948,7.5254928991609793E-2,null,182.2965055784428,395.84384068461867,578.14034626306147,null,0.39,362.70000000000005,null,{"$f":"kuljetuslaskuri!$D$74","v":71.100000000000009},null,433.80000000000007,null,{"$f":"N_arvo*N_maara*kuljetuslaskuri!$E$87%*C137","v":59.400000000000006},{"$f":"P_arvo*P_maara*kuljetuslaskuri!$E$88%*C137","v":41.040000000000006},{"$f":"K_arvo*K_maara*kuljetuslaskuri!$E$89%*C137","v":79.2},179.64000000000001]
[null,{"$f":"kuljetuslaskuri!$D$31","v":2500},{"$f":"kuljetuslaskuri!$D$12","v":30},{"$f":"kuljetuslaskuri!$D$33","v":14},{"$f":"kuljetuslaskuri!$D$34","v":4000},12,2.1428571428571428,7.5,2,{"$f":"kuljetuslaskuri!$D$35","v":0},21.5,0.71666666666666667,null,1.3953488372093024,null,{"$f":"IF(kuljetuslaskuri!$H$17,kuljetuslaskuri!$D$17,0)","v":25},{"$f":"IF(kuljetuslaskuri!$H$18,kuljetuslaskuri!$D$18,0)","v":0},{"$f":"IF(kuljetuslaskuri!$G$19,kuljetuslaskuri!#REF!,0)","v":0},{"$f":"AVERAGE(IF(P138:R138<>0, P138:R138,\"\"))","v":25},{"$f":"S138*kuljetuslaskuri!$D$19%","v":23.75},31.25,{"$f":"kuljetuslaskuri!$D$24%","v":0},15.94,50,297.16700785841641,7.6923076923076925,7.5,{"$f":"kuljetuslaskuri!$D$25*(laskentapohja!C138/laskentapohja!T138)","v":2.5263157894736841},314.88563134019779,10.496187711339926,9.5272686379228408E-2,null,314.88563134019779,9.5272686379228408E-2,null,0.74531076179426536,-1.300076150830074,null,null,null,null,null,null,null,null,null,null,{"$f":"IF(kuljetuslaskuri!$H$45,kuljetuslaskuri!$D$45,0)","v":20},{"$f":"IF(kuljetuslaskuri!$H$46,kuljetuslaskuri!$D$46,0)","v":0},{"$f":"IF(kuljetuslaskuri!$G$19,kuljetuslaskuri!#REF!,0)","v":0},{"$f":"AVERAGE(IF(AV138:AX138<>0, AV138:AX138,\"\"))","v":20},{"$f":"AY138*kuljetuslaskuri!$D$47%","v":19},31.25,{"$f":"kuljetuslaskuri!$D$52%","v":0},15.94,50,371.45875982302056,7.5,7.5,{"$f":"kuljetuslaskuri!$D$53*(laskentapohja!C138/laskentapohja!AZ138)","v":3.1578947368421053},389.61665455986264,12,401.61665455986264,13.387221818662088,7.4698097450359532E-2,null,183.68328494844872,398.85513303091722,582.53841797936593,null,0.39,365.62500000000006,null,{"$f":"kuljetuslaskuri!$D$74","v":71.100000000000009},null,436.72500000000008,null,{"$f":"N_arvo*N_maara*kuljetuslaskuri!$E$87%*C138","v":59.400000000000006},{"$f":"P_arvo*P_maara*kuljetuslaskuri!$E$88%*C138","v":41.040000000000006},{"$f":"K_arvo*K_maara*kuljetuslaskuri!$E$89%*C138","v":79.2},179.64000000000001]
[null,{"$f":"kuljetuslaskuri!$D$31","v":2500},{"$f":"kuljetuslaskuri!$D$12","v":30},{"$f":"kuljetuslaskuri!$D$33","v":14},{"$f":"kuljetuslaskuri!$D$34","v":4000},12,2.1428571428571428,7.5,2,{"$f":"kuljetuslaskuri!$D$35","v":0},21.5,0.71666666666666667,null,1.3953488372093024,null,{"$f":"IF(kuljetuslaskuri!$H$17,kuljetuslaskuri!$D$17,0)","v":25},{"$f":"IF(kuljetuslaskuri!$H$18,kuljetuslaskuri!$D$18,0)","v":0},{"$f":"IF(kuljetuslaskuri!$G$19,kuljetuslaskuri!#REF!,0)","v":0},{"$f":"AVERAGE(IF(P139:R139<>0, P139:R139,\"\"))","v":25},{"$f":"S139*kuljetuslaskuri!$D$19%","v":23.75},31.5,{"$f":"kuljetuslaskuri!$D$24%","v":0},15.94,50,299.54434392128377,7.6923076923076925,7.5,{"$f":"kuljetuslaskuri!$D$25*(laskentapohja!C139/laskentapohja!T139)","v":2.5263157894736841},317.26296740306515,10.575432246768838,9.4558782720728485E-2,null,317.26296740306515,9.4558782720728485E-2,null,0.74495380996501548,-1.3007900544885738,null,null,null,null,null,null,null,null,null,null,{"$f":"IF(kuljetuslaskuri!$H$45,kuljetuslaskuri!$D$45,0)","v":20},{"$f":"IF(kuljetuslaskuri!$H$46,kuljetuslaskuri!$D$46,0)","v":0},{"$f":"IF(kuljetuslaskuri!$G$19,kuljetuslaskuri!#REF!,0)","v":0},{"$f":"AVERAGE(IF(AV139:AX139<>0, AV139:AX139,\"\"))","v":20},{"$f":"AY139*kuljetuslaskuri!$D$47%","v":19},31.5,{"$f":"kuljetuslaskuri!$D$52%","v":0},15.94,50,374.43042990160473,7.5,7.5,{"$f":"kuljetuslaskuri!$D$53*(laskentapohja!C139/laskentapohja!AZ139)","v":3.1578947368421053},392.58832463844681,12,404.58832463844681,13.486277487948227,7.4149445678663536E-2,null,185.07006431845465,401.86642537721582,586.9364896956705,null,0.39,368.55,null,{"$f":"kuljetuslaskuri!$D$74","v":71.100000000000009},null,439.65000000000003,null,{"$f":"N_arvo*N_maara*kuljetuslaskuri!$E$87%*C139","v":59.400000000000006},{"$f":"P_arvo*P_maara*kuljetuslaskuri!$E$88%*C139","v":41.040000000000006},{"$f":"K_arvo*K_maara*kuljetuslaskuri!$E$89%*C139","v":79.2},179.64000000000001]
[null,{"$f":"kuljetuslaskuri!$D$31","v":2500},{"$f":"kuljetuslaskuri!$D$12","v":30},{"$f":"kuljetuslaskuri!$D$33","v":14},{"$f":"kuljetuslaskuri!$D$34","v":4000},12,{"$f":"C140/D140","v":2.1428571428571428},{"$f":"(C140*1000)/E140","v":7.5},{"$f":"Levityksen_apuaika","v":2},{"$f":"kuljetuslaskuri!$D$35","v":0},{"$f":"(F140+H140+I140)*(1+J140%)","v":21.5},{"$f":"K140/C140","v":0.71666666666666667},null,1.3953488372093024,null,{"$f":"IF(kuljetuslaskuri!$H$17,kuljetuslaskuri!$D$17,0)","v":25},{"$f":"IF(kuljetuslaskuri!$H$18,kuljetuslaskuri!$D$18,0)","v":0},{"$f":"IF(kuljetuslaskuri!$G$19,kuljetuslaskuri!#REF!,0)","v":0},{"$f":"AVERAGE(IF(P140:R140<>0, P140:R140,\"\"))","v":25},{"$f":"S140*kuljetuslaskuri!$D$19%","v":23.75},31.75,{"$f":"kuljetuslaskuri!$D$24%","v":0},15.94,50,{"$f":"(C140/T140)*((U140*1000*0.12)/W140)*(1+V140)","v":301.92167998415107},{"$f":"Levitys*1000/Last_nop","v":7.6923076923076925},{"$f":"Levitys*1000/Purk_nop","v":7.5},{"$f":"kuljetuslaskuri!$D$25*(laskentapohja!C140/laskentapohja!T140)","v":2.5263157894736841},319.64030346593245,{"$f":"AC140/C140","v":10.654676782197749},9.3855498429651019E-2,null,{"$f":"MAX(K140,AC140)","v":319.64030346593245},{"$f":"MIN(N140,AE140)","v":9.3855498429651019E-2},null,0.74460216781947675,-1.3014933387796512,null,null,null,null,null,null,null,null,null,null,{"$f":"IF(kuljetuslaskuri!$H$45,kuljetuslaskuri!$D$45,0)","v":20},{"$f":"IF(kuljetuslaskuri!$H$46,kuljetuslaskuri!$D$46,0)","v":0},{"$f":"IF(kuljetuslaskuri!$G$19,kuljetuslaskuri!#REF!,0)","v":0},{"$f":"AVERAGE(IF(AV140:AX140<>0, AV140:AX140,\"\"))","v":20},{"$f":"AY140*kuljetuslaskuri!$D$47%","v":19},31.75,{"$f":"kuljetuslaskuri!$D$52%","v":0},15.94,50,{"$f":"(C140/AZ140)*((BA140*1000*0.12)/BC140)","v":377.40209998018889},{"$f":"Levitys*1000/Last_nop2","v":7.5},{"$f":"Levitys*1000/Levitys_kap2","v":7.5},{"$f":"kuljetuslaskuri!$D$53*(laskentapohja!C140/laskentapohja!AZ140)","v":3.1578947368421053},395.55999471703097,{"$f":"(C140*1000)/B140","v":12},407.55999471703097,{"$f":"BK140/C140","v":13.585333157234366},{"$f":"IF(AW140>0,2*1/BL140,1/BL140)","v":7.3608794751381351E-2},null,{"$f":"AC140/60*työ_kust","v":186.45684368846059},{"$f":"AC140/60*kone_kust","v":404.87771772351442},591.33456141197507,null,{"$f":"kulj_taksa","v":0.39},{"$f":"BS140*C140*U140","v":371.47500000000002},null,{"$f":"kuljetuslaskuri!$D$74","v":71.100000000000009},null,442.57500000000005,null,{"$f":"N_arvo*N_maara*kuljetuslaskuri!$E$87%*C140","v":59.400000000000006},{"$f":"P_arvo*P_maara*kuljetuslaskuri!$E$88%*C140","v":41.040000000000006},{"$f":"K_arvo*K_maara*kuljetuslaskuri!$E$89%*C140","v":79.2},179.64000000000001]
[null,{"$f":"kuljetuslaskuri!$D$31","v":2500},{"$f":"kuljetuslaskuri!$D$12","v":30},{"$f":"kuljetuslaskuri!$D$33","v":14},{"$f":"kuljetuslaskuri!$D$34","v":4000},{"$f":"(C141*1000)/B141","v":12},2.1428571428571428,7.5,2,{"$f":"kuljetuslaskuri!$D$35","v":0},21.5,0.71666666666666667,null,{"$f":"1/L141","v":1.3953488372093024},null,{"$f":"IF(kuljetuslaskuri!$H$17,kuljetuslaskuri!$D$17,0)","v":25},{"$f":"IF(kuljetuslaskuri!$H$18,kuljetuslaskuri!$D$18,0)","v":0},{"$f":"IF(kuljetuslaskuri!$G$19,kuljetuslaskuri!#REF!,0)","v":0},{"$f":"AVERAGE(IF(P141:R141<>0, P141:R141,\"\"))","v":25},{"$f":"S141*kuljetuslaskuri!$D$19%","v":23.75},32,{"$f":"kuljetuslaskuri!$D$24%","v":0},15.94,{"$f":"IF(U141>15,50,LN(9.4526)*U141+15.94)","v":50},304.29901604701843,7.6923076923076925,7.5,{"$f":"kuljetuslaskuri!$D$25*(laskentapohja!C141/laskentapohja!T141)","v":2.5263157894736841},{"$f":"SUM(Y141:AB141)","v":322.0176395287998},10.73392131762666,{"$f":"IF(Q141>0,2*1/AD141,1/AD141)","v":9.3162598309515704E-2},null,322.0176395287998,9.3162598309515704E-2,null,{"$f":"N141+((AE141-N141)/2)","v":0.74425571775940902},-1.3021862388997867,null,null,null,null,null,null,null,null,null,null,{"$f":"IF(kuljetuslaskuri!$H$45,kuljetuslaskuri!$D$45,0)","v":20},{"$f":"IF(kuljetuslaskuri!$H$46,kuljetuslaskuri!$D$46,0)","v":0},{"$f":"IF(kuljetuslaskuri!$G$19,kuljetuslaskuri!#REF!,0)","v":0},{"$f":"AVERAGE(IF(AV141:AX141<>0, AV141:AX141,\"\"))","v":20},{"$f":"AY141*kuljetuslaskuri!$D$47%","v":19},32,{"$f":"kuljetuslaskuri!$D$52%","v":0},15.94,{"$f":"IF(BA141>15,50,LN(9.0943)*BA141+16.208)","v":50},380.37377005877306,7.5,7.5,{"$f":"kuljetuslaskuri!$D$53*(laskentapohja!C141/laskentapohja!AZ141)","v":3.1578947368421053},{"$f":"SUM(BE141:BH141)","v":398.53166479561514},12,{"$f":"SUM(BI141,BJ141)*(1+BB141)","v":410.53166479561514},13.684388826520506,7.3075970924034866E-2,null,187.84362305846653,407.88901006981308,{"$f":"SUM(BO141:BP141)","v":595.73263312827964},null,0.39,374.40000000000003,null,{"$f":"kuljetuslaskuri!$D$74","v":71.100000000000009},null,{"$f":"BT141+BV141","v":445.50000000000006},null,{"$f":"N_arvo*N_maara*kuljetuslaskuri!$E$87%*C141","v":59.400000000000006},{"$f":"P_arvo*P_maara*kuljetuslaskuri!$E$88%*C141","v":41.040000000000006},{"$f":"K_arvo*K_maara*kuljetuslaskuri!$E$89%*C141","v":79.2},{"$f":"SUM(BZ141:CB141)","v":179.64000000000001}]
[null,{"$f":"kuljetuslaskuri!$D$31","v":2500},{"$f":"kuljetuslaskuri!$D$12","v":30},{"$f":"kuljetuslaskuri!$D$33","v":14},{"$f":"kuljetuslaskuri!$D$34","v":4000},12,2.1428571428571428,7.5,2,{"$f":"kuljetuslaskuri!$D$35","v":0},21.5,0.71666666666666667,null,1.3953488372093024,null,{"$f":"IF(kuljetuslaskuri!$H$17,kuljetuslaskuri!$D$17,0)","v":25},{"$f":"IF(kuljetuslaskuri!$H$18,kuljetuslaskuri!$D$18,0)","v":0},{"$f":"IF(kuljetuslaskuri!$G$19,kuljetuslaskuri!#REF!,0)","v":0},{"$f":"AVERAGE(IF(P142:R142<>0, P142:R142,\"\"))","v":25},{"$f":"S142*kuljetuslaskuri!$D$19%","v":23.75},32.25,{"$f":"kuljetuslaskuri!$D$24%","v":0},15.94,50,306.67635210988573,7.6923076923076925,7.5,{"$f":"kuljetuslaskuri!$D$25*(laskentapohja!C142/laskentapohja!T142)","v":2.5263157894736841},324.39497559166711,10.813165853055571,9.2479854058413552E-2,null,324.39497559166711,9.2479854058413552E-2,null,0.74391434563385794,-1.3028689831508888,null,null,null,null,null,null,null,null,null,null,{"$f":"IF(kuljetuslaskuri!$H$45,kuljetuslaskuri!$D$45,0)","v":20},{"$f":"IF(kuljetuslaskuri!$H$46,kuljetuslaskuri!$D$46,0)","v":0},{"$f":"IF(kuljetuslaskuri!$G$19,kuljetuslaskuri!#REF!,0)","v":0},{"$f":"AVERAGE(IF(AV142:AX142<>0, AV142:AX142,\"\"))","v":20},{"$f":"AY142*kuljetuslaskuri!$D$47%","v":19},32.25,{"$f":"kuljetuslaskuri!$D$52%","v":0},15.94,50,383.34544013735723,7.5,7.5,{"$f":"kuljetuslaskuri!$D$53*(laskentapohja!C142/laskentapohja!AZ142)","v":3.1578947368421053},401.50333487419931,12,413.50333487419931,13.783444495806643,7.2550805446652419E-2,null,189.2304024284725,410.90030241611169,600.13070484458422,null,0.39,377.32500000000005,null,{"$f":"kuljetuslaskuri!$D$74","v":71.100000000000009},null,448.42500000000007,null,{"$f":"N_arvo*N_maara*kuljetuslaskuri!$E$87%*C142","v":59.400000000000006},{"$f":"P_arvo*P_maara*kuljetuslaskuri!$E$88%*C142","v":41.040000000000006},{"$f":"K_arvo*K_maara*kuljetuslaskuri!$E$89%*C142","v":79.2},179.64000000000001]
[null,{"$f":"kuljetuslaskuri!$D$31","v":2500},{"$f":"kuljetuslaskuri!$D$12","v":30},{"$f":"kuljetuslaskuri!$D$33","v":14},{"$f":"kuljetuslaskuri!$D$34","v":4000},12,2.1428571428571428,7.5,2,{"$f":"kuljetuslaskuri!$D$35","v":0},21.5,0.71666666666666667,null,1.3953488372093024,null,{"$f":"IF(kuljetuslaskuri!$H$17,kuljetuslaskuri!$D$17,0)","v":25},{"$f":"IF(kuljetuslaskuri!$H$18,kuljetuslaskuri!$D$18,0)","v":0},{"$f":"IF(kuljetuslaskuri!$G$19,kuljetuslaskuri!#REF!,0)","v":0},{"$f":"AVERAGE(IF(P143:R143<>0, P143:R143,\"\"))","v":25},{"$f":"S143*kuljetuslaskuri!$D$19%","v":23.75},32.5,{"$f":"kuljetuslaskuri!$D$24%","v":0},15.94,50,309.05368817275308,7.6923076923076925,7.5,{"$f":"kuljetuslaskuri!$D$25*(laskentapohja!C143/laskentapohja!T143)","v":2.5263157894736841},326.77231165453446,10.892410388484482,9.1807044018209757E-2,null,326.77231165453446,9.1807044018209757E-2,null,0.74357794061375604,-1.3035417931910926,null,null,null,null,null,null,null,null,null,null,{"$f":"IF(kuljetuslaskuri!$H$45,kuljetuslaskuri!$D$45,0)","v":20},{"$f":"IF(kuljetuslaskuri!$H$46,kuljetuslaskuri!$D$46,0)","v":0},{"$f":"IF(kuljetuslaskuri!$G$19,kuljetuslaskuri!#REF!,0)","v":0},{"$f":"AVERAGE(IF(AV143:AX143<>0, AV143:AX143,\"\"))","v":20},{"$f":"AY143*kuljetuslaskuri!$D$47%","v":19},32.5,{"$f":"kuljetuslaskuri!$D$52%","v":0},15.94,50,386.31711021594134,7.5,7.5,{"$f":"kuljetuslaskuri!$D$53*(laskentapohja!C143/laskentapohja!AZ143)","v":3.1578947368421053},404.47500495278342,12,416.47500495278342,13.882500165092781,7.2033134385582537E-2,null,190.61718179847844,413.91159476241029,604.52877656088867,null,0.39,380.25000000000006,null,{"$f":"kuljetuslaskuri!$D$74","v":71.100000000000009},null,451.35000000000008,null,{"$f":"N_arvo*N_maara*kuljetuslaskuri!$E$87%*C143","v":59.400000000000006},{"$f":"P_arvo*P_maara*kuljetuslaskuri!$E$88%*C143","v":41.040000000000006},{"$f":"K_arvo*K_maara*kuljetuslaskuri!$E$89%*C143","v":79.2},179.64000000000001]
[null,{"$f":"kuljetuslaskuri!$D$31","v":2500},{"$f":"kuljetuslaskuri!$D$12","v":30},{"$f":"kuljetuslaskuri!$D$33","v":14},{"$f":"kuljetuslaskuri!$D$34","v":4000},12,2.1428571428571428,7.5,2,{"$f":"kuljetuslaskuri!$D$35","v":0},21.5,0.71666666666666667,null,1.3953488372093024,null,{"$f":"IF(kuljetuslaskuri!$H$17,kuljetuslaskuri!$D$17,0)","v":25},{"$f":"IF(kuljetuslaskuri!$H$18,kuljetuslaskuri!$D$18,0)","v":0},{"$f":"IF(kuljetuslaskuri!$G$19,kuljetuslaskuri!#REF!,0)","v":0},{"$f":"AVERAGE(IF(P144:R144<>0, P144:R144,\"\"))","v":25},{"$f":"S144*kuljetuslaskuri!$D$19%","v":23.75},32.75,{"$f":"kuljetuslaskuri!$D$24%","v":0},15.94,50,311.43102423562038,7.6923076923076925,7.5,{"$f":"kuljetuslaskuri!$D$25*(laskentapohja!C144/laskentapohja!T144)","v":2.5263157894736841},329.14964771740176,10.971654923913393,9.1143952934615066E-2,null,329.14964771740176,9.1143952934615066E-2,null,0.74324639507195867,-1.3042048842746874,null,null,null,null,null,null,null,null,null,null,{"$f":"IF(kuljetuslaskuri!$H$45,kuljetuslaskuri!$D$45,0)","v":20},{"$f":"IF(kuljetuslaskuri!$H$46,kuljetuslaskuri!$D$46,0)","v":0},{"$f":"IF(kuljetuslaskuri!$G$19,kuljetuslaskuri!#REF!,0)","v":0},{"$f":"AVERAGE(IF(AV144:AX144<>0, AV144:AX144,\"\"))","v":20},{"$f":"AY144*kuljetuslaskuri!$D$47%","v":19},32.75,{"$f":"kuljetuslaskuri!$D$52%","v":0},15.94,50,389.28878029452551,7.5,7.5,{"$f":"kuljetuslaskuri!$D$53*(laskentapohja!C144/laskentapohja!AZ144)","v":3.1578947368421053},407.44667503136759,12,419.44667503136759,13.98155583437892,7.1522798452882008E-2,null,192.00396116848438,416.92288710870895,608.92684827719336,null,0.39,383.17500000000001,null,{"$f":"kuljetuslaskuri!$D$74","v":71.100000000000009},null,454.27500000000003,null,{"$f":"N_arvo*N_maara*kuljetuslaskuri!$E$87%*C144","v":59.400000000000006},{"$f":"P_arvo*P_maara*kuljetuslaskuri!$E$88%*C144","v":41.040000000000006},{"$f":"K_arvo*K_maara*kuljetuslaskuri!$E$89%*C144","v":79.2},179.64000000000001]
[null,{"$f":"kuljetuslaskuri!$D$31","v":2500},{"$f":"kuljetuslaskuri!$D$12","v":30},{"$f":"kuljetuslaskuri!$D$33","v":14},{"$f":"kuljetuslaskuri!$D$34","v":4000},12,2.1428571428571428,7.5,2,{"$f":"kuljetuslaskuri!$D$35","v":0},21.5,0.71666666666666667,null,1.3953488372093024,null,{"$f":"IF(kuljetuslaskuri!$H$17,kuljetuslaskuri!$D$17,0)","v":25},{"$f":"IF(kuljetuslaskuri!$H$18,kuljetuslaskuri!$D$18,0)","v":0},{"$f":"IF(kuljetuslaskuri!$G$19,kuljetuslaskuri!#REF!,0)","v":0},{"$f":"AVERAGE(IF(P145:R145<>0, P145:R145,\"\"))","v":25},{"$f":"S145*kuljetuslaskuri!$D$19%","v":23.75},33,{"$f":"kuljetuslaskuri!$D$24%","v":0},15.94,50,313.80836029848774,7.6923076923076925,7.5,{"$f":"kuljetuslaskuri!$D$25*(laskentapohja!C145/laskentapohja!T145)","v":2.5263157894736841},331.52698378026912,11.050899459342304,9.0490371727580191E-2,null,331.52698378026912,9.0490371727580191E-2,null,0.7429196044684413,-1.3048584654817221,null,null,null,null,null,null,null,null,null,null,{"$f":"IF(kuljetuslaskuri!$H$45,kuljetuslaskuri!$D$45,0)","v":20},{"$f":"IF(kuljetuslaskuri!$H$46,kuljetuslaskuri!$D$46,0)","v":0},{"$f":"IF(kuljetuslaskuri!$G$19,kuljetuslaskuri!#REF!,0)","v":0},{"$f":"AVERAGE(IF(AV145:AX145<>0, AV145:AX145,\"\"))","v":20},{"$f":"AY145*kuljetuslaskuri!$D$47%","v":19},33,{"$f":"kuljetuslaskuri!$D$52%","v":0},15.94,50,392.26045037310973,7.5,7.5,{"$f":"kuljetuslaskuri!$D$53*(laskentapohja!C145/laskentapohja!AZ145)","v":3.1578947368421053},410.41834510995182,12,422.41834510995182,14.080611503665061,7.1019642842905559E-2,null,193.39074053849032,419.93417945500755,613.32491999349782,null,0.39,386.1,null,{"$f":"kuljetuslaskuri!$D$74","v":71.100000000000009},null,457.20000000000005,null,{"$f":"N_arvo*N_maara*kuljetuslaskuri!$E$87%*C145","v":59.400000000000006},{"$f":"P_arvo*P_maara*kuljetuslaskuri!$E$88%*C145","v":41.040000000000006},{"$f":"K_arvo*K_maara*kuljetuslaskuri!$E$89%*C145","v":79.2},179.64000000000001]
[null,{"$f":"kuljetuslaskuri!$D$31","v":2500},{"$f":"kuljetuslaskuri!$D$12","v":30},{"$f":"kuljetuslaskuri!$D$33","v":14},{"$f":"kuljetuslaskuri!$D$34","v":4000},12,2.1428571428571428,7.5,2,{"$f":"kuljetuslaskuri!$D$35","v":0},21.5,0.71666666666666667,null,1.3953488372093024,null,{"$f":"IF(kuljetuslaskuri!$H$17,kuljetuslaskuri!$D$17,0)","v":25},{"$f":"IF(kuljetuslaskuri!$H$18,kuljetuslaskuri!$D$18,0)","v":0},{"$f":"IF(kuljetuslaskuri!$G$19,kuljetuslaskuri!#REF!,0)","v":0},{"$f":"AVERAGE(IF(P146:R146<>0, P146:R146,\"\"))","v":25},{"$f":"S146*kuljetuslaskuri!$D$19%","v":23.75},33.25,{"$f":"kuljetuslaskuri!$D$24%","v":0},15.94,50,316.1856963613551,7.6923076923076925,7.5,{"$f":"kuljetuslaskuri!$D$25*(laskentapohja!C146/laskentapohja!T146)","v":2.5263157894736841},333.90431984313648,11.130143994771215,8.9846097271498546E-2,null,333.90431984313648,8.9846097271498546E-2,null,0.74259746724040043,-1.3055027399378039,null,null,null,null,null,null,null,null,null,null,{"$f":"IF(kuljetuslaskuri!$H$45,kuljetuslaskuri!$D$45,0)","v":20},{"$f":"IF(kuljetuslaskuri!$H$46,kuljetuslaskuri!$D$46,0)","v":0},{"$f":"IF(kuljetuslaskuri!$G$19,kuljetuslaskuri!#REF!,0)","v":0},{"$f":"AVERAGE(IF(AV146:AX146<>0, AV146:AX146,\"\"))","v":20},{"$f":"AY146*kuljetuslaskuri!$D$47%","v":19},33.25,{"$f":"kuljetuslaskuri!$D$52%","v":0},15.94,50,395.2321204516939,7.5,7.5,{"$f":"kuljetuslaskuri!$D$53*(laskentapohja!C146/laskentapohja!AZ146)","v":3.1578947368421053},413.39001518853598,12,425.39001518853598,14.1796671729512,7.0523517075744654E-2,null,194.77751990849626,422.94547180130616,617.72299170980239,null,0.39,389.02500000000003,null,{"$f":"kuljetuslaskuri!$D$74","v":71.100000000000009},null,460.12500000000006,null,{"$f":"N_arvo*N_maara*kuljetuslaskuri!$E$87%*C146","v":59.400000000000006},{"$f":"P_arvo*P_maara*kuljetuslaskuri!$E$88%*C146","v":41.040000000000006},{"$f":"K_arvo*K_maara*kuljetuslaskuri!$E$89%*C146","v":79.2},179.64000000000001]
[null,{"$f":"kuljetuslaskuri!$D$31","v":2500},{"$f":"kuljetuslaskuri!$D$12","v":30},{"$f":"kuljetuslaskuri!$D$33","v":14},{"$f":"kuljetuslaskuri!$D$34","v":4000},12,2.1428571428571428,7.5,2,{"$f":"kuljetuslaskuri!$D$35","v":0},21.5,0.71666666666666667,null,1.3953488372093024,null,{"$f":"IF(kuljetuslaskuri!$H$17,kuljetuslaskuri!$D$17,0)","v":25},{"$f":"IF(kuljetuslaskuri!$H$18,kuljetuslaskuri!$D$18,0)","v":0},{"$f":"IF(kuljetuslaskuri!$G$19,kuljetuslaskuri!#REF!,0)","v":0},{"$f":"AVERAGE(IF(P147:R147<>0, P147:R147,\"\"))","v":25},{"$f":"S147*kuljetuslaskuri!$D$19%","v":23.75},33.5,{"$f":"kuljetuslaskuri!$D$24%","v":0},15.94,50,318.5630324242224,7.6923076923076925,7.5,{"$f":"kuljetuslaskuri!$D$25*(laskentapohja!C147/laskentapohja!T147)","v":2.5263157894736841},336.28165590600378,11.209388530200126,8.9210932184732347E-2,null,336.28165590600378,8.9210932184732347E-2,null,0.74227988469701733,-1.3061379050245701,null,null,null,null,null,null,null,null,null,null,{"$f":"IF(kuljetuslaskuri!$H$45,kuljetuslaskuri!$D$45,0)","v":20},{"$f":"IF(kuljetuslaskuri!$H$46,kuljetuslaskuri!$D$46,0)","v":0},{"$f":"IF(kuljetuslaskuri!$G$19,kuljetuslaskuri!#REF!,0)","v":0},{"$f":"AVERAGE(IF(AV147:AX147<>0, AV147:AX147,\"\"))","v":20},{"$f":"AY147*kuljetuslaskuri!$D$47%","v":19},33.5,{"$f":"kuljetuslaskuri!$D$52%","v":0},15.94,50,398.20379053027807,7.5,7.5,{"$f":"kuljetuslaskuri!$D$53*(laskentapohja!C147/laskentapohja!AZ147)","v":3.1578947368421053},416.36168526712015,12,428.36168526712015,14.278722842237338,7.0034274847183012E-2,null,196.1642992785022,425.95676414760482,622.12106342610696,null,0.39,391.95000000000005,null,{"$f":"kuljetuslaskuri!$D$74","v":71.100000000000009},null,463.05000000000007,null,{"$f":"N_arvo*N_maara*kuljetuslaskuri!$E$87%*C147","v":59.400000000000006},{"$f":"P_arvo*P_maara*kuljetuslaskuri!$E$88%*C147","v":41.040000000000006},{"$f":"K_arvo*K_maara*kuljetuslaskuri!$E$89%*C147","v":79.2},179.64000000000001]
[null,{"$f":"kuljetuslaskuri!$D$31","v":2500},{"$f":"kuljetuslaskuri!$D$12","v":30},{"$f":"kuljetuslaskuri!$D$33","v":14},{"$f":"kuljetuslaskuri!$D$34","v":4000},12,2.1428571428571428,7.5,2,{"$f":"kuljetuslaskuri!$D$35","v":0},21.5,0.71666666666666667,null,1.3953488372093024,null,{"$f":"IF(kuljetuslaskuri!$H$17,kuljetuslaskuri!$D$17,0)","v":25},{"$f":"IF(kuljetuslaskuri!$H$18,kuljetuslaskuri!$D$18,0)","v":0},{"$f":"IF(kuljetuslaskuri!$G$19,kuljetuslaskuri!#REF!,0)","v":0},{"$f":"AVERAGE(IF(P148:R148<>0, P148:R148,\"\"))","v":25},{"$f":"S148*kuljetuslaskuri!$D$19%","v":23.75},33.75,{"$f":"kuljetuslaskuri!$D$24%","v":0},15.94,50,320.94036848708976,7.6923076923076925,7.5,{"$f":"kuljetuslaskuri!$D$25*(laskentapohja!C148/laskentapohja!T148)","v":2.5263157894736841},338.65899196887113,11.288633065629037,8.8584684628003452E-2,null,338.65899196887113,8.8584684628003452E-2,null,0.74196676091865288,-1.306764152581299,null,null,null,null,null,null,null,null,null,null,{"$f":"IF(kuljetuslaskuri!$H$45,kuljetuslaskuri!$D$45,0)","v":20},{"$f":"IF(kuljetuslaskuri!$H$46,kuljetuslaskuri!$D$46,0)","v":0},{"$f":"IF(kuljetuslaskuri!$G$19,kuljetuslaskuri!#REF!,0)","v":0},{"$f":"AVERAGE(IF(AV148:AX148<>0, AV148:AX148,\"\"))","v":20},{"$f":"AY148*kuljetuslaskuri!$D$47%","v":19},33.75,{"$f":"kuljetuslaskuri!$D$52%","v":0},15.94,50,401.17546060886218,7.5,7.5,{"$f":"kuljetuslaskuri!$D$53*(laskentapohja!C148/laskentapohja!AZ148)","v":3.1578947368421053},419.33335534570426,12,431.33335534570426,14.377778511523475,6.9551773884854451E-2,null,197.55107864850814,428.96805649390342,626.51913514241153,null,0.39,394.87500000000006,null,{"$f":"kuljetuslaskuri!$D$74","v":71.100000000000009},null,465.97500000000008,null,{"$f":"N_arvo*N_maara*kuljetuslaskuri!$E$87%*C148","v":59.400000000000006},{"$f":"P_arvo*P_maara*kuljetuslaskuri!$E$88%*C148","v":41.040000000000006},{"$f":"K_arvo*K_maara*kuljetuslaskuri!$E$89%*C148","v":79.2},179.64000000000001]
[null,{"$f":"kuljetuslaskuri!$D$31","v":2500},{"$f":"kuljetuslaskuri!$D$12","v":30},{"$f":"kuljetuslaskuri!$D$33","v":14},{"$f":"kuljetuslaskuri!$D$34","v":4000},12,2.1428571428571428,7.5,2,{"$f":"kuljetuslaskuri!$D$35","v":0},21.5,0.71666666666666667,null,1.3953488372093024,null,{"$f":"IF(kuljetuslaskuri!$H$17,kuljetuslaskuri!$D$17,0)","v":25},{"$f":"IF(kuljetuslaskuri!$H$18,kuljetuslaskuri!$D$18,0)","v":0},{"$f":"IF(kuljetuslaskuri!$G$19,kuljetuslaskuri!#REF!,0)","v":0},{"$f":"AVERAGE(IF(P149:R149<>0, P149:R149,\"\"))","v":25},{"$f":"S149*kuljetuslaskuri!$D$19%","v":23.75},34,{"$f":"kuljetuslaskuri!$D$24%","v":0},15.94,50,323.31770454995706,7.6923076923076925,7.5,{"$f":"kuljetuslaskuri!$D$25*(laskentapohja!C149/laskentapohja!T149)","v":2.5263157894736841},341.03632803173844,11.367877601057948,8.7967168111216756E-2,null,341.03632803173844,8.7967168111216756E-2,null,0.74165800266025961,-1.3073816690980855,null,null,null,null,null,null,null,null,null,null,{"$f":"IF(kuljetuslaskuri!$H$45,kuljetuslaskuri!$D$45,0)","v":20},{"$f":"IF(kuljetuslaskuri!$H$46,kuljetuslaskuri!$D$46,0)","v":0},{"$f":"IF(kuljetuslaskuri!$G$19,kuljetuslaskuri!#REF!,0)","v":0},{"$f":"AVERAGE(IF(AV149:AX149<>0, AV149:AX149,\"\"))","v":20},{"$f":"AY149*kuljetuslaskuri!$D$47%","v":19},34,{"$f":"kuljetuslaskuri!$D$52%","v":0},15.94,50,404.14713068744635,7.5,7.5,{"$f":"kuljetuslaskuri!$D$53*(laskentapohja!C149/laskentapohja!AZ149)","v":3.1578947368421053},422.30502542428843,12,434.30502542428843,14.476834180809615,6.9075875810306137E-2,null,198.93785801851411,431.97934884020202,630.9172068587161,null,0.39,397.8,null,{"$f":"kuljetuslaskuri!$D$74","v":71.100000000000009},null,468.90000000000003,null,{"$f":"N_arvo*N_maara*kuljetuslaskuri!$E$87%*C149","v":59.400000000000006},{"$f":"P_arvo*P_maara*kuljetuslaskuri!$E$88%*C149","v":41.040000000000006},{"$f":"K_arvo*K_maara*kuljetuslaskuri!$E$89%*C149","v":79.2},179.64000000000001]
[null,{"$f":"kuljetuslaskuri!$D$31","v":2500},{"$f":"kuljetuslaskuri!$D$12","v":30},{"$f":"kuljetuslaskuri!$D$33","v":14},{"$f":"kuljetuslaskuri!$D$34","v":4000},12,2.1428571428571428,7.5,2,{"$f":"kuljetuslaskuri!$D$35","v":0},21.5,0.71666666666666667,null,1.3953488372093024,null,{"$f":"IF(kuljetuslaskuri!$H$17,kuljetuslaskuri!$D$17,0)","v":25},{"$f":"IF(kuljetuslaskuri!$H$18,kuljetuslaskuri!$D$18,0)","v":0},{"$f":"IF(kuljetuslaskuri!$G$19,kuljetuslaskuri!#REF!,0)","v":0},{"$f":"AVERAGE(IF(P150:R150<>0, P150:R150,\"\"))","v":25},{"$f":"S150*kuljetuslaskuri!$D$19%","v":23.75},34.25,{"$f":"kuljetuslaskuri!$D$24%","v":0},15.94,50,325.69504061282441,7.6923076923076925,7.5,{"$f":"kuljetuslaskuri!$D$25*(laskentapohja!C150/laskentapohja!T150)","v":2.5263157894736841},343.41366409460579,11.447122136486859,8.7358201308307321E-2,null,343.41366409460579,8.7358201308307321E-2,null,0.74135351925880488,-1.307990635900995,null,null,null,null,null,null,null,null,null,null,{"$f":"IF(kuljetuslaskuri!$H$45,kuljetuslaskuri!$D$45,0)","v":20},{"$f":"IF(kuljetuslaskuri!$H$46,kuljetuslaskuri!$D$46,0)","v":0},{"$f":"IF(kuljetuslaskuri!$G$19,kuljetuslaskuri!#REF!,0)","v":0},{"$f":"AVERAGE(IF(AV150:AX150<>0, AV150:AX150,\"\"))","v":20},{"$f":"AY150*kuljetuslaskuri!$D$47%","v":19},34.25,{"$f":"kuljetuslaskuri!$D$52%","v":0},15.94,50,407.11880076603052,7.5,7.5,{"$f":"kuljetuslaskuri!$D$53*(laskentapohja!C150/laskentapohja!AZ150)","v":3.1578947368421053},425.2766955028726,12,437.2766955028726,14.575889850095754,6.8606446006686223E-2,null,200.32463738852005,434.99064118650068,635.31527857502078,null,0.39,400.72500000000002,null,{"$f":"kuljetuslaskuri!$D$74","v":71.100000000000009},null,471.82500000000005,null,{"$f":"N_arvo*N_maara*kuljetuslaskuri!$E$87%*C150","v":59.400000000000006},{"$f":"P_arvo*P_maara*kuljetuslaskuri!$E$88%*C150","v":41.040000000000006},{"$f":"K_arvo*K_maara*kuljetuslaskuri!$E$89%*C150","v":79.2},179.64000000000001]
[null,{"$f":"kuljetuslaskuri!$D$31","v":2500},{"$f":"kuljetuslaskuri!$D$12","v":30},{"$f":"kuljetuslaskuri!$D$33","v":14},{"$f":"kuljetuslaskuri!$D$34","v":4000},12,2.1428571428571428,7.5,2,{"$f":"kuljetuslaskuri!$D$35","v":0},21.5,0.71666666666666667,null,1.3953488372093024,null,{"$f":"IF(kuljetuslaskuri!$H$17,kuljetuslaskuri!$D$17,0)","v":25},{"$f":"IF(kuljetuslaskuri!$H$18,kuljetuslaskuri!$D$18,0)","v":0},{"$f":"IF(kuljetuslaskuri!$G$19,kuljetuslaskuri!#REF!,0)","v":0},{"$f":"AVERAGE(IF(P151:R151<>0, P151:R151,\"\"))","v":25},{"$f":"S151*kuljetuslaskuri!$D$19%","v":23.75},34.5,{"$f":"kuljetuslaskuri!$D$24%","v":0},15.94,50,328.07237667569171,7.6923076923076925,7.5,{"$f":"kuljetuslaskuri!$D$25*(laskentapohja!C151/laskentapohja!T151)","v":2.5263157894736841},345.79100015747309,11.52636667191577,8.6757607879725057E-2,null,345.79100015747309,8.6757607879725057E-2,null,0.74105322254451367,-1.3085912293295774,null,null,null,null,null,null,null,null,null,null,{"$f":"IF(kuljetuslaskuri!$H$45,kuljetuslaskuri!$D$45,0)","v":20},{"$f":"IF(kuljetuslaskuri!$H$46,kuljetuslaskuri!$D$46,0)","v":0},{"$f":"IF(kuljetuslaskuri!$G$19,kuljetuslaskuri!#REF!,0)","v":0},{"$f":"AVERAGE(IF(AV151:AX151<>0, AV151:AX151,\"\"))","v":20},{"$f":"AY151*kuljetuslaskuri!$D$47%","v":19},34.5,{"$f":"kuljetuslaskuri!$D$52%","v":0},15.94,50,410.09047084461469,7.5,7.5,{"$f":"kuljetuslaskuri!$D$53*(laskentapohja!C151/laskentapohja!AZ151)","v":3.1578947368421053},428.24836558145677,12,440.24836558145677,14.674945519381891,6.8143353491790001E-2,null,201.71141675852598,438.00193353279928,639.71335029132524,null,0.39,403.65000000000003,null,{"$f":"kuljetuslaskuri!$D$74","v":71.100000000000009},null,474.75000000000006,null,{"$f":"N_arvo*N_maara*kuljetuslaskuri!$E$87%*C151","v":59.400000000000006},{"$f":"P_arvo*P_maara*kuljetuslaskuri!$E$88%*C151","v":41.040000000000006},{"$f":"K_arvo*K_maara*kuljetuslaskuri!$E$89%*C151","v":79.2},179.64000000000001]
[null,{"$f":"kuljetuslaskuri!$D$31","v":2500},{"$f":"kuljetuslaskuri!$D$12","v":30},{"$f":"kuljetuslaskuri!$D$33","v":14},{"$f":"kuljetuslaskuri!$D$34","v":4000},12,2.1428571428571428,7.5,2,{"$f":"kuljetuslaskuri!$D$35","v":0},21.5,0.71666666666666667,null,1.3953488372093024,null,{"$f":"IF(kuljetuslaskuri!$H$17,kuljetuslaskuri!$D$17,0)","v":25},{"$f":"IF(kuljetuslaskuri!$H$18,kuljetuslaskuri!$D$18,0)","v":0},{"$f":"IF(kuljetuslaskuri!$G$19,kuljetuslaskuri!#REF!,0)","v":0},{"$f":"AVERAGE(IF(P152:R152<>0, P152:R152,\"\"))","v":25},{"$f":"S152*kuljetuslaskuri!$D$19%","v":23.75},34.75,{"$f":"kuljetuslaskuri!$D$24%","v":0},15.94,50,330.44971273855907,7.6923076923076925,7.5,{"$f":"kuljetuslaskuri!$D$25*(laskentapohja!C152/laskentapohja!T152)","v":2.5263157894736841},348.16833622034045,11.605611207344682,8.6165216302192163E-2,null,348.16833622034045,8.6165216302192163E-2,null,0.74075702675574728,-1.3091836209071102,null,null,null,null,null,null,null,null,null,null,{"$f":"IF(kuljetuslaskuri!$H$45,kuljetuslaskuri!$D$45,0)","v":20},{"$f":"IF(kuljetuslaskuri!$H$46,kuljetuslaskuri!$D$46,0)","v":0},{"$f":"IF(kuljetuslaskuri!$G$19,kuljetuslaskuri!#REF!,0)","v":0},{"$f":"AVERAGE(IF(AV152:AX152<>0, AV152:AX152,\"\"))","v":20},{"$f":"AY152*kuljetuslaskuri!$D$47%","v":19},34.75,{"$f":"kuljetuslaskuri!$D$52%","v":0},15.94,50,413.06214092319885,7.5,7.5,{"$f":"kuljetuslaskuri!$D$53*(laskentapohja!C152/laskentapohja!AZ152)","v":3.1578947368421053},431.22003566004093,12,443.22003566004093,14.774001188668031,6.7686470796213358E-2,null,203.09819612853192,441.01322587909789,644.11142200762981,null,0.39,406.57500000000005,null,{"$f":"kuljetuslaskuri!$D$74","v":71.100000000000009},null,477.67500000000007,null,{"$f":"N_arvo*N_maara*kuljetuslaskuri!$E$87%*C152","v":59.400000000000006},{"$f":"P_arvo*P_maara*kuljetuslaskuri!$E$88%*C152","v":41.040000000000006},{"$f":"K_arvo*K_maara*kuljetuslaskuri!$E$89%*C152","v":79.2},179.64000000000001]
[null,{"$f":"kuljetuslaskuri!$D$31","v":2500},{"$f":"kuljetuslaskuri!$D$12","v":30},{"$f":"kuljetuslaskuri!$D$33","v":14},{"$f":"kuljetuslaskuri!$D$34","v":4000},12,2.1428571428571428,7.5,2,{"$f":"kuljetuslaskuri!$D$35","v":0},21.5,0.71666666666666667,null,1.3953488372093024,null,{"$f":"IF(kuljetuslaskuri!$H$17,kuljetuslaskuri!$D$17,0)","v":25},{"$f":"IF(kuljetuslaskuri!$H$18,kuljetuslaskuri!$D$18,0)","v":0},{"$f":"IF(kuljetuslaskuri!$G$19,kuljetuslaskuri!#REF!,0)","v":0},{"$f":"AVERAGE(IF(P153:R153<>0, P153:R153,\"\"))","v":25},{"$f":"S153*kuljetuslaskuri!$D$19%","v":23.75},35,{"$f":"kuljetuslaskuri!$D$24%","v":0},15.94,50,332.82704880142637,7.6923076923076925,7.5,{"$f":"kuljetuslaskuri!$D$25*(laskentapohja!C153/laskentapohja!T153)","v":2.5263157894736841},350.54567228320775,11.684855742773591,8.558085970538766E-2,null,350.54567228320775,8.558085970538766E-2,null,0.74046484845734506,-1.3097679775039146,null,null,null,null,null,null,null,null,null,null,{"$f":"IF(kuljetuslaskuri!$H$45,kuljetuslaskuri!$D$45,0)","v":20},{"$f":"IF(kuljetuslaskuri!$H$46,kuljetuslaskuri!$D$46,0)","v":0},{"$f":"IF(kuljetuslaskuri!$G$19,kuljetuslaskuri!#REF!,0)","v":0},{"$f":"AVERAGE(IF(AV153:AX153<>0, AV153:AX153,\"\"))","v":20},{"$f":"AY153*kuljetuslaskuri!$D$47%","v":19},35,{"$f":"kuljetuslaskuri!$D$52%","v":0},15.94,50,416.03381100178302,7.5,7.5,{"$f":"kuljetuslaskuri!$D$53*(laskentapohja!C153/laskentapohja!AZ153)","v":3.1578947368421053},434.1917057386251,12,446.1917057386251,14.87305685795417,6.723567384637516E-2,null,204.48497549853784,444.02451822539643,648.50949372393427,null,0.39,409.50000000000006,null,{"$f":"kuljetuslaskuri!$D$74","v":71.100000000000009},null,480.60000000000008,null,{"$f":"N_arvo*N_maara*kuljetuslaskuri!$E$87%*C153","v":59.400000000000006},{"$f":"P_arvo*P_maara*kuljetuslaskuri!$E$88%*C153","v":41.040000000000006},{"$f":"K_arvo*K_maara*kuljetuslaskuri!$E$89%*C153","v":79.2},179.64000000000001]
[null,{"$f":"kuljetuslaskuri!$D$31","v":2500},{"$f":"kuljetuslaskuri!$D$12","v":30},{"$f":"kuljetuslaskuri!$D$33","v":14},{"$f":"kuljetuslaskuri!$D$34","v":4000},12,2.1428571428571428,7.5,2,{"$f":"kuljetuslaskuri!$D$35","v":0},21.5,0.71666666666666667,null,1.3953488372093024,null,{"$f":"IF(kuljetuslaskuri!$H$17,kuljetuslaskuri!$D$17,0)","v":25},{"$f":"IF(kuljetuslaskuri!$H$18,kuljetuslaskuri!$D$18,0)","v":0},{"$f":"IF(kuljetuslaskuri!$G$19,kuljetuslaskuri!#REF!,0)","v":0},{"$f":"AVERAGE(IF(P154:R154<>0, P154:R154,\"\"))","v":25},{"$f":"S154*kuljetuslaskuri!$D$19%","v":23.75},35.25,{"$f":"kuljetuslaskuri!$D$24%","v":0},15.94,50,335.20438486429373,7.6923076923076925,7.5,{"$f":"kuljetuslaskuri!$D$25*(laskentapohja!C154/laskentapohja!T154)","v":2.5263157894736841},352.92300834607511,11.764100278202504,8.5004375715232769E-2,null,352.92300834607511,8.5004375715232769E-2,null,0.74017660646226757,-1.3103444614940696,null,null,null,null,null,null,null,null,null,null,{"$f":"IF(kuljetuslaskuri!$H$45,kuljetuslaskuri!$D$45,0)","v":20},{"$f":"IF(kuljetuslaskuri!$H$46,kuljetuslaskuri!$D$46,0)","v":0},{"$f":"IF(kuljetuslaskuri!$G$19,kuljetuslaskuri!#REF!,0)","v":0},{"$f":"AVERAGE(IF(AV154:AX154<>0, AV154:AX154,\"\"))","v":20},{"$f":"AY154*kuljetuslaskuri!$D$47%","v":19},35.25,{"$f":"kuljetuslaskuri!$D$52%","v":0},15.94,50,419.00548108036713,7.5,7.5,{"$f":"kuljetuslaskuri!$D$53*(laskentapohja!C154/laskentapohja!AZ154)","v":3.1578947368421053},437.16337581720921,12,449.16337581720921,14.972112527240308,6.6790841852183314E-2,null,205.8717548685438,447.03581057169515,652.90756544023895,null,0.39,412.42500000000001,null,{"$f":"kuljetuslaskuri!$D$74","v":71.100000000000009},null,483.52500000000003,null,{"$f":"N_arvo*N_maara*kuljetuslaskuri!$E$87%*C154","v":59.400000000000006},{"$f":"P_arvo*P_maara*kuljetuslaskuri!$E$88%*C154","v":41.040000000000006},{"$f":"K_arvo*K_maara*kuljetuslaskuri!$E$89%*C154","v":79.2},179.64000000000001]
[null,{"$f":"kuljetuslaskuri!$D$31","v":2500},{"$f":"kuljetuslaskuri!$D$12","v":30},{"$f":"kuljetuslaskuri!$D$33","v":14},{"$f":"kuljetuslaskuri!$D$34","v":4000},12,2.1428571428571428,7.5,2,{"$f":"kuljetuslaskuri!$D$35","v":0},21.5,0.71666666666666667,null,1.3953488372093024,null,{"$f":"IF(kuljetuslaskuri!$H$17,kuljetuslaskuri!$D$17,0)","v":25},{"$f":"IF(kuljetuslaskuri!$H$18,kuljetuslaskuri!$D$18,0)","v":0},{"$f":"IF(kuljetuslaskuri!$G$19,kuljetuslaskuri!#REF!,0)","v":0},{"$f":"AVERAGE(IF(P155:R155<>0, P155:R155,\"\"))","v":25},{"$f":"S155*kuljetuslaskuri!$D$19%","v":23.75},35.5,{"$f":"kuljetuslaskuri!$D$24%","v":0},15.94,50,337.58172092716103,7.6923076923076925,7.5,{"$f":"kuljetuslaskuri!$D$25*(laskentapohja!C155/laskentapohja!T155)","v":2.5263157894736841},355.30034440894241,11.843344813631413,8.4435606303467872E-2,null,355.30034440894241,8.4435606303467872E-2,null,0.73989222175638514,-1.3109132309058344,null,null,null,null,null,null,null,null,null,null,{"$f":"IF(kuljetuslaskuri!$H$45,kuljetuslaskuri!$D$45,0)","v":20},{"$f":"IF(kuljetuslaskuri!$H$46,kuljetuslaskuri!$D$46,0)","v":0},{"$f":"IF(kuljetuslaskuri!$G$19,kuljetuslaskuri!#REF!,0)","v":0},{"$f":"AVERAGE(IF(AV155:AX155<>0, AV155:AX155,\"\"))","v":20},{"$f":"AY155*kuljetuslaskuri!$D$47%","v":19},35.5,{"$f":"kuljetuslaskuri!$D$52%","v":0},15.94,50,421.9771511589513,7.5,7.5,{"$f":"kuljetuslaskuri!$D$53*(laskentapohja!C155/laskentapohja!AZ155)","v":3.1578947368421053},440.13504589579338,12,452.13504589579338,15.071168196526447,6.6351857199130504E-2,null,207.25853423854971,450.0471029179937,657.30563715654341,null,0.39,415.35,null,{"$f":"kuljetuslaskuri!$D$74","v":71.100000000000009},null,486.45000000000005,null,{"$f":"N_arvo*N_maara*kuljetuslaskuri!$E$87%*C155","v":59.400000000000006},{"$f":"P_arvo*P_maara*kuljetuslaskuri!$E$88%*C155","v":41.040000000000006},{"$f":"K_arvo*K_maara*kuljetuslaskuri!$E$89%*C155","v":79.2},179.64000000000001]
[null,{"$f":"kuljetuslaskuri!$D$31","v":2500},{"$f":"kuljetuslaskuri!$D$12","v":30},{"$f":"kuljetuslaskuri!$D$33","v":14},{"$f":"kuljetuslaskuri!$D$34","v":4000},12,2.1428571428571428,7.5,2,{"$f":"kuljetuslaskuri!$D$35","v":0},21.5,0.71666666666666667,null,1.3953488372093024,null,{"$f":"IF(kuljetuslaskuri!$H$17,kuljetuslaskuri!$D$17,0)","v":25},{"$f":"IF(kuljetuslaskuri!$H$18,kuljetuslaskuri!$D$18,0)","v":0},{"$f":"IF(kuljetuslaskuri!$G$19,kuljetuslaskuri!#REF!,0)","v":0},{"$f":"AVERAGE(IF(P156:R156<>0, P156:R156,\"\"))","v":25},{"$f":"S156*kuljetuslaskuri!$D$19%","v":23.75},35.75,{"$f":"kuljetuslaskuri!$D$24%","v":0},15.94,50,339.95905699002839,7.6923076923076925,7.5,{"$f":"kuljetuslaskuri!$D$25*(laskentapohja!C156/laskentapohja!T156)","v":2.5263157894736841},357.67768047180977,11.922589349060326,8.3874397643227946E-2,null,357.67768047180977,8.3874397643227946E-2,null,0.73961161742626513,-1.3114744395660745,null,null,null,null,null,null,null,null,null,null,{"$f":"IF(kuljetuslaskuri!$H$45,kuljetuslaskuri!$D$45,0)","v":20},{"$f":"IF(kuljetuslaskuri!$H$46,kuljetuslaskuri!$D$46,0)","v":0},{"$f":"IF(kuljetuslaskuri!$G$19,kuljetuslaskuri!#REF!,0)","v":0},{"$f":"AVERAGE(IF(AV156:AX156<>0, AV156:AX156,\"\"))","v":20},{"$f":"AY156*kuljetuslaskuri!$D$47%","v":19},35.75,{"$f":"kuljetuslaskuri!$D$52%","v":0},15.94,50,424.94882123753547,7.5,7.5,{"$f":"kuljetuslaskuri!$D$53*(laskentapohja!C156/laskentapohja!AZ156)","v":3.1578947368421053},443.10671597437755,12,455.10671597437755,15.170223865812584,6.5918605344617673E-2,null,208.64531360855571,453.05839526429236,661.7037088728481,null,0.39,418.27500000000003,null,{"$f":"kuljetuslaskuri!$D$74","v":71.100000000000009},null,489.37500000000006,null,{"$f":"N_arvo*N_maara*kuljetuslaskuri!$E$87%*C156","v":59.400000000000006},{"$f":"P_arvo*P_maara*kuljetuslaskuri!$E$88%*C156","v":41.040000000000006},{"$f":"K_arvo*K_maara*kuljetuslaskuri!$E$89%*C156","v":79.2},179.64000000000001]
[null,{"$f":"kuljetuslaskuri!$D$31","v":2500},{"$f":"kuljetuslaskuri!$D$12","v":30},{"$f":"kuljetuslaskuri!$D$33","v":14},{"$f":"kuljetuslaskuri!$D$34","v":4000},12,2.1428571428571428,7.5,2,{"$f":"kuljetuslaskuri!$D$35","v":0},21.5,0.71666666666666667,null,1.3953488372093024,null,{"$f":"IF(kuljetuslaskuri!$H$17,kuljetuslaskuri!$D$17,0)","v":25},{"$f":"IF(kuljetuslaskuri!$H$18,kuljetuslaskuri!$D$18,0)","v":0},{"$f":"IF(kuljetuslaskuri!$G$19,kuljetuslaskuri!#REF!,0)","v":0},{"$f":"AVERAGE(IF(P157:R157<>0, P157:R157,\"\"))","v":25},{"$f":"S157*kuljetuslaskuri!$D$19%","v":23.75},36,{"$f":"kuljetuslaskuri!$D$24%","v":0},15.94,50,342.33639305289569,7.6923076923076925,7.5,{"$f":"kuljetuslaskuri!$D$25*(laskentapohja!C157/laskentapohja!T157)","v":2.5263157894736841},360.05501653467707,12.001833884489235,8.3320599970340053E-2,null,360.05501653467707,8.3320599970340053E-2,null,0.73933471858982125,-1.3120282372389622,null,null,null,null,null,null,null,null,null,null,{"$f":"IF(kuljetuslaskuri!$H$45,kuljetuslaskuri!$D$45,0)","v":20},{"$f":"IF(kuljetuslaskuri!$H$46,kuljetuslaskuri!$D$46,0)","v":0},{"$f":"IF(kuljetuslaskuri!$G$19,kuljetuslaskuri!#REF!,0)","v":0},{"$f":"AVERAGE(IF(AV157:AX157<>0, AV157:AX157,\"\"))","v":20},{"$f":"AY157*kuljetuslaskuri!$D$47%","v":19},36,{"$f":"kuljetuslaskuri!$D$52%","v":0},15.94,50,427.92049131611964,7.5,7.5,{"$f":"kuljetuslaskuri!$D$53*(laskentapohja!C157/laskentapohja!AZ157)","v":3.1578947368421053},446.07838605296172,12,458.07838605296172,15.269279535098724,6.5490974718312694E-2,null,210.03209297856162,456.06968761059096,666.10178058915255,null,0.39,421.20000000000005,null,{"$f":"kuljetuslaskuri!$D$74","v":71.100000000000009},null,492.30000000000007,null,{"$f":"N_arvo*N_maara*kuljetuslaskuri!$E$87%*C157","v":59.400000000000006},{"$f":"P_arvo*P_maara*kuljetuslaskuri!$E$88%*C157","v":41.040000000000006},{"$f":"K_arvo*K_maara*kuljetuslaskuri!$E$89%*C157","v":79.2},179.64000000000001]
[null,{"$f":"kuljetuslaskuri!$D$31","v":2500},{"$f":"kuljetuslaskuri!$D$12","v":30},{"$f":"kuljetuslaskuri!$D$33","v":14},{"$f":"kuljetuslaskuri!$D$34","v":4000},12,2.1428571428571428,7.5,2,{"$f":"kuljetuslaskuri!$D$35","v":0},21.5,0.71666666666666667,null,1.3953488372093024,null,{"$f":"IF(kuljetuslaskuri!$H$17,kuljetuslaskuri!$D$17,0)","v":25},{"$f":"IF(kuljetuslaskuri!$H$18,kuljetuslaskuri!$D$18,0)","v":0},{"$f":"IF(kuljetuslaskuri!$G$19,kuljetuslaskuri!#REF!,0)","v":0},{"$f":"AVERAGE(IF(P158:R158<>0, P158:R158,\"\"))","v":25},{"$f":"S158*kuljetuslaskuri!$D$19%","v":23.75},36.25,{"$f":"kuljetuslaskuri!$D$24%","v":0},15.94,50,344.7137291157631,7.6923076923076925,7.5,{"$f":"kuljetuslaskuri!$D$25*(laskentapohja!C158/laskentapohja!T158)","v":2.5263157894736841},362.43235259754448,12.08107841991815,8.2774067450079106E-2,null,362.43235259754448,8.2774067450079106E-2,null,0.73906145232969078,-1.3125747697592232,null,null,null,null,null,null,null,null,null,null,{"$f":"IF(kuljetuslaskuri!$H$45,kuljetuslaskuri!$D$45,0)","v":20},{"$f":"IF(kuljetuslaskuri!$H$46,kuljetuslaskuri!$D$46,0)","v":0},{"$f":"IF(kuljetuslaskuri!$G$19,kuljetuslaskuri!#REF!,0)","v":0},{"$f":"AVERAGE(IF(AV158:AX158<>0, AV158:AX158,\"\"))","v":20},{"$f":"AY158*kuljetuslaskuri!$D$47%","v":19},36.25,{"$f":"kuljetuslaskuri!$D$52%","v":0},15.94,50,430.89216139470386,7.5,7.5,{"$f":"kuljetuslaskuri!$D$53*(laskentapohja!C158/laskentapohja!AZ158)","v":3.1578947368421053},449.05005613154594,12,461.05005613154594,15.368335204384865,6.5068856626362623E-2,null,211.41887234856762,459.08097995688968,670.49985230545735,null,0.39,424.12500000000006,null,{"$f":"kuljetuslaskuri!$D$74","v":71.100000000000009},null,495.22500000000008,null,{"$f":"N_arvo*N_maara*kuljetuslaskuri!$E$87%*C158","v":59.400000000000006},{"$f":"P_arvo*P_maara*kuljetuslaskuri!$E$88%*C158","v":41.040000000000006},{"$f":"K_arvo*K_maara*kuljetuslaskuri!$E$89%*C158","v":79.2},179.64000000000001]
[null,{"$f":"kuljetuslaskuri!$D$31","v":2500},{"$f":"kuljetuslaskuri!$D$12","v":30},{"$f":"kuljetuslaskuri!$D$33","v":14},{"$f":"kuljetuslaskuri!$D$34","v":4000},12,2.1428571428571428,7.5,2,{"$f":"kuljetuslaskuri!$D$35","v":0},21.5,0.71666666666666667,null,1.3953488372093024,null,{"$f":"IF(kuljetuslaskuri!$H$17,kuljetuslaskuri!$D$17,0)","v":25},{"$f":"IF(kuljetuslaskuri!$H$18,kuljetuslaskuri!$D$18,0)","v":0},{"$f":"IF(kuljetuslaskuri!$G$19,kuljetuslaskuri!#REF!,0)","v":0},{"$f":"AVERAGE(IF(P159:R159<>0, P159:R159,\"\"))","v":25},{"$f":"S159*kuljetuslaskuri!$D$19%","v":23.75},36.5,{"$f":"kuljetuslaskuri!$D$24%","v":0},15.94,50,347.0910651786304,7.6923076923076925,7.5,{"$f":"kuljetuslaskuri!$D$25*(laskentapohja!C159/laskentapohja!T159)","v":2.5263157894736841},364.80968866041178,12.160322955347059,8.2234658049134005E-2,null,364.80968866041178,8.2234658049134005E-2,null,0.73879174762921818,-1.3131141791601684,null,null,null,null,null,null,null,null,null,null,{"$f":"IF(kuljetuslaskuri!$H$45,kuljetuslaskuri!$D$45,0)","v":20},{"$f":"IF(kuljetuslaskuri!$H$46,kuljetuslaskuri!$D$46,0)","v":0},{"$f":"IF(kuljetuslaskuri!$G$19,kuljetuslaskuri!#REF!,0)","v":0},{"$f":"AVERAGE(IF(AV159:AX159<>0, AV159:AX159,\"\"))","v":20},{"$f":"AY159*kuljetuslaskuri!$D$47%","v":19},36.5,{"$f":"kuljetuslaskuri!$D$52%","v":0},15.94,50,433.86383147328803,7.5,7.5,{"$f":"kuljetuslaskuri!$D$53*(laskentapohja!C159/laskentapohja!AZ159)","v":3.1578947368421053},452.02172621013011,12,464.02172621013011,15.467390873671004,6.4652145159286439E-2,null,212.80565171857353,462.09227230318822,674.89792402176181,null,0.39,427.05,null,{"$f":"kuljetuslaskuri!$D$74","v":71.100000000000009},null,498.15000000000003,null,{"$f":"N_arvo*N_maara*kuljetuslaskuri!$E$87%*C159","v":59.400000000000006},{"$f":"P_arvo*P_maara*kuljetuslaskuri!$E$88%*C159","v":41.040000000000006},{"$f":"K_arvo*K_maara*kuljetuslaskuri!$E$89%*C159","v":79.2},179.64000000000001]
[null,{"$f":"kuljetuslaskuri!$D$31","v":2500},{"$f":"kuljetuslaskuri!$D$12","v":30},{"$f":"kuljetuslaskuri!$D$33","v":14},{"$f":"kuljetuslaskuri!$D$34","v":4000},12,2.1428571428571428,7.5,2,{"$f":"kuljetuslaskuri!$D$35","v":0},21.5,0.71666666666666667,null,1.3953488372093024,null,{"$f":"IF(kuljetuslaskuri!$H$17,kuljetuslaskuri!$D$17,0)","v":25},{"$f":"IF(kuljetuslaskuri!$H$18,kuljetuslaskuri!$D$18,0)","v":0},{"$f":"IF(kuljetuslaskuri!$G$19,kuljetuslaskuri!#REF!,0)","v":0},{"$f":"AVERAGE(IF(P160:R160<>0, P160:R160,\"\"))","v":25},{"$f":"S160*kuljetuslaskuri!$D$19%","v":23.75},36.75,{"$f":"kuljetuslaskuri!$D$24%","v":0},15.94,50,349.46840124149776,7.6923076923076925,7.5,{"$f":"kuljetuslaskuri!$D$25*(laskentapohja!C160/laskentapohja!T160)","v":2.5263157894736841},367.18702472327914,12.239567490775972,8.170223341254694E-2,null,367.18702472327914,8.170223341254694E-2,null,0.73852553531092469,-1.3136466037967554,null,null,null,null,null,null,null,null,null,null,{"$f":"IF(kuljetuslaskuri!$H$45,kuljetuslaskuri!$D$45,0)","v":20},{"$f":"IF(kuljetuslaskuri!$H$46,kuljetuslaskuri!$D$46,0)","v":0},{"$f":"IF(kuljetuslaskuri!$G$19,kuljetuslaskuri!#REF!,0)","v":0},{"$f":"AVERAGE(IF(AV160:AX160<>0, AV160:AX160,\"\"))","v":20},{"$f":"AY160*kuljetuslaskuri!$D$47%","v":19},36.75,{"$f":"kuljetuslaskuri!$D$52%","v":0},15.94,50,436.8355015518722,7.5,7.5,{"$f":"kuljetuslaskuri!$D$53*(laskentapohja!C160/laskentapohja!AZ160)","v":3.1578947368421053},454.99339628871428,12,466.99339628871428,15.566446542957143,6.4240737103384613E-2,null,214.1924310885795,465.10356464948694,679.29599573806649,null,0.39,429.97500000000002,null,{"$f":"kuljetuslaskuri!$D$74","v":71.100000000000009},null,501.07500000000005,null,{"$f":"N_arvo*N_maara*kuljetuslaskuri!$E$87%*C160","v":59.400000000000006},{"$f":"P_arvo*P_maara*kuljetuslaskuri!$E$88%*C160","v":41.040000000000006},{"$f":"K_arvo*K_maara*kuljetuslaskuri!$E$89%*C160","v":79.2},179.64000000000001]
[null,{"$f":"kuljetuslaskuri!$D$31","v":2500},{"$f":"kuljetuslaskuri!$D$12","v":30},{"$f":"kuljetuslaskuri!$D$33","v":14},{"$f":"kuljetuslaskuri!$D$34","v":4000},12,2.1428571428571428,7.5,2,{"$f":"kuljetuslaskuri!$D$35","v":0},21.5,0.71666666666666667,null,1.3953488372093024,null,{"$f":"IF(kuljetuslaskuri!$H$17,kuljetuslaskuri!$D$17,0)","v":25},{"$f":"IF(kuljetuslaskuri!$H$18,kuljetuslaskuri!$D$18,0)","v":0},{"$f":"IF(kuljetuslaskuri!$G$19,kuljetuslaskuri!#REF!,0)","v":0},{"$f":"AVERAGE(IF(P161:R161<>0, P161:R161,\"\"))","v":25},{"$f":"S161*kuljetuslaskuri!$D$19%","v":23.75},37,{"$f":"kuljetuslaskuri!$D$24%","v":0},15.94,50,351.84573730436506,7.6923076923076925,7.5,{"$f":"kuljetuslaskuri!$D$25*(laskentapohja!C161/laskentapohja!T161)","v":2.5263157894736841},369.56436078614644,12.318812026204881,8.1176658745402988E-2,null,369.56436078614644,8.1176658745402988E-2,null,0.7382627479773527,-1.3141721784638993,null,null,null,null,null,null,null,null,null,null,{"$f":"IF(kuljetuslaskuri!$H$45,kuljetuslaskuri!$D$45,0)","v":20},{"$f":"IF(kuljetuslaskuri!$H$46,kuljetuslaskuri!$D$46,0)","v":0},{"$f":"IF(kuljetuslaskuri!$G$19,kuljetuslaskuri!#REF!,0)","v":0},{"$f":"AVERAGE(IF(AV161:AX161<>0, AV161:AX161,\"\"))","v":20},{"$f":"AY161*kuljetuslaskuri!$D$47%","v":19},37,{"$f":"kuljetuslaskuri!$D$52%","v":0},15.94,50,439.80717163045637,7.5,7.5,{"$f":"kuljetuslaskuri!$D$53*(laskentapohja!C161/laskentapohja!AZ161)","v":3.1578947368421053},457.96506636729845,12,469.96506636729845,15.665502212243281,6.3834531855509608E-2,null,215.57921045858541,468.11485699578549,683.69406745437095,null,0.39,432.90000000000003,null,{"$f":"kuljetuslaskuri!$D$74","v":71.100000000000009},null,504.00000000000006,null,{"$f":"N_arvo*N_maara*kuljetuslaskuri!$E$87%*C161","v":59.400000000000006},{"$f":"P_arvo*P_maara*kuljetuslaskuri!$E$88%*C161","v":41.040000000000006},{"$f":"K_arvo*K_maara*kuljetuslaskuri!$E$89%*C161","v":79.2},179.64000000000001]
[null,{"$f":"kuljetuslaskuri!$D$31","v":2500},{"$f":"kuljetuslaskuri!$D$12","v":30},{"$f":"kuljetuslaskuri!$D$33","v":14},{"$f":"kuljetuslaskuri!$D$34","v":4000},12,2.1428571428571428,7.5,2,{"$f":"kuljetuslaskuri!$D$35","v":0},21.5,0.71666666666666667,null,1.3953488372093024,null,{"$f":"IF(kuljetuslaskuri!$H$17,kuljetuslaskuri!$D$17,0)","v":25},{"$f":"IF(kuljetuslaskuri!$H$18,kuljetuslaskuri!$D$18,0)","v":0},{"$f":"IF(kuljetuslaskuri!$G$19,kuljetuslaskuri!#REF!,0)","v":0},{"$f":"AVERAGE(IF(P162:R162<>0, P162:R162,\"\"))","v":25},{"$f":"S162*kuljetuslaskuri!$D$19%","v":23.75},37.25,{"$f":"kuljetuslaskuri!$D$24%","v":0},15.94,50,354.22307336723242,7.6923076923076925,7.5,{"$f":"kuljetuslaskuri!$D$25*(laskentapohja!C162/laskentapohja!T162)","v":2.5263157894736841},371.94169684901379,12.398056561633792,8.0657802699056397E-2,null,371.94169684901379,8.0657802699056397E-2,null,0.73800331995417934,-1.314691034510246,null,null,null,null,null,null,null,null,null,null,{"$f":"IF(kuljetuslaskuri!$H$45,kuljetuslaskuri!$D$45,0)","v":20},{"$f":"IF(kuljetuslaskuri!$H$46,kuljetuslaskuri!$D$46,0)","v":0},{"$f":"IF(kuljetuslaskuri!$G$19,kuljetuslaskuri!#REF!,0)","v":0},{"$f":"AVERAGE(IF(AV162:AX162<>0, AV162:AX162,\"\"))","v":20},{"$f":"AY162*kuljetuslaskuri!$D$47%","v":19},37.25,{"$f":"kuljetuslaskuri!$D$52%","v":0},15.94,50,442.77884170904053,7.5,7.5,{"$f":"kuljetuslaskuri!$D$53*(laskentapohja!C162/laskentapohja!AZ162)","v":3.1578947368421053},460.93673644588262,12,472.93673644588262,15.76455788152942,6.3433431341049673E-2,null,216.96598982859138,471.12614934208409,688.09213917067541,null,0.39,435.82500000000005,null,{"$f":"kuljetuslaskuri!$D$74","v":71.100000000000009},null,506.92500000000007,null,{"$f":"N_arvo*N_maara*kuljetuslaskuri!$E$87%*C162","v":59.400000000000006},{"$f":"P_arvo*P_maara*kuljetuslaskuri!$E$88%*C162","v":41.040000000000006},{"$f":"K_arvo*K_maara*kuljetuslaskuri!$E$89%*C162","v":79.2},179.64000000000001]
[null,{"$f":"kuljetuslaskuri!$D$31","v":2500},{"$f":"kuljetuslaskuri!$D$12","v":30},{"$f":"kuljetuslaskuri!$D$33","v":14},{"$f":"kuljetuslaskuri!$D$34","v":4000},12,2.1428571428571428,7.5,2,{"$f":"kuljetuslaskuri!$D$35","v":0},21.5,0.71666666666666667,null,1.3953488372093024,null,{"$f":"IF(kuljetuslaskuri!$H$17,kuljetuslaskuri!$D$17,0)","v":25},{"$f":"IF(kuljetuslaskuri!$H$18,kuljetuslaskuri!$D$18,0)","v":0},{"$f":"IF(kuljetuslaskuri!$G$19,kuljetuslaskuri!#REF!,0)","v":0},{"$f":"AVERAGE(IF(P163:R163<>0, P163:R163,\"\"))","v":25},{"$f":"S163*kuljetuslaskuri!$D$19%","v":23.75},37.5,{"$f":"kuljetuslaskuri!$D$24%","v":0},15.94,50,356.60040943009972,7.6923076923076925,7.5,{"$f":"kuljetuslaskuri!$D$25*(laskentapohja!C163/laskentapohja!T163)","v":2.5263157894736841},374.3190329118811,12.477301097062703,8.0145537261692851E-2,null,374.3190329118811,8.0145537261692851E-2,null,0.73774718723549759,-1.3152032999476095,null,null,null,null,null,null,null,null,null,null,{"$f":"IF(kuljetuslaskuri!$H$45,kuljetuslaskuri!$D$45,0)","v":20},{"$f":"IF(kuljetuslaskuri!$H$46,kuljetuslaskuri!$D$46,0)","v":0},{"$f":"IF(kuljetuslaskuri!$G$19,kuljetuslaskuri!#REF!,0)","v":0},{"$f":"AVERAGE(IF(AV163:AX163<>0, AV163:AX163,\"\"))","v":20},{"$f":"AY163*kuljetuslaskuri!$D$47%","v":19},37.5,{"$f":"kuljetuslaskuri!$D$52%","v":0},15.94,50,445.7505117876247,7.5,7.5,{"$f":"kuljetuslaskuri!$D$53*(laskentapohja!C163/laskentapohja!AZ163)","v":3.1578947368421053},463.90840652446678,12,475.90840652446678,15.863613550815559,6.3037339934985323E-2,null,218.35276919859731,474.13744168838275,692.49021088698009,null,0.39,438.75000000000006,null,{"$f":"kuljetuslaskuri!$D$74","v":71.100000000000009},null,509.85000000000008,null,{"$f":"N_arvo*N_maara*kuljetuslaskuri!$E$87%*C163","v":59.400000000000006},{"$f":"P_arvo*P_maara*kuljetuslaskuri!$E$88%*C163","v":41.040000000000006},{"$f":"K_arvo*K_maara*kuljetuslaskuri!$E$89%*C163","v":79.2},179.64000000000001]
[null,{"$f":"kuljetuslaskuri!$D$31","v":2500},{"$f":"kuljetuslaskuri!$D$12","v":30},{"$f":"kuljetuslaskuri!$D$33","v":14},{"$f":"kuljetuslaskuri!$D$34","v":4000},12,2.1428571428571428,7.5,2,{"$f":"kuljetuslaskuri!$D$35","v":0},21.5,0.71666666666666667,null,1.3953488372093024,null,{"$f":"IF(kuljetuslaskuri!$H$17,kuljetuslaskuri!$D$17,0)","v":25},{"$f":"IF(kuljetuslaskuri!$H$18,kuljetuslaskuri!$D$18,0)","v":0},{"$f":"IF(kuljetuslaskuri!$G$19,kuljetuslaskuri!#REF!,0)","v":0},{"$f":"AVERAGE(IF(P164:R164<>0, P164:R164,\"\"))","v":25},{"$f":"S164*kuljetuslaskuri!$D$19%","v":23.75},37.75,{"$f":"kuljetuslaskuri!$D$24%","v":0},15.94,50,358.97774549296707,7.6923076923076925,7.5,{"$f":"kuljetuslaskuri!$D$25*(laskentapohja!C164/laskentapohja!T164)","v":2.5263157894736841},376.69636897474845,12.556545632491614,7.9639737653035433E-2,null,376.69636897474845,7.9639737653035433E-2,null,0.73749428743116885,-1.315709099556267,null,null,null,null,null,null,null,null,null,null,{"$f":"IF(kuljetuslaskuri!$H$45,kuljetuslaskuri!$D$45,0)","v":20},{"$f":"IF(kuljetuslaskuri!$H$46,kuljetuslaskuri!$D$46,0)","v":0},{"$f":"IF(kuljetuslaskuri!$G$19,kuljetuslaskuri!#REF!,0)","v":0},{"$f":"AVERAGE(IF(AV164:AX164<>0, AV164:AX164,\"\"))","v":20},{"$f":"AY164*kuljetuslaskuri!$D$47%","v":19},37.75,{"$f":"kuljetuslaskuri!$D$52%","v":0},15.94,50,448.72218186620881,7.5,7.5,{"$f":"kuljetuslaskuri!$D$53*(laskentapohja!C164/laskentapohja!AZ164)","v":3.1578947368421053},466.8800766030509,12,478.8800766030509,15.962669220101697,6.2646164385885147E-2,null,219.73954856860325,477.14873403468135,696.88828260328455,null,0.39,441.67500000000007,null,{"$f":"kuljetuslaskuri!$D$74","v":71.100000000000009},null,512.77500000000009,null,{"$f":"N_arvo*N_maara*kuljetuslaskuri!$E$87%*C164","v":59.400000000000006},{"$f":"P_arvo*P_maara*kuljetuslaskuri!$E$88%*C164","v":41.040000000000006},{"$f":"K_arvo*K_maara*kuljetuslaskuri!$E$89%*C164","v":79.2},179.64000000000001]
[null,{"$f":"kuljetuslaskuri!$D$31","v":2500},{"$f":"kuljetuslaskuri!$D$12","v":30},{"$f":"kuljetuslaskuri!$D$33","v":14},{"$f":"kuljetuslaskuri!$D$34","v":4000},12,2.1428571428571428,7.5,2,{"$f":"kuljetuslaskuri!$D$35","v":0},21.5,0.71666666666666667,null,1.3953488372093024,null,{"$f":"IF(kuljetuslaskuri!$H$17,kuljetuslaskuri!$D$17,0)","v":25},{"$f":"IF(kuljetuslaskuri!$H$18,kuljetuslaskuri!$D$18,0)","v":0},{"$f":"IF(kuljetuslaskuri!$G$19,kuljetuslaskuri!#REF!,0)","v":0},{"$f":"AVERAGE(IF(P165:R165<>0, P165:R165,\"\"))","v":25},{"$f":"S165*kuljetuslaskuri!$D$19%","v":23.75},38,{"$f":"kuljetuslaskuri!$D$24%","v":0},15.94,50,361.35508155583437,7.6923076923076925,7.5,{"$f":"kuljetuslaskuri!$D$25*(laskentapohja!C165/laskentapohja!T165)","v":2.5263157894736841},379.07370503761575,12.635790167920526,7.914028222301274E-2,null,379.07370503761575,7.914028222301274E-2,null,0.73724455971615754,-1.3162085549862896,null,null,null,null,null,null,null,null,null,null,{"$f":"IF(kuljetuslaskuri!$H$45,kuljetuslaskuri!$D$45,0)","v":20},{"$f":"IF(kuljetuslaskuri!$H$46,kuljetuslaskuri!$D$46,0)","v":0},{"$f":"IF(kuljetuslaskuri!$G$19,kuljetuslaskuri!#REF!,0)","v":0},{"$f":"AVERAGE(IF(AV165:AX165<>0, AV165:AX165,\"\"))","v":20},{"$f":"AY165*kuljetuslaskuri!$D$47%","v":19},38,{"$f":"kuljetuslaskuri!$D$52%","v":0},15.94,50,451.69385194479298,7.5,7.5,{"$f":"kuljetuslaskuri!$D$53*(laskentapohja!C165/laskentapohja!AZ165)","v":3.1578947368421053},469.85174668163506,12,481.85174668163506,16.061724889387836,6.2259813742713978E-2,null,221.12632793860919,480.16002638097996,701.28635431958912,null,0.39,444.6,null,{"$f":"kuljetuslaskuri!$D$74","v":71.100000000000009},null,515.70000000000005,null,{"$f":"N_arvo*N_maara*kuljetuslaskuri!$E$87%*C165","v":59.400000000000006},{"$f":"P_arvo*P_maara*kuljetuslaskuri!$E$88%*C165","v":41.040000000000006},{"$f":"K_arvo*K_maara*kuljetuslaskuri!$E$89%*C165","v":79.2},179.64000000000001]
[null,{"$f":"kuljetuslaskuri!$D$31","v":2500},{"$f":"kuljetuslaskuri!$D$12","v":30},{"$f":"kuljetuslaskuri!$D$33","v":14},{"$f":"kuljetuslaskuri!$D$34","v":4000},12,2.1428571428571428,7.5,2,{"$f":"kuljetuslaskuri!$D$35","v":0},21.5,0.71666666666666667,null,1.3953488372093024,null,{"$f":"IF(kuljetuslaskuri!$H$17,kuljetuslaskuri!$D$17,0)","v":25},{"$f":"IF(kuljetuslaskuri!$H$18,kuljetuslaskuri!$D$18,0)","v":0},{"$f":"IF(kuljetuslaskuri!$G$19,kuljetuslaskuri!#REF!,0)","v":0},{"$f":"AVERAGE(IF(P166:R166<>0, P166:R166,\"\"))","v":25},{"$f":"S166*kuljetuslaskuri!$D$19%","v":23.75},38.25,{"$f":"kuljetuslaskuri!$D$24%","v":0},15.94,50,363.73241761870167,7.6923076923076925,7.5,{"$f":"kuljetuslaskuri!$D$25*(laskentapohja!C166/laskentapohja!T166)","v":2.5263157894736841},381.45104110048305,12.715034703349435,7.864705235421629E-2,null,381.45104110048305,7.864705235421629E-2,null,0.73699794478175928,-1.3167017848550862,null,null,null,null,null,null,null,null,null,null,{"$f":"IF(kuljetuslaskuri!$H$45,kuljetuslaskuri!$D$45,0)","v":20},{"$f":"IF(kuljetuslaskuri!$H$46,kuljetuslaskuri!$D$46,0)","v":0},{"$f":"IF(kuljetuslaskuri!$G$19,kuljetuslaskuri!#REF!,0)","v":0},{"$f":"AVERAGE(IF(AV166:AX166<>0, AV166:AX166,\"\"))","v":20},{"$f":"AY166*kuljetuslaskuri!$D$47%","v":19},38.25,{"$f":"kuljetuslaskuri!$D$52%","v":0},15.94,50,454.66552202337715,7.5,7.5,{"$f":"kuljetuslaskuri!$D$53*(laskentapohja!C166/laskentapohja!AZ166)","v":3.1578947368421053},472.82341676021923,12,484.82341676021923,16.160780558673974,6.1878199284332844E-2,null,222.5131073086151,483.1713187272785,705.68442603589358,null,0.39,447.52500000000003,null,{"$f":"kuljetuslaskuri!$D$74","v":71.100000000000009},null,518.625,null,{"$f":"N_arvo*N_maara*kuljetuslaskuri!$E$87%*C166","v":59.400000000000006},{"$f":"P_arvo*P_maara*kuljetuslaskuri!$E$88%*C166","v":41.040000000000006},{"$f":"K_arvo*K_maara*kuljetuslaskuri!$E$89%*C166","v":79.2},179.64000000000001]
[null,{"$f":"kuljetuslaskuri!$D$31","v":2500},{"$f":"kuljetuslaskuri!$D$12","v":30},{"$f":"kuljetuslaskuri!$D$33","v":14},{"$f":"kuljetuslaskuri!$D$34","v":4000},12,2.1428571428571428,7.5,2,{"$f":"kuljetuslaskuri!$D$35","v":0},21.5,0.71666666666666667,null,1.3953488372093024,null,{"$f":"IF(kuljetuslaskuri!$H$17,kuljetuslaskuri!$D$17,0)","v":25},{"$f":"IF(kuljetuslaskuri!$H$18,kuljetuslaskuri!$D$18,0)","v":0},{"$f":"IF(kuljetuslaskuri!$G$19,kuljetuslaskuri!#REF!,0)","v":0},{"$f":"AVERAGE(IF(P167:R167<>0, P167:R167,\"\"))","v":25},{"$f":"S167*kuljetuslaskuri!$D$19%","v":23.75},38.5,{"$f":"kuljetuslaskuri!$D$24%","v":0},15.94,50,366.10975368156903,7.6923076923076925,7.5,{"$f":"kuljetuslaskuri!$D$25*(laskentapohja!C167/laskentapohja!T167)","v":2.5263157894736841},383.82837716335041,12.794279238778348,7.8159932367982632E-2,null,383.82837716335041,7.8159932367982632E-2,null,0.73675438478864252,-1.3171889048413197,null,null,null,null,null,null,null,null,null,null,{"$f":"IF(kuljetuslaskuri!$H$45,kuljetuslaskuri!$D$45,0)","v":20},{"$f":"IF(kuljetuslaskuri!$H$46,kuljetuslaskuri!$D$46,0)","v":0},{"$f":"IF(kuljetuslaskuri!$G$19,kuljetuslaskuri!#REF!,0)","v":0},{"$f":"AVERAGE(IF(AV167:AX167<>0, AV167:AX167,\"\"))","v":20},{"$f":"AY167*kuljetuslaskuri!$D$47%","v":19},38.5,{"$f":"kuljetuslaskuri!$D$52%","v":0},15.94,50,457.63719210196132,7.5,7.5,{"$f":"kuljetuslaskuri!$D$53*(laskentapohja!C167/laskentapohja!AZ167)","v":3.1578947368421053},475.7950868388034,12,487.7950868388034,16.259836227960115,6.1501234451575744E-2,null,223.89988667862107,486.18261107357722,710.08249775219826,null,0.39,450.45000000000005,null,{"$f":"kuljetuslaskuri!$D$74","v":71.100000000000009},null,521.55000000000007,null,{"$f":"N_arvo*N_maara*kuljetuslaskuri!$E$87%*C167","v":59.400000000000006},{"$f":"P_arvo*P_maara*kuljetuslaskuri!$E$88%*C167","v":41.040000000000006},{"$f":"K_arvo*K_maara*kuljetuslaskuri!$E$89%*C167","v":79.2},179.64000000000001]
[null,{"$f":"kuljetuslaskuri!$D$31","v":2500},{"$f":"kuljetuslaskuri!$D$12","v":30},{"$f":"kuljetuslaskuri!$D$33","v":14},{"$f":"kuljetuslaskuri!$D$34","v":4000},12,2.1428571428571428,7.5,2,{"$f":"kuljetuslaskuri!$D$35","v":0},21.5,0.71666666666666667,null,1.3953488372093024,null,{"$f":"IF(kuljetuslaskuri!$H$17,kuljetuslaskuri!$D$17,0)","v":25},{"$f":"IF(kuljetuslaskuri!$H$18,kuljetuslaskuri!$D$18,0)","v":0},{"$f":"IF(kuljetuslaskuri!$G$19,kuljetuslaskuri!#REF!,0)","v":0},{"$f":"AVERAGE(IF(P168:R168<>0, P168:R168,\"\"))","v":25},{"$f":"S168*kuljetuslaskuri!$D$19%","v":23.75},38.75,{"$f":"kuljetuslaskuri!$D$24%","v":0},15.94,50,368.48708974443633,7.6923076923076925,7.5,{"$f":"kuljetuslaskuri!$D$25*(laskentapohja!C168/laskentapohja!T168)","v":2.5263157894736841},386.20571322621771,12.873523774207257,7.7678809433944535E-2,null,386.20571322621771,7.7678809433944535E-2,null,0.73651382332162341,-1.3176700277753579,null,null,null,null,null,null,null,null,null,null,{"$f":"IF(kuljetuslaskuri!$H$45,kuljetuslaskuri!$D$45,0)","v":20},{"$f":"IF(kuljetuslaskuri!$H$46,kuljetuslaskuri!$D$46,0)","v":0},{"$f":"IF(kuljetuslaskuri!$G$19,kuljetuslaskuri!#REF!,0)","v":0},{"$f":"AVERAGE(IF(AV168:AX168<>0, AV168:AX168,\"\"))","v":20},{"$f":"AY168*kuljetuslaskuri!$D$47%","v":19},38.75,{"$f":"kuljetuslaskuri!$D$52%","v":0},15.94,50,460.60886218054549,7.5,7.5,{"$f":"kuljetuslaskuri!$D$53*(laskentapohja!C168/laskentapohja!AZ168)","v":3.1578947368421053},478.76675691738757,12,490.76675691738757,16.358891897246252,6.1128834781794324E-2,null,225.28666604862701,489.19390341987577,714.48056946850284,null,0.39,453.37500000000006,null,{"$f":"kuljetuslaskuri!$D$74","v":71.100000000000009},null,524.47500000000002,null,{"$f":"N_arvo*N_maara*kuljetuslaskuri!$E$87%*C168","v":59.400000000000006},{"$f":"P_arvo*P_maara*kuljetuslaskuri!$E$88%*C168","v":41.040000000000006},{"$f":"K_arvo*K_maara*kuljetuslaskuri!$E$89%*C168","v":79.2},179.64000000000001]
[null,{"$f":"kuljetuslaskuri!$D$31","v":2500},{"$f":"kuljetuslaskuri!$D$12","v":30},{"$f":"kuljetuslaskuri!$D$33","v":14},{"$f":"kuljetuslaskuri!$D$34","v":4000},12,2.1428571428571428,7.5,2,{"$f":"kuljetuslaskuri!$D$35","v":0},21.5,0.71666666666666667,null,1.3953488372093024,null,{"$f":"IF(kuljetuslaskuri!$H$17,kuljetuslaskuri!$D$17,0)","v":25},{"$f":"IF(kuljetuslaskuri!$H$18,kuljetuslaskuri!$D$18,0)","v":0},{"$f":"IF(kuljetuslaskuri!$G$19,kuljetuslaskuri!#REF!,0)","v":0},{"$f":"AVERAGE(IF(P169:R169<>0, P169:R169,\"\"))","v":25},{"$f":"S169*kuljetuslaskuri!$D$19%","v":23.75},39,{"$f":"kuljetuslaskuri!$D$24%","v":0},15.94,50,370.86442580730369,7.6923076923076925,7.5,{"$f":"kuljetuslaskuri!$D$25*(laskentapohja!C169/laskentapohja!T169)","v":2.5263157894736841},388.58304928908507,12.952768309636168,7.720357348290198E-2,null,388.58304928908507,7.720357348290198E-2,null,0.73627620534610216,-1.3181452637264004,null,null,null,null,null,null,null,null,null,null,{"$f":"IF(kuljetuslaskuri!$H$45,kuljetuslaskuri!$D$45,0)","v":20},{"$f":"IF(kuljetuslaskuri!$H$46,kuljetuslaskuri!$D$46,0)","v":0},{"$f":"IF(kuljetuslaskuri!$G$19,kuljetuslaskuri!#REF!,0)","v":0},{"$f":"AVERAGE(IF(AV169:AX169<>0, AV169:AX169,\"\"))","v":20},{"$f":"AY169*kuljetuslaskuri!$D$47%","v":19},39,{"$f":"kuljetuslaskuri!$D$52%","v":0},15.94,50,463.58053225912965,7.5,7.5,{"$f":"kuljetuslaskuri!$D$53*(laskentapohja!C169/laskentapohja!AZ169)","v":3.1578947368421053},481.73842699597174,12,493.73842699597174,16.45794756653239,6.0760917845766059E-2,null,226.67344541863295,492.20519576617437,718.87864118480729,null,0.39,456.30000000000007,null,{"$f":"kuljetuslaskuri!$D$74","v":71.100000000000009},null,527.40000000000009,null,{"$f":"N_arvo*N_maara*kuljetuslaskuri!$E$87%*C169","v":59.400000000000006},{"$f":"P_arvo*P_maara*kuljetuslaskuri!$E$88%*C169","v":41.040000000000006},{"$f":"K_arvo*K_maara*kuljetuslaskuri!$E$89%*C169","v":79.2},179.64000000000001]
[null,{"$f":"kuljetuslaskuri!$D$31","v":2500},{"$f":"kuljetuslaskuri!$D$12","v":30},{"$f":"kuljetuslaskuri!$D$33","v":14},{"$f":"kuljetuslaskuri!$D$34","v":4000},12,2.1428571428571428,7.5,2,{"$f":"kuljetuslaskuri!$D$35","v":0},21.5,0.71666666666666667,null,1.3953488372093024,null,{"$f":"IF(kuljetuslaskuri!$H$17,kuljetuslaskuri!$D$17,0)","v":25},{"$f":"IF(kuljetuslaskuri!$H$18,kuljetuslaskuri!$D$18,0)","v":0},{"$f":"IF(kuljetuslaskuri!$G$19,kuljetuslaskuri!#REF!,0)","v":0},{"$f":"AVERAGE(IF(P170:R170<>0, P170:R170,\"\"))","v":25},{"$f":"S170*kuljetuslaskuri!$D$19%","v":23.75},39.25,{"$f":"kuljetuslaskuri!$D$24%","v":0},15.94,50,373.24176187017099,7.6923076923076925,7.5,{"$f":"kuljetuslaskuri!$D$25*(laskentapohja!C170/laskentapohja!T170)","v":2.5263157894736841},390.96038535195237,13.032012845065079,7.67341171228723E-2,null,390.96038535195237,7.67341171228723E-2,null,0.73604147716608737,{"$f":"AH170-N170","v":-1.31861472008643},null,null,null,null,null,null,null,null,null,null,{"$f":"IF(kuljetuslaskuri!$H$45,kuljetuslaskuri!$D$45,0)","v":20},{"$f":"IF(kuljetuslaskuri!$H$46,kuljetuslaskuri!$D$46,0)","v":0},{"$f":"IF(kuljetuslaskuri!$G$19,kuljetuslaskuri!#REF!,0)","v":0},{"$f":"AVERAGE(IF(AV170:AX170<>0, AV170:AX170,\"\"))","v":20},{"$f":"AY170*kuljetuslaskuri!$D$47%","v":19},39.25,{"$f":"kuljetuslaskuri!$D$52%","v":0},15.94,50,466.55220233771382,7.5,7.5,{"$f":"kuljetuslaskuri!$D$53*(laskentapohja!C170/laskentapohja!AZ170)","v":3.1578947368421053},484.7100970745559,12,496.7100970745559,16.557003235818531,6.0397403186867399E-2,null,228.06022478863889,495.21648811247303,723.27671290111198,null,0.39,459.22500000000002,null,{"$f":"kuljetuslaskuri!$D$74","v":71.100000000000009},null,530.32500000000005,null,{"$f":"N_arvo*N_maara*kuljetuslaskuri!$E$87%*C170","v":59.400000000000006},{"$f":"P_arvo*P_maara*kuljetuslaskuri!$E$88%*C170","v":41.040000000000006},{"$f":"K_arvo*K_maara*kuljetuslaskuri!$E$89%*C170","v":79.2},179.64000000000001]
[null,{"$f":"kuljetuslaskuri!$D$31","v":2500},{"$f":"kuljetuslaskuri!$D$12","v":30},{"$f":"kuljetuslaskuri!$D$33","v":14},{"$f":"kuljetuslaskuri!$D$34","v":4000},12,2.1428571428571428,7.5,2,{"$f":"kuljetuslaskuri!$D$35","v":0},21.5,0.71666666666666667,null,1.3953488372093024,null,{"$f":"IF(kuljetuslaskuri!$H$17,kuljetuslaskuri!$D$17,0)","v":25},{"$f":"IF(kuljetuslaskuri!$H$18,kuljetuslaskuri!$D$18,0)","v":0},{"$f":"IF(kuljetuslaskuri!$G$19,kuljetuslaskuri!#REF!,0)","v":0},{"$f":"AVERAGE(IF(P171:R171<>0, P171:R171,\"\"))","v":25},{"$f":"S171*kuljetuslaskuri!$D$19%","v":23.75},39.5,{"$f":"kuljetuslaskuri!$D$24%","v":0},15.94,50,375.61909793303835,7.6923076923076925,7.5,{"$f":"kuljetuslaskuri!$D$25*(laskentapohja!C171/laskentapohja!T171)","v":2.5263157894736841},393.33772141481973,13.11125738049399,7.6270335558184521E-2,null,393.33772141481973,7.6270335558184521E-2,null,0.7358095863837435,-1.3190785016511177,null,null,null,null,null,null,null,null,null,null,{"$f":"IF(kuljetuslaskuri!$H$45,kuljetuslaskuri!$D$45,0)","v":20},{"$f":"IF(kuljetuslaskuri!$H$46,kuljetuslaskuri!$D$46,0)","v":0},{"$f":"IF(kuljetuslaskuri!$G$19,kuljetuslaskuri!#REF!,0)","v":0},{"$f":"AVERAGE(IF(AV171:AX171<>0, AV171:AX171,\"\"))","v":20},{"$f":"AY171*kuljetuslaskuri!$D$47%","v":19},39.5,{"$f":"kuljetuslaskuri!$D$52%","v":0},15.94,50,469.52387241629793,7.5,7.5,{"$f":"kuljetuslaskuri!$D$53*(laskentapohja!C171/laskentapohja!AZ171)","v":3.1578947368421053},487.68176715314002,12,499.68176715314002,16.656058905104668,6.0038212262417304E-2,null,229.44700415864483,498.22778045877163,727.67478461741644,null,0.39,462.15000000000003,null,{"$f":"kuljetuslaskuri!$D$74","v":71.100000000000009},null,533.25,null,{"$f":"N_arvo*N_maara*kuljetuslaskuri!$E$87%*C171","v":59.400000000000006},{"$f":"P_arvo*P_maara*kuljetuslaskuri!$E$88%*C171","v":41.040000000000006},{"$f":"K_arvo*K_maara*kuljetuslaskuri!$E$89%*C171","v":79.2},179.64000000000001]
[null,{"$f":"kuljetuslaskuri!$D$31","v":2500},{"$f":"kuljetuslaskuri!$D$12","v":30},{"$f":"kuljetuslaskuri!$D$33","v":14},{"$f":"kuljetuslaskuri!$D$34","v":4000},12,2.1428571428571428,7.5,2,{"$f":"kuljetuslaskuri!$D$35","v":0},21.5,0.71666666666666667,null,1.3953488372093024,null,{"$f":"IF(kuljetuslaskuri!$H$17,kuljetuslaskuri!$D$17,0)","v":25},{"$f":"IF(kuljetuslaskuri!$H$18,kuljetuslaskuri!$D$18,0)","v":0},{"$f":"IF(kuljetuslaskuri!$G$19,kuljetuslaskuri!#REF!,0)","v":0},{"$f":"AVERAGE(IF(P172:R172<>0, P172:R172,\"\"))","v":25},{"$f":"S172*kuljetuslaskuri!$D$19%","v":23.75},39.75,{"$f":"kuljetuslaskuri!$D$24%","v":0},15.94,50,377.99643399590565,7.6923076923076925,7.5,{"$f":"kuljetuslaskuri!$D$25*(laskentapohja!C172/laskentapohja!T172)","v":2.5263157894736841},395.71505747768703,13.190501915922901,7.5812126511490135E-2,null,395.71505747768703,7.5812126511490135E-2,null,0.73558048186039626,-1.3195367106978122,null,null,null,null,null,null,null,null,null,null,{"$f":"IF(kuljetuslaskuri!$H$45,kuljetuslaskuri!$D$45,0)","v":20},{"$f":"IF(kuljetuslaskuri!$H$46,kuljetuslaskuri!$D$46,0)","v":0},{"$f":"IF(kuljetuslaskuri!$G$19,kuljetuslaskuri!#REF!,0)","v":0},{"$f":"AVERAGE(IF(AV172:AX172<>0, AV172:AX172,\"\"))","v":20},{"$f":"AY172*kuljetuslaskuri!$D$47%","v":19},39.75,{"$f":"kuljetuslaskuri!$D$52%","v":0},15.94,50,472.4955424948821,7.5,7.5,{"$f":"kuljetuslaskuri!$D$53*(laskentapohja!C172/laskentapohja!AZ172)","v":3.1578947368421053},490.65343723172418,12,502.65343723172418,16.755114574390806,5.9683268387101356E-2,null,230.83378352865077,501.23907280507024,732.07285633372101,null,0.39,465.07500000000005,null,{"$f":"kuljetuslaskuri!$D$74","v":71.100000000000009},null,536.17500000000007,null,{"$f":"N_arvo*N_maara*kuljetuslaskuri!$E$87%*C172","v":59.400000000000006},{"$f":"P_arvo*P_maara*kuljetuslaskuri!$E$88%*C172","v":41.040000000000006},{"$f":"K_arvo*K_maara*kuljetuslaskuri!$E$89%*C172","v":79.2},179.64000000000001]
[null,{"$f":"kuljetuslaskuri!$D$31","v":2500},{"$f":"kuljetuslaskuri!$D$12","v":30},{"$f":"kuljetuslaskuri!$D$33","v":14},{"$f":"kuljetuslaskuri!$D$34","v":4000},12,2.1428571428571428,7.5,2,{"$f":"kuljetuslaskuri!$D$35","v":0},21.5,0.71666666666666667,null,1.3953488372093024,null,{"$f":"IF(kuljetuslaskuri!$H$17,kuljetuslaskuri!$D$17,0)","v":25},{"$f":"IF(kuljetuslaskuri!$H$18,kuljetuslaskuri!$D$18,0)","v":0},{"$f":"IF(kuljetuslaskuri!$G$19,kuljetuslaskuri!#REF!,0)","v":0},{"$f":"AVERAGE(IF(P173:R173<>0, P173:R173,\"\"))","v":25},{"$f":"S173*kuljetuslaskuri!$D$19%","v":23.75},40,{"$f":"kuljetuslaskuri!$D$24%","v":0},15.94,50,380.373770058773,7.6923076923076925,7.5,{"$f":"kuljetuslaskuri!$D$25*(laskentapohja!C173/laskentapohja!T173)","v":2.5263157894736841},398.09239354055438,13.269746451351812,7.5359390148568225E-2,null,398.09239354055438,7.5359390148568225E-2,null,0.73535411367893533,-1.3199894470607341,null,null,null,null,null,null,null,null,null,null,{"$f":"IF(kuljetuslaskuri!$H$45,kuljetuslaskuri!$D$45,0)","v":20},{"$f":"IF(kuljetuslaskuri!$H$46,kuljetuslaskuri!$D$46,0)","v":0},{"$f":"IF(kuljetuslaskuri!$G$19,kuljetuslaskuri!#REF!,0)","v":0},{"$f":"AVERAGE(IF(AV173:AX173<>0, AV173:AX173,\"\"))","v":20},{"$f":"AY173*kuljetuslaskuri!$D$47%","v":19},40,{"$f":"kuljetuslaskuri!$D$52%","v":0},15.94,50,475.46721257346627,7.5,7.5,{"$f":"kuljetuslaskuri!$D$53*(laskentapohja!C173/laskentapohja!AZ173)","v":3.1578947368421053},493.62510731030835,12,505.62510731030835,16.854170243676943,5.9332496678391078E-2,null,232.22056289865671,504.2503651513689,736.47092805002558,null,0.39,468.00000000000006,null,{"$f":"kuljetuslaskuri!$D$74","v":71.100000000000009},null,539.1,null,{"$f":"N_arvo*N_maara*kuljetuslaskuri!$E$87%*C173","v":59.400000000000006},{"$f":"P_arvo*P_maara*kuljetuslaskuri!$E$88%*C173","v":41.040000000000006},{"$f":"K_arvo*K_maara*kuljetuslaskuri!$E$89%*C173","v":79.2},179.64000000000001]
[null,{"$f":"kuljetuslaskuri!$D$31","v":2500},{"$f":"kuljetuslaskuri!$D$12","v":30},{"$f":"kuljetuslaskuri!$D$33","v":14},{"$f":"kuljetuslaskuri!$D$34","v":4000},12,2.1428571428571428,7.5,2,{"$f":"kuljetuslaskuri!$D$35","v":0},21.5,0.71666666666666667,null,1.3953488372093024,null,{"$f":"IF(kuljetuslaskuri!$H$17,kuljetuslaskuri!$D$17,0)","v":25},{"$f":"IF(kuljetuslaskuri!$H$18,kuljetuslaskuri!$D$18,0)","v":0},{"$f":"IF(kuljetuslaskuri!$G$19,kuljetuslaskuri!#REF!,0)","v":0},{"$f":"AVERAGE(IF(P174:R174<>0, P174:R174,\"\"))","v":25},{"$f":"S174*kuljetuslaskuri!$D$19%","v":23.75},40.25,{"$f":"kuljetuslaskuri!$D$24%","v":0},15.94,50,382.7511061216403,7.6923076923076925,7.5,{"$f":"kuljetuslaskuri!$D$25*(laskentapohja!C174/laskentapohja!T174)","v":2.5263157894736841},400.46972960342168,13.348990986780723,7.4912029005808969E-2,null,400.46972960342168,7.4912029005808969E-2,null,0.73513043310755566,-1.3204368082034934,null,null,null,null,null,null,null,null,null,null,{"$f":"IF(kuljetuslaskuri!$H$45,kuljetuslaskuri!$D$45,0)","v":20},{"$f":"IF(kuljetuslaskuri!$H$46,kuljetuslaskuri!$D$46,0)","v":0},{"$f":"IF(kuljetuslaskuri!$G$19,kuljetuslaskuri!#REF!,0)","v":0},{"$f":"AVERAGE(IF(AV174:AX174<>0, AV174:AX174,\"\"))","v":20},{"$f":"AY174*kuljetuslaskuri!$D$47%","v":19},40.25,{"$f":"kuljetuslaskuri!$D$52%","v":0},15.94,50,478.43888265205044,7.5,7.5,{"$f":"kuljetuslaskuri!$D$53*(laskentapohja!C174/laskentapohja!AZ174)","v":3.1578947368421053},496.59677738889252,12,508.59677738889252,16.953225912963084,5.8985824003876558E-2,null,233.60734226866265,507.2616574976675,740.86899976633015,null,0.39,470.92500000000007,null,{"$f":"kuljetuslaskuri!$D$74","v":71.100000000000009},null,542.02500000000009,null,{"$f":"N_arvo*N_maara*kuljetuslaskuri!$E$87%*C174","v":59.400000000000006},{"$f":"P_arvo*P_maara*kuljetuslaskuri!$E$88%*C174","v":41.040000000000006},{"$f":"K_arvo*K_maara*kuljetuslaskuri!$E$89%*C174","v":79.2},179.64000000000001]
[null,{"$f":"kuljetuslaskuri!$D$31","v":2500},{"$f":"kuljetuslaskuri!$D$12","v":30},{"$f":"kuljetuslaskuri!$D$33","v":14},{"$f":"kuljetuslaskuri!$D$34","v":4000},12,2.1428571428571428,7.5,2,{"$f":"kuljetuslaskuri!$D$35","v":0},21.5,0.71666666666666667,null,1.3953488372093024,null,{"$f":"IF(kuljetuslaskuri!$H$17,kuljetuslaskuri!$D$17,0)","v":25},{"$f":"IF(kuljetuslaskuri!$H$18,kuljetuslaskuri!$D$18,0)","v":0},{"$f":"IF(kuljetuslaskuri!$G$19,kuljetuslaskuri!#REF!,0)","v":0},{"$f":"AVERAGE(IF(P175:R175<>0, P175:R175,\"\"))","v":25},{"$f":"S175*kuljetuslaskuri!$D$19%","v":23.75},40.5,{"$f":"kuljetuslaskuri!$D$24%","v":0},15.94,50,385.12844218450772,7.6923076923076925,7.5,{"$f":"kuljetuslaskuri!$D$25*(laskentapohja!C175/laskentapohja!T175)","v":2.5263157894736841},402.8470656662891,13.428235522209636,7.4469947920264692E-2,null,402.8470656662891,7.4469947920264692E-2,null,0.73490939256478349,-1.3208788892890377,null,null,null,null,null,null,null,null,null,null,{"$f":"IF(kuljetuslaskuri!$H$45,kuljetuslaskuri!$D$45,0)","v":20},{"$f":"IF(kuljetuslaskuri!$H$46,kuljetuslaskuri!$D$46,0)","v":0},{"$f":"IF(kuljetuslaskuri!$G$19,kuljetuslaskuri!#REF!,0)","v":0},{"$f":"AVERAGE(IF(AV175:AX175<>0, AV175:AX175,\"\"))","v":20},{"$f":"AY175*kuljetuslaskuri!$D$47%","v":19},40.5,{"$f":"kuljetuslaskuri!$D$52%","v":0},15.94,50,481.41055273063466,7.5,7.5,{"$f":"kuljetuslaskuri!$D$53*(laskentapohja!C175/laskentapohja!AZ175)","v":3.1578947368421053},499.56844746747674,12,511.56844746747674,17.052281582249226,5.8643178930434851E-2,null,234.99412163866864,510.27294984396616,745.26707148263483,null,0.39,473.85,null,{"$f":"kuljetuslaskuri!$D$74","v":71.100000000000009},null,544.95000000000005,null,{"$f":"N_arvo*N_maara*kuljetuslaskuri!$E$87%*C175","v":59.400000000000006},{"$f":"P_arvo*P_maara*kuljetuslaskuri!$E$88%*C175","v":41.040000000000006},{"$f":"K_arvo*K_maara*kuljetuslaskuri!$E$89%*C175","v":79.2},179.64000000000001]
[null,{"$f":"kuljetuslaskuri!$D$31","v":2500},{"$f":"kuljetuslaskuri!$D$12","v":30},{"$f":"kuljetuslaskuri!$D$33","v":14},{"$f":"kuljetuslaskuri!$D$34","v":4000},12,2.1428571428571428,7.5,2,{"$f":"kuljetuslaskuri!$D$35","v":0},21.5,0.71666666666666667,null,1.3953488372093024,null,{"$f":"IF(kuljetuslaskuri!$H$17,kuljetuslaskuri!$D$17,0)","v":25},{"$f":"IF(kuljetuslaskuri!$H$18,kuljetuslaskuri!$D$18,0)","v":0},{"$f":"IF(kuljetuslaskuri!$G$19,kuljetuslaskuri!#REF!,0)","v":0},{"$f":"AVERAGE(IF(P176:R176<>0, P176:R176,\"\"))","v":25},{"$f":"S176*kuljetuslaskuri!$D$19%","v":23.75},40.75,{"$f":"kuljetuslaskuri!$D$24%","v":0},15.94,50,387.50577824737502,7.6923076923076925,7.5,{"$f":"kuljetuslaskuri!$D$25*(laskentapohja!C176/laskentapohja!T176)","v":2.5263157894736841},405.2244017291564,13.507480057638547,7.4033053962163364E-2,null,405.2244017291564,7.4033053962163364E-2,null,0.73469094558573289,-1.3213157832471389,null,null,null,null,null,null,null,null,null,null,{"$f":"IF(kuljetuslaskuri!$H$45,kuljetuslaskuri!$D$45,0)","v":20},{"$f":"IF(kuljetuslaskuri!$H$46,kuljetuslaskuri!$D$46,0)","v":0},{"$f":"IF(kuljetuslaskuri!$G$19,kuljetuslaskuri!#REF!,0)","v":0},{"$f":"AVERAGE(IF(AV176:AX176<>0, AV176:AX176,\"\"))","v":20},{"$f":"AY176*kuljetuslaskuri!$D$47%","v":19},40.75,{"$f":"kuljetuslaskuri!$D$52%","v":0},15.94,50,484.38222280921883,7.5,7.5,{"$f":"kuljetuslaskuri!$D$53*(laskentapohja!C176/laskentapohja!AZ176)","v":3.1578947368421053},502.54011754606091,12,514.54011754606086,17.151337251535363,5.8304491675159699E-2,null,236.38090100867458,513.28424219026476,749.6651431989394,null,0.39,476.77500000000003,null,{"$f":"kuljetuslaskuri!$D$74","v":71.100000000000009},null,547.875,null,{"$f":"N_arvo*N_maara*kuljetuslaskuri!$E$87%*C176","v":59.400000000000006},{"$f":"P_arvo*P_maara*kuljetuslaskuri!$E$88%*C176","v":41.040000000000006},{"$f":"K_arvo*K_maara*kuljetuslaskuri!$E$89%*C176","v":79.2},179.64000000000001]
[null,{"$f":"kuljetuslaskuri!$D$31","v":2500},{"$f":"kuljetuslaskuri!$D$12","v":30},{"$f":"kuljetuslaskuri!$D$33","v":14},{"$f":"kuljetuslaskuri!$D$34","v":4000},12,2.1428571428571428,7.5,2,{"$f":"kuljetuslaskuri!$D$35","v":0},21.5,0.71666666666666667,null,1.3953488372093024,null,{"$f":"IF(kuljetuslaskuri!$H$17,kuljetuslaskuri!$D$17,0)","v":25},{"$f":"IF(kuljetuslaskuri!$H$18,kuljetuslaskuri!$D$18,0)","v":0},{"$f":"IF(kuljetuslaskuri!$G$19,kuljetuslaskuri!#REF!,0)","v":0},{"$f":"AVERAGE(IF(P177:R177<>0, P177:R177,\"\"))","v":25},{"$f":"S177*kuljetuslaskuri!$D$19%","v":23.75},41,{"$f":"kuljetuslaskuri!$D$24%","v":0},15.94,50,389.88311431024238,7.6923076923076925,7.5,{"$f":"kuljetuslaskuri!$D$25*(laskentapohja!C177/laskentapohja!T177)","v":2.5263157894736841},407.60173779202375,13.586724593067458,7.3601256369783472E-2,null,407.60173779202375,7.3601256369783472E-2,null,0.7344750467895429,-1.3217475808395189,null,null,null,null,null,null,null,null,null,null,{"$f":"IF(kuljetuslaskuri!$H$45,kuljetuslaskuri!$D$45,0)","v":20},{"$f":"IF(kuljetuslaskuri!$H$46,kuljetuslaskuri!$D$46,0)","v":0},{"$f":"IF(kuljetuslaskuri!$G$19,kuljetuslaskuri!#REF!,0)","v":0},{"$f":"AVERAGE(IF(AV177:AX177<>0, AV177:AX177,\"\"))","v":20},{"$f":"AY177*kuljetuslaskuri!$D$47%","v":19},41,{"$f":"kuljetuslaskuri!$D$52%","v":0},15.94,50,487.353892887803,7.5,7.5,{"$f":"kuljetuslaskuri!$D$53*(laskentapohja!C177/laskentapohja!AZ177)","v":3.1578947368421053},505.51178762464508,12,517.51178762464508,17.250392920821504,5.7969694057981934E-2,null,237.76768037868052,516.29553453656342,754.06321491524398,null,0.39,479.70000000000005,null,{"$f":"kuljetuslaskuri!$D$74","v":71.100000000000009},null,550.80000000000007,null,{"$f":"N_arvo*N_maara*kuljetuslaskuri!$E$87%*C177","v":59.400000000000006},{"$f":"P_arvo*P_maara*kuljetuslaskuri!$E$88%*C177","v":41.040000000000006},{"$f":"K_arvo*K_maara*kuljetuslaskuri!$E$89%*C177","v":79.2},179.64000000000001]
[null,{"$f":"kuljetuslaskuri!$D$31","v":2500},{"$f":"kuljetuslaskuri!$D$12","v":30},{"$f":"kuljetuslaskuri!$D$33","v":14},{"$f":"kuljetuslaskuri!$D$34","v":4000},12,2.1428571428571428,7.5,2,{"$f":"kuljetuslaskuri!$D$35","v":0},21.5,0.71666666666666667,null,1.3953488372093024,null,{"$f":"IF(kuljetuslaskuri!$H$17,kuljetuslaskuri!$D$17,0)","v":25},{"$f":"IF(kuljetuslaskuri!$H$18,kuljetuslaskuri!$D$18,0)","v":0},{"$f":"IF(kuljetuslaskuri!$G$19,kuljetuslaskuri!#REF!,0)","v":0},{"$f":"AVERAGE(IF(P178:R178<>0, P178:R178,\"\"))","v":25},{"$f":"S178*kuljetuslaskuri!$D$19%","v":23.75},41.25,{"$f":"kuljetuslaskuri!$D$24%","v":0},15.94,50,392.26045037310968,7.6923076923076925,7.5,{"$f":"kuljetuslaskuri!$D$25*(laskentapohja!C178/laskentapohja!T178)","v":2.5263157894736841},409.97907385489106,13.665969128496368,7.3174466486595049E-2,null,409.97907385489106,7.3174466486595049E-2,null,0.73426165184794867,-1.3221743707227074,null,null,null,null,null,null,null,null,null,null,{"$f":"IF(kuljetuslaskuri!$H$45,kuljetuslaskuri!$D$45,0)","v":20},{"$f":"IF(kuljetuslaskuri!$H$46,kuljetuslaskuri!$D$46,0)","v":0},{"$f":"IF(kuljetuslaskuri!$G$19,kuljetuslaskuri!#REF!,0)","v":0},{"$f":"AVERAGE(IF(AV178:AX178<>0, AV178:AX178,\"\"))","v":20},{"$f":"AY178*kuljetuslaskuri!$D$47%","v":19},41.25,{"$f":"kuljetuslaskuri!$D$52%","v":0},15.94,50,490.32556296638717,7.5,7.5,{"$f":"kuljetuslaskuri!$D$53*(laskentapohja!C178/laskentapohja!AZ178)","v":3.1578947368421053},508.48345770322925,12,520.48345770322931,17.349448590107645,5.7638719455913007E-2,null,239.15445974868643,519.30682688286197,758.46128663154843,null,0.39,482.62500000000006,null,{"$f":"kuljetuslaskuri!$D$74","v":71.100000000000009},null,553.72500000000002,null,{"$f":"N_arvo*N_maara*kuljetuslaskuri!$E$87%*C178","v":59.400000000000006},{"$f":"P_arvo*P_maara*kuljetuslaskuri!$E$88%*C178","v":41.040000000000006},{"$f":"K_arvo*K_maara*kuljetuslaskuri!$E$89%*C178","v":79.2},179.64000000000001]
[null,{"$f":"kuljetuslaskuri!$D$31","v":2500},{"$f":"kuljetuslaskuri!$D$12","v":30},{"$f":"kuljetuslaskuri!$D$33","v":14},{"$f":"kuljetuslaskuri!$D$34","v":4000},12,2.1428571428571428,7.5,2,{"$f":"kuljetuslaskuri!$D$35","v":0},21.5,0.71666666666666667,null,1.3953488372093024,null,{"$f":"IF(kuljetuslaskuri!$H$17,kuljetuslaskuri!$D$17,0)","v":25},{"$f":"IF(kuljetuslaskuri!$H$18,kuljetuslaskuri!$D$18,0)","v":0},{"$f":"IF(kuljetuslaskuri!$G$19,kuljetuslaskuri!#REF!,0)","v":0},{"$f":"AVERAGE(IF(P179:R179<>0, P179:R179,\"\"))","v":25},{"$f":"S179*kuljetuslaskuri!$D$19%","v":23.75},41.5,{"$f":"kuljetuslaskuri!$D$24%","v":0},15.94,50,394.63778643597703,7.6923076923076925,7.5,{"$f":"kuljetuslaskuri!$D$25*(laskentapohja!C179/laskentapohja!T179)","v":2.5263157894736841},412.35640991775841,13.745213663925281,7.2752597700574823E-2,null,412.35640991775841,7.2752597700574823E-2,null,0.73405071745493855,-1.3225962395087276,null,null,null,null,null,null,null,null,null,null,{"$f":"IF(kuljetuslaskuri!$H$45,kuljetuslaskuri!$D$45,0)","v":20},{"$f":"IF(kuljetuslaskuri!$H$46,kuljetuslaskuri!$D$46,0)","v":0},{"$f":"IF(kuljetuslaskuri!$G$19,kuljetuslaskuri!#REF!,0)","v":0},{"$f":"AVERAGE(IF(AV179:AX179<>0, AV179:AX179,\"\"))","v":20},{"$f":"AY179*kuljetuslaskuri!$D$47%","v":19},41.5,{"$f":"kuljetuslaskuri!$D$52%","v":0},15.94,50,493.29723304497134,7.5,7.5,{"$f":"kuljetuslaskuri!$D$53*(laskentapohja!C179/laskentapohja!AZ179)","v":3.1578947368421053},511.45512778181342,12,523.45512778181342,17.448504259393779,5.7311502758846986E-2,null,240.5412391186924,522.31811922916063,762.859358347853,null,0.39,485.55000000000007,null,{"$f":"kuljetuslaskuri!$D$74","v":71.100000000000009},null,556.65000000000009,null,{"$f":"N_arvo*N_maara*kuljetuslaskuri!$E$87%*C179","v":59.400000000000006},{"$f":"P_arvo*P_maara*kuljetuslaskuri!$E$88%*C179","v":41.040000000000006},{"$f":"K_arvo*K_maara*kuljetuslaskuri!$E$89%*C179","v":79.2},179.64000000000001]
[null,{"$f":"kuljetuslaskuri!$D$31","v":2500},{"$f":"kuljetuslaskuri!$D$12","v":30},{"$f":"kuljetuslaskuri!$D$33","v":14},{"$f":"kuljetuslaskuri!$D$34","v":4000},12,2.1428571428571428,7.5,2,{"$f":"kuljetuslaskuri!$D$35","v":0},21.5,0.71666666666666667,null,1.3953488372093024,null,{"$f":"IF(kuljetuslaskuri!$H$17,kuljetuslaskuri!$D$17,0)","v":25},{"$f":"IF(kuljetuslaskuri!$H$18,kuljetuslaskuri!$D$18,0)","v":0},{"$f":"IF(kuljetuslaskuri!$G$19,kuljetuslaskuri!#REF!,0)","v":0},{"$f":"AVERAGE(IF(P180:R180<>0, P180:R180,\"\"))","v":25},{"$f":"S180*kuljetuslaskuri!$D$19%","v":23.75},41.75,{"$f":"kuljetuslaskuri!$D$24%","v":0},15.94,50,397.01512249884433,7.6923076923076925,7.5,{"$f":"kuljetuslaskuri!$D$25*(laskentapohja!C180/laskentapohja!T180)","v":2.5263157894736841},414.73374598062571,13.82445819935419,7.2335565385608744E-2,null,414.73374598062571,7.2335565385608744E-2,null,0.73384220129745559,-1.3230132718236935,null,null,null,null,null,null,null,null,null,null,{"$f":"IF(kuljetuslaskuri!$H$45,kuljetuslaskuri!$D$45,0)","v":20},{"$f":"IF(kuljetuslaskuri!$H$46,kuljetuslaskuri!$D$46,0)","v":0},{"$f":"IF(kuljetuslaskuri!$G$19,kuljetuslaskuri!#REF!,0)","v":0},{"$f":"AVERAGE(IF(AV180:AX180<>0, AV180:AX180,\"\"))","v":20},{"$f":"AY180*kuljetuslaskuri!$D$47%","v":19},41.75,{"$f":"kuljetuslaskuri!$D$52%","v":0},15.94,50,496.2689031235555,7.5,7.5,{"$f":"kuljetuslaskuri!$D$53*(laskentapohja!C180/laskentapohja!AZ180)","v":3.1578947368421053},514.42679786039764,12,526.42679786039764,17.54755992867992,5.6987980326859533E-2,null,241.92801848869831,525.32941157545918,767.25743006415746,null,0.39,488.47500000000002,null,{"$f":"kuljetuslaskuri!$D$74","v":71.100000000000009},null,559.57500000000005,null,{"$f":"N_arvo*N_maara*kuljetuslaskuri!$E$87%*C180","v":59.400000000000006},{"$f":"P_arvo*P_maara*kuljetuslaskuri!$E$88%*C180","v":41.040000000000006},{"$f":"K_arvo*K_maara*kuljetuslaskuri!$E$89%*C180","v":79.2},179.64000000000001]
[null,{"$f":"kuljetuslaskuri!$D$31","v":2500},{"$f":"kuljetuslaskuri!$D$12","v":30},{"$f":"kuljetuslaskuri!$D$33","v":14},{"$f":"kuljetuslaskuri!$D$34","v":4000},12,2.1428571428571428,7.5,2,{"$f":"kuljetuslaskuri!$D$35","v":0},21.5,0.71666666666666667,null,1.3953488372093024,null,{"$f":"IF(kuljetuslaskuri!$H$17,kuljetuslaskuri!$D$17,0)","v":25},{"$f":"IF(kuljetuslaskuri!$H$18,kuljetuslaskuri!$D$18,0)","v":0},{"$f":"IF(kuljetuslaskuri!$G$19,kuljetuslaskuri!#REF!,0)","v":0},{"$f":"AVERAGE(IF(P181:R181<>0, P181:R181,\"\"))","v":25},{"$f":"S181*kuljetuslaskuri!$D$19%","v":23.75},42,{"$f":"kuljetuslaskuri!$D$24%","v":0},15.94,50,399.39245856171169,7.6923076923076925,7.5,{"$f":"kuljetuslaskuri!$D$25*(laskentapohja!C181/laskentapohja!T181)","v":2.5263157894736841},417.11108204349307,13.903702734783103,7.1923286844898154E-2,null,417.11108204349307,7.1923286844898154E-2,null,0.7336360620271003,-1.3234255503644041,null,null,null,null,null,null,null,null,null,null,{"$f":"IF(kuljetuslaskuri!$H$45,kuljetuslaskuri!$D$45,0)","v":20},{"$f":"IF(kuljetuslaskuri!$H$46,kuljetuslaskuri!$D$46,0)","v":0},{"$f":"IF(kuljetuslaskuri!$G$19,kuljetuslaskuri!#REF!,0)","v":0},{"$f":"AVERAGE(IF(AV181:AX181<>0, AV181:AX181,\"\"))","v":20},{"$f":"AY181*kuljetuslaskuri!$D$47%","v":19},42,{"$f":"kuljetuslaskuri!$D$52%","v":0},15.94,50,499.24057320213961,7.5,7.5,{"$f":"kuljetuslaskuri!$D$53*(laskentapohja!C181/laskentapohja!AZ181)","v":3.1578947368421053},517.39846793898164,12,529.39846793898164,17.646615597966054,5.6668089948945212E-2,null,243.31479785870431,528.34070392175795,771.65550178046226,null,0.39,491.40000000000003,null,{"$f":"kuljetuslaskuri!$D$74","v":71.100000000000009},null,562.5,null,{"$f":"N_arvo*N_maara*kuljetuslaskuri!$E$87%*C181","v":59.400000000000006},{"$f":"P_arvo*P_maara*kuljetuslaskuri!$E$88%*C181","v":41.040000000000006},{"$f":"K_arvo*K_maara*kuljetuslaskuri!$E$89%*C181","v":79.2},179.64000000000001]
[null,{"$f":"kuljetuslaskuri!$D$31","v":2500},{"$f":"kuljetuslaskuri!$D$12","v":30},{"$f":"kuljetuslaskuri!$D$33","v":14},{"$f":"kuljetuslaskuri!$D$34","v":4000},12,2.1428571428571428,7.5,2,{"$f":"kuljetuslaskuri!$D$35","v":0},21.5,0.71666666666666667,null,1.3953488372093024,null,{"$f":"IF(kuljetuslaskuri!$H$17,kuljetuslaskuri!$D$17,0)","v":25},{"$f":"IF(kuljetuslaskuri!$H$18,kuljetuslaskuri!$D$18,0)","v":0},{"$f":"IF(kuljetuslaskuri!$G$19,kuljetuslaskuri!#REF!,0)","v":0},{"$f":"AVERAGE(IF(P182:R182<>0, P182:R182,\"\"))","v":25},{"$f":"S182*kuljetuslaskuri!$D$19%","v":23.75},42.25,{"$f":"kuljetuslaskuri!$D$24%","v":0},15.94,50,401.76979462457899,7.6923076923076925,7.5,{"$f":"kuljetuslaskuri!$D$25*(laskentapohja!C182/laskentapohja!T182)","v":2.5263157894736841},419.48841810636037,13.982947270212012,7.1515681256290528E-2,null,419.48841810636037,7.1515681256290528E-2,null,0.73343225923279642,-1.3238331559530119,null,null,null,null,null,null,null,null,null,null,{"$f":"IF(kuljetuslaskuri!$H$45,kuljetuslaskuri!$D$45,0)","v":20},{"$f":"IF(kuljetuslaskuri!$H$46,kuljetuslaskuri!$D$46,0)","v":0},{"$f":"IF(kuljetuslaskuri!$G$19,kuljetuslaskuri!#REF!,0)","v":0},{"$f":"AVERAGE(IF(AV182:AX182<>0, AV182:AX182,\"\"))","v":20},{"$f":"AY182*kuljetuslaskuri!$D$47%","v":19},42.25,{"$f":"kuljetuslaskuri!$D$52%","v":0},15.94,50,502.21224328072378,7.5,7.5,{"$f":"kuljetuslaskuri!$D$53*(laskentapohja!C182/laskentapohja!AZ182)","v":3.1578947368421053},520.37013801756586,12,532.37013801756586,17.745671267252195,5.6351770803136469E-2,null,244.70157722871022,531.3519962680565,776.05357349676672,null,0.39,494.32500000000005,null,{"$f":"kuljetuslaskuri!$D$74","v":71.100000000000009},null,565.42500000000007,null,{"$f":"N_arvo*N_maara*kuljetuslaskuri!$E$87%*C182","v":59.400000000000006},{"$f":"P_arvo*P_maara*kuljetuslaskuri!$E$88%*C182","v":41.040000000000006},{"$f":"K_arvo*K_maara*kuljetuslaskuri!$E$89%*C182","v":79.2},179.64000000000001]
[null,{"$f":"kuljetuslaskuri!$D$31","v":2500},{"$f":"kuljetuslaskuri!$D$12","v":30},{"$f":"kuljetuslaskuri!$D$33","v":14},{"$f":"kuljetuslaskuri!$D$34","v":4000},12,2.1428571428571428,7.5,2,{"$f":"kuljetuslaskuri!$D$35","v":0},21.5,0.71666666666666667,null,1.3953488372093024,null,{"$f":"IF(kuljetuslaskuri!$H$17,kuljetuslaskuri!$D$17,0)","v":25},{"$f":"IF(kuljetuslaskuri!$H$18,kuljetuslaskuri!$D$18,0)","v":0},{"$f":"IF(kuljetuslaskuri!$G$19,kuljetuslaskuri!#REF!,0)","v":0},{"$f":"AVERAGE(IF(P183:R183<>0, P183:R183,\"\"))","v":25},{"$f":"S183*kuljetuslaskuri!$D$19%","v":23.75},42.5,{"$f":"kuljetuslaskuri!$D$24%","v":0},15.94,50,404.14713068744635,7.6923076923076925,7.5,{"$f":"kuljetuslaskuri!$D$25*(laskentapohja!C183/laskentapohja!T183)","v":2.5263157894736841},421.86575416922773,14.062191805640925,7.1112669619458529E-2,null,421.86575416922773,7.1112669619458529E-2,null,0.73323075341438049,-1.3242361675898437,null,null,null,null,null,null,null,null,null,null,{"$f":"IF(kuljetuslaskuri!$H$45,kuljetuslaskuri!$D$45,0)","v":20},{"$f":"IF(kuljetuslaskuri!$H$46,kuljetuslaskuri!$D$46,0)","v":0},{"$f":"IF(kuljetuslaskuri!$G$19,kuljetuslaskuri!#REF!,0)","v":0},{"$f":"AVERAGE(IF(AV183:AX183<>0, AV183:AX183,\"\"))","v":20},{"$f":"AY183*kuljetuslaskuri!$D$47%","v":19},42.5,{"$f":"kuljetuslaskuri!$D$52%","v":0},15.94,50,505.18391335930795,7.5,7.5,{"$f":"kuljetuslaskuri!$D$53*(laskentapohja!C183/laskentapohja!AZ183)","v":3.1578947368421053},523.34180809615009,12,535.34180809615009,17.844726936538336,5.6038963417951185E-2,null,246.08835659871619,534.36328861435516,780.45164521307129,null,0.39,497.25000000000006,null,{"$f":"kuljetuslaskuri!$D$74","v":71.100000000000009},null,568.35,null,{"$f":"N_arvo*N_maara*kuljetuslaskuri!$E$87%*C183","v":59.400000000000006},{"$f":"P_arvo*P_maara*kuljetuslaskuri!$E$88%*C183","v":41.040000000000006},{"$f":"K_arvo*K_maara*kuljetuslaskuri!$E$89%*C183","v":79.2},179.64000000000001]
[null,{"$f":"kuljetuslaskuri!$D$31","v":2500},{"$f":"kuljetuslaskuri!$D$12","v":30},{"$f":"kuljetuslaskuri!$D$33","v":14},{"$f":"kuljetuslaskuri!$D$34","v":4000},12,2.1428571428571428,7.5,2,{"$f":"kuljetuslaskuri!$D$35","v":0},21.5,0.71666666666666667,null,1.3953488372093024,null,{"$f":"IF(kuljetuslaskuri!$H$17,kuljetuslaskuri!$D$17,0)","v":25},{"$f":"IF(kuljetuslaskuri!$H$18,kuljetuslaskuri!$D$18,0)","v":0},{"$f":"IF(kuljetuslaskuri!$G$19,kuljetuslaskuri!#REF!,0)","v":0},{"$f":"AVERAGE(IF(P184:R184<>0, P184:R184,\"\"))","v":25},{"$f":"S184*kuljetuslaskuri!$D$19%","v":23.75},42.75,{"$f":"kuljetuslaskuri!$D$24%","v":0},15.94,50,406.52446675031365,7.6923076923076925,7.5,{"$f":"kuljetuslaskuri!$D$25*(laskentapohja!C184/laskentapohja!T184)","v":2.5263157894736841},424.24309023209503,14.141436341069834,7.0714174704855165E-2,null,424.24309023209503,7.0714174704855165E-2,null,0.73303150595707878,-1.3246346625044472,null,null,null,null,null,null,null,null,null,null,{"$f":"IF(kuljetuslaskuri!$H$45,kuljetuslaskuri!$D$45,0)","v":20},{"$f":"IF(kuljetuslaskuri!$H$46,kuljetuslaskuri!$D$46,0)","v":0},{"$f":"IF(kuljetuslaskuri!$G$19,kuljetuslaskuri!#REF!,0)","v":0},{"$f":"AVERAGE(IF(AV184:AX184<>0, AV184:AX184,\"\"))","v":20},{"$f":"AY184*kuljetuslaskuri!$D$47%","v":19},42.75,{"$f":"kuljetuslaskuri!$D$52%","v":0},15.94,50,508.15558343789212,7.5,7.5,{"$f":"kuljetuslaskuri!$D$53*(laskentapohja!C184/laskentapohja!AZ184)","v":3.1578947368421053},526.3134781747342,12,538.3134781747342,17.943782605824474,5.5729609635116979E-2,null,247.4751359687221,537.3745809606537,784.84971692937575,null,0.39,500.17500000000007,null,{"$f":"kuljetuslaskuri!$D$74","v":71.100000000000009},null,571.27500000000009,null,{"$f":"N_arvo*N_maara*kuljetuslaskuri!$E$87%*C184","v":59.400000000000006},{"$f":"P_arvo*P_maara*kuljetuslaskuri!$E$88%*C184","v":41.040000000000006},{"$f":"K_arvo*K_maara*kuljetuslaskuri!$E$89%*C184","v":79.2},179.64000000000001]
[null,{"$f":"kuljetuslaskuri!$D$31","v":2500},{"$f":"kuljetuslaskuri!$D$12","v":30},{"$f":"kuljetuslaskuri!$D$33","v":14},{"$f":"kuljetuslaskuri!$D$34","v":4000},12,2.1428571428571428,7.5,2,{"$f":"kuljetuslaskuri!$D$35","v":0},21.5,0.71666666666666667,null,1.3953488372093024,null,{"$f":"IF(kuljetuslaskuri!$H$17,kuljetuslaskuri!$D$17,0)","v":25},{"$f":"IF(kuljetuslaskuri!$H$18,kuljetuslaskuri!$D$18,0)","v":0},{"$f":"IF(kuljetuslaskuri!$G$19,kuljetuslaskuri!#REF!,0)","v":0},{"$f":"AVERAGE(IF(P185:R185<>0, P185:R185,\"\"))","v":25},{"$f":"S185*kuljetuslaskuri!$D$19%","v":23.75},43,{"$f":"kuljetuslaskuri!$D$24%","v":0},15.94,50,408.90180281318101,7.6923076923076925,7.5,{"$f":"kuljetuslaskuri!$D$25*(laskentapohja!C185/laskentapohja!T185)","v":2.5263157894736841},426.62042629496239,14.220680876498745,7.0320121004375472E-2,null,426.62042629496239,7.0320121004375472E-2,null,0.73283447910683897,-1.3250287162049268,null,null,null,null,null,null,null,null,null,null,{"$f":"IF(kuljetuslaskuri!$H$45,kuljetuslaskuri!$D$45,0)","v":20},{"$f":"IF(kuljetuslaskuri!$H$46,kuljetuslaskuri!$D$46,0)","v":0},{"$f":"IF(kuljetuslaskuri!$G$19,kuljetuslaskuri!#REF!,0)","v":0},{"$f":"AVERAGE(IF(AV185:AX185<>0, AV185:AX185,\"\"))","v":20},{"$f":"AY185*kuljetuslaskuri!$D$47%","v":19},43,{"$f":"kuljetuslaskuri!$D$52%","v":0},15.94,50,511.12725351647629,7.5,7.5,{"$f":"kuljetuslaskuri!$D$53*(laskentapohja!C185/laskentapohja!AZ185)","v":3.1578947368421053},529.28514825331831,12,541.28514825331831,18.042838275110611,5.5423652573523358E-2,null,248.86191533872804,540.38587330695236,789.24778864568043,null,0.39,503.1,null,{"$f":"kuljetuslaskuri!$D$74","v":71.100000000000009},null,574.20000000000005,null,{"$f":"N_arvo*N_maara*kuljetuslaskuri!$E$87%*C185","v":59.400000000000006},{"$f":"P_arvo*P_maara*kuljetuslaskuri!$E$88%*C185","v":41.040000000000006},{"$f":"K_arvo*K_maara*kuljetuslaskuri!$E$89%*C185","v":79.2},179.64000000000001]
[null,{"$f":"kuljetuslaskuri!$D$31","v":2500},{"$f":"kuljetuslaskuri!$D$12","v":30},{"$f":"kuljetuslaskuri!$D$33","v":14},{"$f":"kuljetuslaskuri!$D$34","v":4000},12,2.1428571428571428,7.5,2,{"$f":"kuljetuslaskuri!$D$35","v":0},21.5,0.71666666666666667,null,1.3953488372093024,null,{"$f":"IF(kuljetuslaskuri!$H$17,kuljetuslaskuri!$D$17,0)","v":25},{"$f":"IF(kuljetuslaskuri!$H$18,kuljetuslaskuri!$D$18,0)","v":0},{"$f":"IF(kuljetuslaskuri!$G$19,kuljetuslaskuri!#REF!,0)","v":0},{"$f":"AVERAGE(IF(P186:R186<>0, P186:R186,\"\"))","v":25},{"$f":"S186*kuljetuslaskuri!$D$19%","v":23.75},43.25,{"$f":"kuljetuslaskuri!$D$24%","v":0},15.94,50,411.27913887604831,7.6923076923076925,7.5,{"$f":"kuljetuslaskuri!$D$25*(laskentapohja!C186/laskentapohja!T186)","v":2.5263157894736841},428.99776235782969,14.299925411927656,6.9930434683658824E-2,null,428.99776235782969,6.9930434683658824E-2,null,0.73263963594648063,-1.3254184025256435,null,null,null,null,null,null,null,null,null,null,{"$f":"IF(kuljetuslaskuri!$H$45,kuljetuslaskuri!$D$45,0)","v":20},{"$f":"IF(kuljetuslaskuri!$H$46,kuljetuslaskuri!$D$46,0)","v":0},{"$f":"IF(kuljetuslaskuri!$G$19,kuljetuslaskuri!#REF!,0)","v":0},{"$f":"AVERAGE(IF(AV186:AX186<>0, AV186:AX186,\"\"))","v":20},{"$f":"AY186*kuljetuslaskuri!$D$47%","v":19},43.25,{"$f":"kuljetuslaskuri!$D$52%","v":0},15.94,50,514.09892359506046,7.5,7.5,{"$f":"kuljetuslaskuri!$D$53*(laskentapohja!C186/laskentapohja!AZ186)","v":3.1578947368421053},532.25681833190254,12,544.25681833190254,18.141893944396752,5.5121036594354959E-2,null,250.24869470873398,543.39716565325091,793.64586036198489,null,0.39,506.02500000000003,null,{"$f":"kuljetuslaskuri!$D$74","v":71.100000000000009},null,577.125,null,{"$f":"N_arvo*N_maara*kuljetuslaskuri!$E$87%*C186","v":59.400000000000006},{"$f":"P_arvo*P_maara*kuljetuslaskuri!$E$88%*C186","v":41.040000000000006},{"$f":"K_arvo*K_maara*kuljetuslaskuri!$E$89%*C186","v":79.2},179.64000000000001]
[null,{"$f":"kuljetuslaskuri!$D$31","v":2500},{"$f":"kuljetuslaskuri!$D$12","v":30},{"$f":"kuljetuslaskuri!$D$33","v":14},{"$f":"kuljetuslaskuri!$D$34","v":4000},12,2.1428571428571428,7.5,2,{"$f":"kuljetuslaskuri!$D$35","v":0},21.5,0.71666666666666667,null,1.3953488372093024,null,{"$f":"IF(kuljetuslaskuri!$H$17,kuljetuslaskuri!$D$17,0)","v":25},{"$f":"IF(kuljetuslaskuri!$H$18,kuljetuslaskuri!$D$18,0)","v":0},{"$f":"IF(kuljetuslaskuri!$G$19,kuljetuslaskuri!#REF!,0)","v":0},{"$f":"AVERAGE(IF(P187:R187<>0, P187:R187,\"\"))","v":25},{"$f":"S187*kuljetuslaskuri!$D$19%","v":23.75},43.5,{"$f":"kuljetuslaskuri!$D$24%","v":0},15.94,50,413.65647493891566,7.6923076923076925,7.5,{"$f":"kuljetuslaskuri!$D$25*(laskentapohja!C187/laskentapohja!T187)","v":2.5263157894736841},431.37509842069704,14.379169947356568,6.954504353596834E-2,null,431.37509842069704,6.954504353596834E-2,null,0.73244694037263536,-1.325803793673334,null,null,null,null,null,null,null,null,null,null,{"$f":"IF(kuljetuslaskuri!$H$45,kuljetuslaskuri!$D$45,0)","v":20},{"$f":"IF(kuljetuslaskuri!$H$46,kuljetuslaskuri!$D$46,0)","v":0},{"$f":"IF(kuljetuslaskuri!$G$19,kuljetuslaskuri!#REF!,0)","v":0},{"$f":"AVERAGE(IF(AV187:AX187<>0, AV187:AX187,\"\"))","v":20},{"$f":"AY187*kuljetuslaskuri!$D$47%","v":19},43.5,{"$f":"kuljetuslaskuri!$D$52%","v":0},15.94,50,517.07059367364457,7.5,7.5,{"$f":"kuljetuslaskuri!$D$53*(laskentapohja!C187/laskentapohja!AZ187)","v":3.1578947368421053},535.22848841048665,12,547.22848841048665,18.24094961368289,5.4821707267360721E-2,null,251.63547407873992,546.40845799954957,798.04393207828946,null,0.39,508.95000000000005,null,{"$f":"kuljetuslaskuri!$D$74","v":71.100000000000009},null,580.05000000000007,null,{"$f":"N_arvo*N_maara*kuljetuslaskuri!$E$87%*C187","v":59.400000000000006},{"$f":"P_arvo*P_maara*kuljetuslaskuri!$E$88%*C187","v":41.040000000000006},{"$f":"K_arvo*K_maara*kuljetuslaskuri!$E$89%*C187","v":79.2},179.64000000000001]
[null,{"$f":"kuljetuslaskuri!$D$31","v":2500},{"$f":"kuljetuslaskuri!$D$12","v":30},{"$f":"kuljetuslaskuri!$D$33","v":14},{"$f":"kuljetuslaskuri!$D$34","v":4000},12,2.1428571428571428,7.5,2,{"$f":"kuljetuslaskuri!$D$35","v":0},21.5,0.71666666666666667,null,1.3953488372093024,null,{"$f":"IF(kuljetuslaskuri!$H$17,kuljetuslaskuri!$D$17,0)","v":25},{"$f":"IF(kuljetuslaskuri!$H$18,kuljetuslaskuri!$D$18,0)","v":0},{"$f":"IF(kuljetuslaskuri!$G$19,kuljetuslaskuri!#REF!,0)","v":0},{"$f":"AVERAGE(IF(P188:R188<>0, P188:R188,\"\"))","v":25},{"$f":"S188*kuljetuslaskuri!$D$19%","v":23.75},43.75,{"$f":"kuljetuslaskuri!$D$24%","v":0},15.94,50,416.03381100178296,7.6923076923076925,7.5,{"$f":"kuljetuslaskuri!$D$25*(laskentapohja!C188/laskentapohja!T188)","v":2.5263157894736841},433.75243448356434,14.458414482785479,6.9163876937586966E-2,null,433.75243448356434,6.9163876937586966E-2,null,0.73225635707344461,-1.3261849602717155,null,null,null,null,null,null,null,null,null,null,{"$f":"IF(kuljetuslaskuri!$H$45,kuljetuslaskuri!$D$45,0)","v":20},{"$f":"IF(kuljetuslaskuri!$H$46,kuljetuslaskuri!$D$46,0)","v":0},{"$f":"IF(kuljetuslaskuri!$G$19,kuljetuslaskuri!#REF!,0)","v":0},{"$f":"AVERAGE(IF(AV188:AX188<>0, AV188:AX188,\"\"))","v":20},{"$f":"AY188*kuljetuslaskuri!$D$47%","v":19},43.75,{"$f":"kuljetuslaskuri!$D$52%","v":0},15.94,50,520.04226375222879,7.5,7.5,{"$f":"kuljetuslaskuri!$D$53*(laskentapohja!C188/laskentapohja!AZ188)","v":3.1578947368421053},538.20015848907087,12,550.20015848907087,18.340005282969027,5.4525611338216144E-2,null,253.02225344874589,549.41975034584823,802.44200379459414,null,0.39,511.87500000000006,null,{"$f":"kuljetuslaskuri!$D$74","v":71.100000000000009},null,582.97500000000002,null,{"$f":"N_arvo*N_maara*kuljetuslaskuri!$E$87%*C188","v":59.400000000000006},{"$f":"P_arvo*P_maara*kuljetuslaskuri!$E$88%*C188","v":41.040000000000006},{"$f":"K_arvo*K_maara*kuljetuslaskuri!$E$89%*C188","v":79.2},179.64000000000001]
[null,{"$f":"kuljetuslaskuri!$D$31","v":2500},{"$f":"kuljetuslaskuri!$D$12","v":30},{"$f":"kuljetuslaskuri!$D$33","v":14},{"$f":"kuljetuslaskuri!$D$34","v":4000},12,2.1428571428571428,7.5,2,{"$f":"kuljetuslaskuri!$D$35","v":0},21.5,0.71666666666666667,null,1.3953488372093024,null,{"$f":"IF(kuljetuslaskuri!$H$17,kuljetuslaskuri!$D$17,0)","v":25},{"$f":"IF(kuljetuslaskuri!$H$18,kuljetuslaskuri!$D$18,0)","v":0},{"$f":"IF(kuljetuslaskuri!$G$19,kuljetuslaskuri!#REF!,0)","v":0},{"$f":"AVERAGE(IF(P189:R189<>0, P189:R189,\"\"))","v":25},{"$f":"S189*kuljetuslaskuri!$D$19%","v":23.75},44,{"$f":"kuljetuslaskuri!$D$24%","v":0},15.94,50,418.41114706465032,7.6923076923076925,7.5,{"$f":"kuljetuslaskuri!$D$25*(laskentapohja!C189/laskentapohja!T189)","v":2.5263157894736841},436.1297705464317,14.53765901821439,6.8786865804672484E-2,null,436.1297705464317,6.8786865804672484E-2,null,0.73206785150698739,-1.3265619714046299,null,null,null,null,null,null,null,null,null,null,{"$f":"IF(kuljetuslaskuri!$H$45,kuljetuslaskuri!$D$45,0)","v":20},{"$f":"IF(kuljetuslaskuri!$H$46,kuljetuslaskuri!$D$46,0)","v":0},{"$f":"IF(kuljetuslaskuri!$G$19,kuljetuslaskuri!#REF!,0)","v":0},{"$f":"AVERAGE(IF(AV189:AX189<>0, AV189:AX189,\"\"))","v":20},{"$f":"AY189*kuljetuslaskuri!$D$47%","v":19},44,{"$f":"kuljetuslaskuri!$D$52%","v":0},15.94,50,523.0139338308129,7.5,7.5,{"$f":"kuljetuslaskuri!$D$53*(laskentapohja!C189/laskentapohja!AZ189)","v":3.1578947368421053},541.17182856765498,12,553.17182856765498,18.439060952255165,5.4232696696937616E-2,null,254.40903281875183,552.43104269214678,806.8400755108986,null,0.39,514.80000000000007,null,{"$f":"kuljetuslaskuri!$D$74","v":71.100000000000009},null,585.90000000000009,null,{"$f":"N_arvo*N_maara*kuljetuslaskuri!$E$87%*C189","v":59.400000000000006},{"$f":"P_arvo*P_maara*kuljetuslaskuri!$E$88%*C189","v":41.040000000000006},{"$f":"K_arvo*K_maara*kuljetuslaskuri!$E$89%*C189","v":79.2},179.64000000000001]
[null,{"$f":"kuljetuslaskuri!$D$31","v":2500},{"$f":"kuljetuslaskuri!$D$12","v":30},{"$f":"kuljetuslaskuri!$D$33","v":14},{"$f":"kuljetuslaskuri!$D$34","v":4000},12,2.1428571428571428,7.5,2,{"$f":"kuljetuslaskuri!$D$35","v":0},21.5,0.71666666666666667,null,1.3953488372093024,null,{"$f":"IF(kuljetuslaskuri!$H$17,kuljetuslaskuri!$D$17,0)","v":25},{"$f":"IF(kuljetuslaskuri!$H$18,kuljetuslaskuri!$D$18,0)","v":0},{"$f":"IF(kuljetuslaskuri!$G$19,kuljetuslaskuri!#REF!,0)","v":0},{"$f":"AVERAGE(IF(P190:R190<>0, P190:R190,\"\"))","v":25},{"$f":"S190*kuljetuslaskuri!$D$19%","v":23.75},44.25,{"$f":"kuljetuslaskuri!$D$24%","v":0},15.94,50,420.78848312751762,7.6923076923076925,7.5,{"$f":"kuljetuslaskuri!$D$25*(laskentapohja!C190/laskentapohja!T190)","v":2.5263157894736841},438.507106609299,14.616903553643301,6.8413942551515811E-2,null,438.507106609299,6.8413942551515811E-2,null,0.73188138988040907,-1.3269348946577866,null,null,null,null,null,null,null,null,null,null,{"$f":"IF(kuljetuslaskuri!$H$45,kuljetuslaskuri!$D$45,0)","v":20},{"$f":"IF(kuljetuslaskuri!$H$46,kuljetuslaskuri!$D$46,0)","v":0},{"$f":"IF(kuljetuslaskuri!$G$19,kuljetuslaskuri!#REF!,0)","v":0},{"$f":"AVERAGE(IF(AV190:AX190<>0, AV190:AX190,\"\"))","v":20},{"$f":"AY190*kuljetuslaskuri!$D$47%","v":19},44.25,{"$f":"kuljetuslaskuri!$D$52%","v":0},15.94,50,525.98560390939701,7.5,7.5,{"$f":"kuljetuslaskuri!$D$53*(laskentapohja!C190/laskentapohja!AZ190)","v":3.1578947368421053},544.1434986462391,12,556.1434986462391,18.538116621541302,5.3942912347309295E-2,null,255.79581218875776,555.44233503844544,811.23814722720317,null,0.39,517.72500000000002,null,{"$f":"kuljetuslaskuri!$D$74","v":71.100000000000009},null,588.82500000000005,null,{"$f":"N_arvo*N_maara*kuljetuslaskuri!$E$87%*C190","v":59.400000000000006},{"$f":"P_arvo*P_maara*kuljetuslaskuri!$E$88%*C190","v":41.040000000000006},{"$f":"K_arvo*K_maara*kuljetuslaskuri!$E$89%*C190","v":79.2},179.64000000000001]
[null,{"$f":"kuljetuslaskuri!$D$31","v":2500},{"$f":"kuljetuslaskuri!$D$12","v":30},{"$f":"kuljetuslaskuri!$D$33","v":14},{"$f":"kuljetuslaskuri!$D$34","v":4000},12,2.1428571428571428,7.5,2,{"$f":"kuljetuslaskuri!$D$35","v":0},21.5,0.71666666666666667,null,1.3953488372093024,null,{"$f":"IF(kuljetuslaskuri!$H$17,kuljetuslaskuri!$D$17,0)","v":25},{"$f":"IF(kuljetuslaskuri!$H$18,kuljetuslaskuri!$D$18,0)","v":0},{"$f":"IF(kuljetuslaskuri!$G$19,kuljetuslaskuri!#REF!,0)","v":0},{"$f":"AVERAGE(IF(P191:R191<>0, P191:R191,\"\"))","v":25},{"$f":"S191*kuljetuslaskuri!$D$19%","v":23.75},44.5,{"$f":"kuljetuslaskuri!$D$24%","v":0},15.94,50,423.16581919038498,7.6923076923076925,7.5,{"$f":"kuljetuslaskuri!$D$25*(laskentapohja!C191/laskentapohja!T191)","v":2.5263157894736841},440.88444267216636,14.696148089072212,6.8045041050149857E-2,null,440.88444267216636,6.8045041050149857E-2,null,0.73169693912972611,-1.3273037961591525,null,null,null,null,null,null,null,null,null,null,{"$f":"IF(kuljetuslaskuri!$H$45,kuljetuslaskuri!$D$45,0)","v":20},{"$f":"IF(kuljetuslaskuri!$H$46,kuljetuslaskuri!$D$46,0)","v":0},{"$f":"IF(kuljetuslaskuri!$G$19,kuljetuslaskuri!#REF!,0)","v":0},{"$f":"AVERAGE(IF(AV191:AX191<>0, AV191:AX191,\"\"))","v":20},{"$f":"AY191*kuljetuslaskuri!$D$47%","v":19},44.5,{"$f":"kuljetuslaskuri!$D$52%","v":0},15.94,50,528.95727398798124,7.5,7.5,{"$f":"kuljetuslaskuri!$D$53*(laskentapohja!C191/laskentapohja!AZ191)","v":3.1578947368421053},547.11516872482332,12,559.11516872482332,18.637172290827444,5.3656208377285033E-2,null,257.1825915587637,558.4536273847441,815.63621894350786,null,0.39,520.65000000000009,null,{"$f":"kuljetuslaskuri!$D$74","v":71.100000000000009},null,591.75000000000011,null,{"$f":"N_arvo*N_maara*kuljetuslaskuri!$E$87%*C191","v":59.400000000000006},{"$f":"P_arvo*P_maara*kuljetuslaskuri!$E$88%*C191","v":41.040000000000006},{"$f":"K_arvo*K_maara*kuljetuslaskuri!$E$89%*C191","v":79.2},179.64000000000001]
[null,{"$f":"kuljetuslaskuri!$D$31","v":2500},{"$f":"kuljetuslaskuri!$D$12","v":30},{"$f":"kuljetuslaskuri!$D$33","v":14},{"$f":"kuljetuslaskuri!$D$34","v":4000},12,2.1428571428571428,7.5,2,{"$f":"kuljetuslaskuri!$D$35","v":0},21.5,0.71666666666666667,null,1.3953488372093024,null,{"$f":"IF(kuljetuslaskuri!$H$17,kuljetuslaskuri!$D$17,0)","v":25},{"$f":"IF(kuljetuslaskuri!$H$18,kuljetuslaskuri!$D$18,0)","v":0},{"$f":"IF(kuljetuslaskuri!$G$19,kuljetuslaskuri!#REF!,0)","v":0},{"$f":"AVERAGE(IF(P192:R192<>0, P192:R192,\"\"))","v":25},{"$f":"S192*kuljetuslaskuri!$D$19%","v":23.75},44.75,{"$f":"kuljetuslaskuri!$D$24%","v":0},15.94,50,425.54315525325234,7.6923076923076925,7.5,{"$f":"kuljetuslaskuri!$D$25*(laskentapohja!C192/laskentapohja!T192)","v":2.5263157894736841},443.26177873503372,14.775392624501125,6.768009659125819E-2,null,443.26177873503372,6.768009659125819E-2,null,0.73151446690028032,-1.3276687406180441,null,null,null,null,null,null,null,null,null,null,{"$f":"IF(kuljetuslaskuri!$H$45,kuljetuslaskuri!$D$45,0)","v":20},{"$f":"IF(kuljetuslaskuri!$H$46,kuljetuslaskuri!$D$46,0)","v":0},{"$f":"IF(kuljetuslaskuri!$G$19,kuljetuslaskuri!#REF!,0)","v":0},{"$f":"AVERAGE(IF(AV192:AX192<>0, AV192:AX192,\"\"))","v":20},{"$f":"AY192*kuljetuslaskuri!$D$47%","v":19},44.75,{"$f":"kuljetuslaskuri!$D$52%","v":0},15.94,50,531.92894406656546,7.5,7.5,{"$f":"kuljetuslaskuri!$D$53*(laskentapohja!C192/laskentapohja!AZ192)","v":3.1578947368421053},550.08683880340755,12,562.08683880340755,18.736227960113585,5.3372535930329153E-2,null,258.56937092876967,561.46491973104276,820.03429065981243,null,0.39,523.57500000000005,null,{"$f":"kuljetuslaskuri!$D$74","v":71.100000000000009},null,594.67500000000007,null,{"$f":"N_arvo*N_maara*kuljetuslaskuri!$E$87%*C192","v":59.400000000000006},{"$f":"P_arvo*P_maara*kuljetuslaskuri!$E$88%*C192","v":41.040000000000006},{"$f":"K_arvo*K_maara*kuljetuslaskuri!$E$89%*C192","v":79.2},179.64000000000001]
[null,{"$f":"kuljetuslaskuri!$D$31","v":2500},{"$f":"kuljetuslaskuri!$D$12","v":30},{"$f":"kuljetuslaskuri!$D$33","v":14},{"$f":"kuljetuslaskuri!$D$34","v":4000},12,2.1428571428571428,7.5,2,{"$f":"kuljetuslaskuri!$D$35","v":0},21.5,0.71666666666666667,null,1.3953488372093024,null,{"$f":"IF(kuljetuslaskuri!$H$17,kuljetuslaskuri!$D$17,0)","v":25},{"$f":"IF(kuljetuslaskuri!$H$18,kuljetuslaskuri!$D$18,0)","v":0},{"$f":"IF(kuljetuslaskuri!$G$19,kuljetuslaskuri!#REF!,0)","v":0},{"$f":"AVERAGE(IF(P193:R193<>0, P193:R193,\"\"))","v":25},{"$f":"S193*kuljetuslaskuri!$D$19%","v":23.75},45,{"$f":"kuljetuslaskuri!$D$24%","v":0},15.94,50,427.92049131611969,7.6923076923076925,7.5,{"$f":"kuljetuslaskuri!$D$25*(laskentapohja!C193/laskentapohja!T193)","v":2.5263157894736841},445.63911479790107,14.854637159930036,6.7319045846334885E-2,null,445.63911479790107,6.7319045846334885E-2,null,0.73133394152781861,-1.3280297913629675,null,null,null,null,null,null,null,null,null,null,{"$f":"IF(kuljetuslaskuri!$H$45,kuljetuslaskuri!$D$45,0)","v":20},{"$f":"IF(kuljetuslaskuri!$H$46,kuljetuslaskuri!$D$46,0)","v":0},{"$f":"IF(kuljetuslaskuri!$G$19,kuljetuslaskuri!#REF!,0)","v":0},{"$f":"AVERAGE(IF(AV193:AX193<>0, AV193:AX193,\"\"))","v":20},{"$f":"AY193*kuljetuslaskuri!$D$47%","v":19},45,{"$f":"kuljetuslaskuri!$D$52%","v":0},15.94,50,534.90061414514969,7.5,7.5,{"$f":"kuljetuslaskuri!$D$53*(laskentapohja!C193/laskentapohja!AZ193)","v":3.1578947368421053},553.05850888199177,12,565.05850888199177,18.835283629399726,5.3091847177661515E-2,null,259.95615029877564,564.47621207734142,824.432362376117,null,0.39,526.5,null,{"$f":"kuljetuslaskuri!$D$74","v":71.100000000000009},null,597.6,null,{"$f":"N_arvo*N_maara*kuljetuslaskuri!$E$87%*C193","v":59.400000000000006},{"$f":"P_arvo*P_maara*kuljetuslaskuri!$E$88%*C193","v":41.040000000000006},{"$f":"K_arvo*K_maara*kuljetuslaskuri!$E$89%*C193","v":79.2},179.64000000000001]
[null,{"$f":"kuljetuslaskuri!$D$31","v":2500},{"$f":"kuljetuslaskuri!$D$12","v":30},{"$f":"kuljetuslaskuri!$D$33","v":14},{"$f":"kuljetuslaskuri!$D$34","v":4000},12,2.1428571428571428,7.5,2,{"$f":"kuljetuslaskuri!$D$35","v":0},21.5,0.71666666666666667,null,1.3953488372093024,null,{"$f":"IF(kuljetuslaskuri!$H$17,kuljetuslaskuri!$D$17,0)","v":25},{"$f":"IF(kuljetuslaskuri!$H$18,kuljetuslaskuri!$D$18,0)","v":0},{"$f":"IF(kuljetuslaskuri!$G$19,kuljetuslaskuri!#REF!,0)","v":0},{"$f":"AVERAGE(IF(P194:R194<>0, P194:R194,\"\"))","v":25},{"$f":"S194*kuljetuslaskuri!$D$19%","v":23.75},45.25,{"$f":"kuljetuslaskuri!$D$24%","v":0},15.94,50,430.29782737898699,7.6923076923076925,7.5,{"$f":"kuljetuslaskuri!$D$25*(laskentapohja!C194/laskentapohja!T194)","v":2.5263157894736841},448.01645086076837,14.933881695358945,6.696182683104912E-2,null,448.01645086076837,6.696182683104912E-2,null,0.7311553320201758,-1.3283870103782531,null,null,null,null,null,null,null,null,null,null,{"$f":"IF(kuljetuslaskuri!$H$45,kuljetuslaskuri!$D$45,0)","v":20},{"$f":"IF(kuljetuslaskuri!$H$46,kuljetuslaskuri!$D$46,0)","v":0},{"$f":"IF(kuljetuslaskuri!$G$19,kuljetuslaskuri!#REF!,0)","v":0},{"$f":"AVERAGE(IF(AV194:AX194<>0, AV194:AX194,\"\"))","v":20},{"$f":"AY194*kuljetuslaskuri!$D$47%","v":19},45.25,{"$f":"kuljetuslaskuri!$D$52%","v":0},15.94,50,537.8722842237338,7.5,7.5,{"$f":"kuljetuslaskuri!$D$53*(laskentapohja!C194/laskentapohja!AZ194)","v":3.1578947368421053},556.03017896057588,12,568.03017896057588,18.934339298685863,5.2814095291373854E-2,null,261.34292966878155,567.48750442363996,828.83043409242146,null,0.39,529.42500000000007,null,{"$f":"kuljetuslaskuri!$D$74","v":71.100000000000009},null,600.52500000000009,null,{"$f":"N_arvo*N_maara*kuljetuslaskuri!$E$87%*C194","v":59.400000000000006},{"$f":"P_arvo*P_maara*kuljetuslaskuri!$E$88%*C194","v":41.040000000000006},{"$f":"K_arvo*K_maara*kuljetuslaskuri!$E$89%*C194","v":79.2},179.64000000000001]
[null,{"$f":"kuljetuslaskuri!$D$31","v":2500},{"$f":"kuljetuslaskuri!$D$12","v":30},{"$f":"kuljetuslaskuri!$D$33","v":14},{"$f":"kuljetuslaskuri!$D$34","v":4000},12,2.1428571428571428,7.5,2,{"$f":"kuljetuslaskuri!$D$35","v":0},21.5,0.71666666666666667,null,1.3953488372093024,null,{"$f":"IF(kuljetuslaskuri!$H$17,kuljetuslaskuri!$D$17,0)","v":25},{"$f":"IF(kuljetuslaskuri!$H$18,kuljetuslaskuri!$D$18,0)","v":0},{"$f":"IF(kuljetuslaskuri!$G$19,kuljetuslaskuri!#REF!,0)","v":0},{"$f":"AVERAGE(IF(P195:R195<>0, P195:R195,\"\"))","v":25},{"$f":"S195*kuljetuslaskuri!$D$19%","v":23.75},45.5,{"$f":"kuljetuslaskuri!$D$24%","v":0},15.94,50,432.67516344185435,7.6923076923076925,7.5,{"$f":"kuljetuslaskuri!$D$25*(laskentapohja!C195/laskentapohja!T195)","v":2.5263157894736841},450.39378692363573,15.013126230787858,6.6608378869770016E-2,null,450.39378692363573,6.6608378869770016E-2,null,0.73097860803953618,-1.3287404583395324,null,null,null,null,null,null,null,null,null,null,{"$f":"IF(kuljetuslaskuri!$H$45,kuljetuslaskuri!$D$45,0)","v":20},{"$f":"IF(kuljetuslaskuri!$H$46,kuljetuslaskuri!$D$46,0)","v":0},{"$f":"IF(kuljetuslaskuri!$G$19,kuljetuslaskuri!#REF!,0)","v":0},{"$f":"AVERAGE(IF(AV195:AX195<>0, AV195:AX195,\"\"))","v":20},{"$f":"AY195*kuljetuslaskuri!$D$47%","v":19},45.5,{"$f":"kuljetuslaskuri!$D$52%","v":0},15.94,50,540.84395430231791,7.5,7.5,{"$f":"kuljetuslaskuri!$D$53*(laskentapohja!C195/laskentapohja!AZ195)","v":3.1578947368421053},559.00184903915999,12,571.00184903915999,19.033394967972001,5.2539234418385504E-2,null,262.72970903878752,570.49879676993862,833.22850580872614,null,0.39,532.35,null,{"$f":"kuljetuslaskuri!$D$74","v":71.100000000000009},null,603.45000000000005,null,{"$f":"N_arvo*N_maara*kuljetuslaskuri!$E$87%*C195","v":59.400000000000006},{"$f":"P_arvo*P_maara*kuljetuslaskuri!$E$88%*C195","v":41.040000000000006},{"$f":"K_arvo*K_maara*kuljetuslaskuri!$E$89%*C195","v":79.2},179.64000000000001]
[null,{"$f":"kuljetuslaskuri!$D$31","v":2500},{"$f":"kuljetuslaskuri!$D$12","v":30},{"$f":"kuljetuslaskuri!$D$33","v":14},{"$f":"kuljetuslaskuri!$D$34","v":4000},12,2.1428571428571428,7.5,2,{"$f":"kuljetuslaskuri!$D$35","v":0},21.5,0.71666666666666667,null,1.3953488372093024,null,{"$f":"IF(kuljetuslaskuri!$H$17,kuljetuslaskuri!$D$17,0)","v":25},{"$f":"IF(kuljetuslaskuri!$H$18,kuljetuslaskuri!$D$18,0)","v":0},{"$f":"IF(kuljetuslaskuri!$G$19,kuljetuslaskuri!#REF!,0)","v":0},{"$f":"AVERAGE(IF(P196:R196<>0, P196:R196,\"\"))","v":25},{"$f":"S196*kuljetuslaskuri!$D$19%","v":23.75},45.75,{"$f":"kuljetuslaskuri!$D$24%","v":0},15.94,50,435.05249950472165,7.6923076923076925,7.5,{"$f":"kuljetuslaskuri!$D$25*(laskentapohja!C196/laskentapohja!T196)","v":2.5263157894736841},452.77112298650303,15.092370766216767,6.6258642561209211E-2,null,452.77112298650303,6.6258642561209211E-2,null,0.73080373988525582,-1.3290901946480931,null,null,null,null,null,null,null,null,null,null,{"$f":"IF(kuljetuslaskuri!$H$45,kuljetuslaskuri!$D$45,0)","v":20},{"$f":"IF(kuljetuslaskuri!$H$46,kuljetuslaskuri!$D$46,0)","v":0},{"$f":"IF(kuljetuslaskuri!$G$19,kuljetuslaskuri!#REF!,0)","v":0},{"$f":"AVERAGE(IF(AV196:AX196<>0, AV196:AX196,\"\"))","v":20},{"$f":"AY196*kuljetuslaskuri!$D$47%","v":19},45.75,{"$f":"kuljetuslaskuri!$D$52%","v":0},15.94,50,543.81562438090214,7.5,7.5,{"$f":"kuljetuslaskuri!$D$53*(laskentapohja!C196/laskentapohja!AZ196)","v":3.1578947368421053},561.97351911774422,12,573.97351911774422,19.132450637258142,5.2267219655208232E-2,null,264.11648840879343,573.51008911623717,837.6265775250306,null,0.39,535.27500000000009,null,{"$f":"kuljetuslaskuri!$D$74","v":71.100000000000009},null,606.37500000000011,null,{"$f":"N_arvo*N_maara*kuljetuslaskuri!$E$87%*C196","v":59.400000000000006},{"$f":"P_arvo*P_maara*kuljetuslaskuri!$E$88%*C196","v":41.040000000000006},{"$f":"K_arvo*K_maara*kuljetuslaskuri!$E$89%*C196","v":79.2},179.64000000000001]
[null,{"$f":"kuljetuslaskuri!$D$31","v":2500},{"$f":"kuljetuslaskuri!$D$12","v":30},{"$f":"kuljetuslaskuri!$D$33","v":14},{"$f":"kuljetuslaskuri!$D$34","v":4000},12,2.1428571428571428,7.5,2,{"$f":"kuljetuslaskuri!$D$35","v":0},21.5,0.71666666666666667,null,1.3953488372093024,null,{"$f":"IF(kuljetuslaskuri!$H$17,kuljetuslaskuri!$D$17,0)","v":25},{"$f":"IF(kuljetuslaskuri!$H$18,kuljetuslaskuri!$D$18,0)","v":0},{"$f":"IF(kuljetuslaskuri!$G$19,kuljetuslaskuri!#REF!,0)","v":0},{"$f":"AVERAGE(IF(P197:R197<>0, P197:R197,\"\"))","v":25},{"$f":"S197*kuljetuslaskuri!$D$19%","v":23.75},46,{"$f":"kuljetuslaskuri!$D$24%","v":0},15.94,50,437.42983556758901,7.6923076923076925,7.5,{"$f":"kuljetuslaskuri!$D$25*(laskentapohja!C197/laskentapohja!T197)","v":2.5263157894736841},455.14845904937039,15.17161530164568,6.5912559745139931E-2,null,455.14845904937039,6.5912559745139931E-2,null,0.73063069847722117,-1.3294362774641624,null,null,null,null,null,null,null,null,null,null,{"$f":"IF(kuljetuslaskuri!$H$45,kuljetuslaskuri!$D$45,0)","v":20},{"$f":"IF(kuljetuslaskuri!$H$46,kuljetuslaskuri!$D$46,0)","v":0},{"$f":"IF(kuljetuslaskuri!$G$19,kuljetuslaskuri!#REF!,0)","v":0},{"$f":"AVERAGE(IF(AV197:AX197<>0, AV197:AX197,\"\"))","v":20},{"$f":"AY197*kuljetuslaskuri!$D$47%","v":19},46,{"$f":"kuljetuslaskuri!$D$52%","v":0},15.94,50,546.78729445948625,7.5,7.5,{"$f":"kuljetuslaskuri!$D$53*(laskentapohja!C197/laskentapohja!AZ197)","v":3.1578947368421053},564.94518919632833,12,576.94518919632833,19.231506306544279,5.1998007023490951E-2,null,265.5032677787994,576.52138146253583,842.02464924133528,null,0.39,538.20000000000005,null,{"$f":"kuljetuslaskuri!$D$74","v":71.100000000000009},null,609.30000000000007,null,{"$f":"N_arvo*N_maara*kuljetuslaskuri!$E$87%*C197","v":59.400000000000006},{"$f":"P_arvo*P_maara*kuljetuslaskuri!$E$88%*C197","v":41.040000000000006},{"$f":"K_arvo*K_maara*kuljetuslaskuri!$E$89%*C197","v":79.2},179.64000000000001]
[null,{"$f":"kuljetuslaskuri!$D$31","v":2500},{"$f":"kuljetuslaskuri!$D$12","v":30},{"$f":"kuljetuslaskuri!$D$33","v":14},{"$f":"kuljetuslaskuri!$D$34","v":4000},12,2.1428571428571428,7.5,2,{"$f":"kuljetuslaskuri!$D$35","v":0},21.5,0.71666666666666667,null,1.3953488372093024,null,{"$f":"IF(kuljetuslaskuri!$H$17,kuljetuslaskuri!$D$17,0)","v":25},{"$f":"IF(kuljetuslaskuri!$H$18,kuljetuslaskuri!$D$18,0)","v":0},{"$f":"IF(kuljetuslaskuri!$G$19,kuljetuslaskuri!#REF!,0)","v":0},{"$f":"AVERAGE(IF(P198:R198<>0, P198:R198,\"\"))","v":25},{"$f":"S198*kuljetuslaskuri!$D$19%","v":23.75},46.25,{"$f":"kuljetuslaskuri!$D$24%","v":0},15.94,50,439.80717163045631,7.6923076923076925,7.5,{"$f":"kuljetuslaskuri!$D$25*(laskentapohja!C198/laskentapohja!T198)","v":2.5263157894736841},457.52579511223769,15.250859837074589,6.5570073470153895E-2,null,457.52579511223769,6.5570073470153895E-2,null,0.73045945533972811,-1.3297787637391485,null,null,null,null,null,null,null,null,null,null,{"$f":"IF(kuljetuslaskuri!$H$45,kuljetuslaskuri!$D$45,0)","v":20},{"$f":"IF(kuljetuslaskuri!$H$46,kuljetuslaskuri!$D$46,0)","v":0},{"$f":"IF(kuljetuslaskuri!$G$19,kuljetuslaskuri!#REF!,0)","v":0},{"$f":"AVERAGE(IF(AV198:AX198<>0, AV198:AX198,\"\"))","v":20},{"$f":"AY198*kuljetuslaskuri!$D$47%","v":19},46.25,{"$f":"kuljetuslaskuri!$D$52%","v":0},15.94,50,549.75896453807047,7.5,7.5,{"$f":"kuljetuslaskuri!$D$53*(laskentapohja!C198/laskentapohja!AZ198)","v":3.1578947368421053},567.91685927491255,12,579.91685927491255,19.330561975830417,5.1731553446316254E-2,null,266.89004714880531,579.53267380883437,846.42272095763974,null,0.39,541.125,null,{"$f":"kuljetuslaskuri!$D$74","v":71.100000000000009},null,612.22500000000002,null,{"$f":"N_arvo*N_maara*kuljetuslaskuri!$E$87%*C198","v":59.400000000000006},{"$f":"P_arvo*P_maara*kuljetuslaskuri!$E$88%*C198","v":41.040000000000006},{"$f":"K_arvo*K_maara*kuljetuslaskuri!$E$89%*C198","v":79.2},179.64000000000001]
[null,{"$f":"kuljetuslaskuri!$D$31","v":2500},{"$f":"kuljetuslaskuri!$D$12","v":30},{"$f":"kuljetuslaskuri!$D$33","v":14},{"$f":"kuljetuslaskuri!$D$34","v":4000},12,2.1428571428571428,7.5,2,{"$f":"kuljetuslaskuri!$D$35","v":0},21.5,0.71666666666666667,null,1.3953488372093024,null,{"$f":"IF(kuljetuslaskuri!$H$17,kuljetuslaskuri!$D$17,0)","v":25},{"$f":"IF(kuljetuslaskuri!$H$18,kuljetuslaskuri!$D$18,0)","v":0},{"$f":"IF(kuljetuslaskuri!$G$19,kuljetuslaskuri!#REF!,0)","v":0},{"$f":"AVERAGE(IF(P199:R199<>0, P199:R199,\"\"))","v":25},{"$f":"S199*kuljetuslaskuri!$D$19%","v":23.75},46.5,{"$f":"kuljetuslaskuri!$D$24%","v":0},15.94,50,442.18450769332367,7.6923076923076925,7.5,{"$f":"kuljetuslaskuri!$D$25*(laskentapohja!C199/laskentapohja!T199)","v":2.5263157894736841},459.90313117510505,15.330104372503502,6.523112796241802E-2,null,459.90313117510505,6.523112796241802E-2,null,0.7302899825858602,-1.3301177092468843,null,null,null,null,null,null,null,null,null,null,{"$f":"IF(kuljetuslaskuri!$H$45,kuljetuslaskuri!$D$45,0)","v":20},{"$f":"IF(kuljetuslaskuri!$H$46,kuljetuslaskuri!$D$46,0)","v":0},{"$f":"IF(kuljetuslaskuri!$G$19,kuljetuslaskuri!#REF!,0)","v":0},{"$f":"AVERAGE(IF(AV199:AX199<>0, AV199:AX199,\"\"))","v":20},{"$f":"AY199*kuljetuslaskuri!$D$47%","v":19},46.5,{"$f":"kuljetuslaskuri!$D$52%","v":0},15.94,50,552.73063461665458,7.5,7.5,{"$f":"kuljetuslaskuri!$D$53*(laskentapohja!C199/laskentapohja!AZ199)","v":3.1578947368421053},570.88852935349666,12,582.88852935349666,19.429617645116554,5.146781672522209E-2,null,268.27682651881128,582.54396615513303,850.82079267394431,null,0.39,544.05000000000007,null,{"$f":"kuljetuslaskuri!$D$74","v":71.100000000000009},null,615.15000000000009,null,{"$f":"N_arvo*N_maara*kuljetuslaskuri!$E$87%*C199","v":59.400000000000006},{"$f":"P_arvo*P_maara*kuljetuslaskuri!$E$88%*C199","v":41.040000000000006},{"$f":"K_arvo*K_maara*kuljetuslaskuri!$E$89%*C199","v":79.2},179.64000000000001]
[null,{"$f":"kuljetuslaskuri!$D$31","v":2500},{"$f":"kuljetuslaskuri!$D$12","v":30},{"$f":"kuljetuslaskuri!$D$33","v":14},{"$f":"kuljetuslaskuri!$D$34","v":4000},12,2.1428571428571428,7.5,2,{"$f":"kuljetuslaskuri!$D$35","v":0},21.5,0.71666666666666667,null,1.3953488372093024,null,{"$f":"IF(kuljetuslaskuri!$H$17,kuljetuslaskuri!$D$17,0)","v":25},{"$f":"IF(kuljetuslaskuri!$H$18,kuljetuslaskuri!$D$18,0)","v":0},{"$f":"IF(kuljetuslaskuri!$G$19,kuljetuslaskuri!#REF!,0)","v":0},{"$f":"AVERAGE(IF(P200:R200<>0, P200:R200,\"\"))","v":25},{"$f":"S200*kuljetuslaskuri!$D$19%","v":23.75},46.75,{"$f":"kuljetuslaskuri!$D$24%","v":0},15.94,50,444.56184375619097,7.6923076923076925,7.5,{"$f":"kuljetuslaskuri!$D$25*(laskentapohja!C200/laskentapohja!T200)","v":2.5263157894736841},462.28046723797235,15.409348907932412,6.4895668595395417E-2,null,462.28046723797235,6.4895668595395417E-2,null,0.73012225290234889,-1.3304531686139069,null,null,null,null,null,null,null,null,null,null,{"$f":"IF(kuljetuslaskuri!$H$45,kuljetuslaskuri!$D$45,0)","v":20},{"$f":"IF(kuljetuslaskuri!$H$46,kuljetuslaskuri!$D$46,0)","v":0},{"$f":"IF(kuljetuslaskuri!$G$19,kuljetuslaskuri!#REF!,0)","v":0},{"$f":"AVERAGE(IF(AV200:AX200<>0, AV200:AX200,\"\"))","v":20},{"$f":"AY200*kuljetuslaskuri!$D$47%","v":19},46.75,{"$f":"kuljetuslaskuri!$D$52%","v":0},15.94,50,555.70230469523869,7.5,7.5,{"$f":"kuljetuslaskuri!$D$53*(laskentapohja!C200/laskentapohja!AZ200)","v":3.1578947368421053},573.86019943208078,12,585.86019943208078,19.528673314402692,5.1206755517922711E-2,null,269.66360588881719,585.55525850143158,855.21886439024877,null,0.39,546.97500000000002,null,{"$f":"kuljetuslaskuri!$D$74","v":71.100000000000009},null,618.07500000000005,null,{"$f":"N_arvo*N_maara*kuljetuslaskuri!$E$87%*C200","v":59.400000000000006},{"$f":"P_arvo*P_maara*kuljetuslaskuri!$E$88%*C200","v":41.040000000000006},{"$f":"K_arvo*K_maara*kuljetuslaskuri!$E$89%*C200","v":79.2},179.64000000000001]
[null,{"$f":"kuljetuslaskuri!$D$31","v":2500},{"$f":"kuljetuslaskuri!$D$12","v":30},{"$f":"kuljetuslaskuri!$D$33","v":14},{"$f":"kuljetuslaskuri!$D$34","v":4000},12,2.1428571428571428,7.5,2,{"$f":"kuljetuslaskuri!$D$35","v":0},21.5,0.71666666666666667,null,1.3953488372093024,null,{"$f":"IF(kuljetuslaskuri!$H$17,kuljetuslaskuri!$D$17,0)","v":25},{"$f":"IF(kuljetuslaskuri!$H$18,kuljetuslaskuri!$D$18,0)","v":0},{"$f":"IF(kuljetuslaskuri!$G$19,kuljetuslaskuri!#REF!,0)","v":0},{"$f":"AVERAGE(IF(P201:R201<>0, P201:R201,\"\"))","v":25},{"$f":"S201*kuljetuslaskuri!$D$19%","v":23.75},47,{"$f":"kuljetuslaskuri!$D$24%","v":0},15.94,50,446.93917981905832,7.6923076923076925,7.5,{"$f":"kuljetuslaskuri!$D$25*(laskentapohja!C201/laskentapohja!T201)","v":2.5263157894736841},464.6578033008397,15.488593443361323,6.4563641860495555E-2,null,464.6578033008397,6.4563641860495555E-2,null,0.72995623953489897,-1.3307851953488068,null,null,null,null,null,null,null,null,null,null,{"$f":"IF(kuljetuslaskuri!$H$45,kuljetuslaskuri!$D$45,0)","v":20},{"$f":"IF(kuljetuslaskuri!$H$46,kuljetuslaskuri!$D$46,0)","v":0},{"$f":"IF(kuljetuslaskuri!$G$19,kuljetuslaskuri!#REF!,0)","v":0},{"$f":"AVERAGE(IF(AV201:AX201<>0, AV201:AX201,\"\"))","v":20},{"$f":"AY201*kuljetuslaskuri!$D$47%","v":19},47,{"$f":"kuljetuslaskuri!$D$52%","v":0},15.94,50,558.67397477382292,7.5,7.5,{"$f":"kuljetuslaskuri!$D$53*(laskentapohja!C201/laskentapohja!AZ201)","v":3.1578947368421053},576.831869510665,12,588.831869510665,19.627728983688833,5.0948329316704274E-2,null,271.05038525882316,588.56655084773024,859.61693610655334,null,0.39,549.90000000000009,null,{"$f":"kuljetuslaskuri!$D$74","v":71.100000000000009},null,621.00000000000011,null,{"$f":"N_arvo*N_maara*kuljetuslaskuri!$E$87%*C201","v":59.400000000000006},{"$f":"P_arvo*P_maara*kuljetuslaskuri!$E$88%*C201","v":41.040000000000006},{"$f":"K_arvo*K_maara*kuljetuslaskuri!$E$89%*C201","v":79.2},179.64000000000001]
[null,{"$f":"kuljetuslaskuri!$D$31","v":2500},{"$f":"kuljetuslaskuri!$D$12","v":30},{"$f":"kuljetuslaskuri!$D$33","v":14},{"$f":"kuljetuslaskuri!$D$34","v":4000},12,2.1428571428571428,7.5,2,{"$f":"kuljetuslaskuri!$D$35","v":0},21.5,0.71666666666666667,null,1.3953488372093024,null,{"$f":"IF(kuljetuslaskuri!$H$17,kuljetuslaskuri!$D$17,0)","v":25},{"$f":"IF(kuljetuslaskuri!$H$18,kuljetuslaskuri!$D$18,0)","v":0},{"$f":"IF(kuljetuslaskuri!$G$19,kuljetuslaskuri!#REF!,0)","v":0},{"$f":"AVERAGE(IF(P202:R202<>0, P202:R202,\"\"))","v":25},{"$f":"S202*kuljetuslaskuri!$D$19%","v":23.75},47.25,{"$f":"kuljetuslaskuri!$D$24%","v":0},15.94,50,449.31651588192562,7.6923076923076925,7.5,{"$f":"kuljetuslaskuri!$D$25*(laskentapohja!C202/laskentapohja!T202)","v":2.5263157894736841},467.035139363707,15.567837978790234,6.4234995338621148E-2,null,467.035139363707,6.4234995338621148E-2,null,0.72979191627396178,-1.3311138418706812,null,null,null,null,null,null,null,null,null,null,{"$f":"IF(kuljetuslaskuri!$H$45,kuljetuslaskuri!$D$45,0)","v":20},{"$f":"IF(kuljetuslaskuri!$H$46,kuljetuslaskuri!$D$46,0)","v":0},{"$f":"IF(kuljetuslaskuri!$G$19,kuljetuslaskuri!#REF!,0)","v":0},{"$f":"AVERAGE(IF(AV202:AX202<>0, AV202:AX202,\"\"))","v":20},{"$f":"AY202*kuljetuslaskuri!$D$47%","v":19},47.25,{"$f":"kuljetuslaskuri!$D$52%","v":0},15.94,50,561.64564485240703,7.5,7.5,{"$f":"kuljetuslaskuri!$D$53*(laskentapohja!C202/laskentapohja!AZ202)","v":3.1578947368421053},579.80353958924911,12,591.80353958924911,19.72678465297497,5.0692498427471366E-2,null,272.43716462882907,591.5778431940289,864.01500782285802,null,0.39,552.82500000000005,null,{"$f":"kuljetuslaskuri!$D$74","v":71.100000000000009},null,623.92500000000007,null,{"$f":"N_arvo*N_maara*kuljetuslaskuri!$E$87%*C202","v":59.400000000000006},{"$f":"P_arvo*P_maara*kuljetuslaskuri!$E$88%*C202","v":41.040000000000006},{"$f":"K_arvo*K_maara*kuljetuslaskuri!$E$89%*C202","v":79.2},179.64000000000001]
[null,{"$f":"kuljetuslaskuri!$D$31","v":2500},{"$f":"kuljetuslaskuri!$D$12","v":30},{"$f":"kuljetuslaskuri!$D$33","v":14},{"$f":"kuljetuslaskuri!$D$34","v":4000},12,2.1428571428571428,7.5,2,{"$f":"kuljetuslaskuri!$D$35","v":0},21.5,0.71666666666666667,null,1.3953488372093024,null,{"$f":"IF(kuljetuslaskuri!$H$17,kuljetuslaskuri!$D$17,0)","v":25},{"$f":"IF(kuljetuslaskuri!$H$18,kuljetuslaskuri!$D$18,0)","v":0},{"$f":"IF(kuljetuslaskuri!$G$19,kuljetuslaskuri!#REF!,0)","v":0},{"$f":"AVERAGE(IF(P203:R203<>0, P203:R203,\"\"))","v":25},{"$f":"S203*kuljetuslaskuri!$D$19%","v":23.75},47.5,{"$f":"kuljetuslaskuri!$D$24%","v":0},15.94,50,451.69385194479293,7.6923076923076925,7.5,{"$f":"kuljetuslaskuri!$D$25*(laskentapohja!C203/laskentapohja!T203)","v":2.5263157894736841},469.4124754265743,15.647082514219143,6.3909677672579476E-2,null,469.4124754265743,6.3909677672579476E-2,null,0.72962925744094087,-1.331439159536723,null,null,null,null,null,null,null,null,null,null,{"$f":"IF(kuljetuslaskuri!$H$45,kuljetuslaskuri!$D$45,0)","v":20},{"$f":"IF(kuljetuslaskuri!$H$46,kuljetuslaskuri!$D$46,0)","v":0},{"$f":"IF(kuljetuslaskuri!$G$19,kuljetuslaskuri!#REF!,0)","v":0},{"$f":"AVERAGE(IF(AV203:AX203<>0, AV203:AX203,\"\"))","v":20},{"$f":"AY203*kuljetuslaskuri!$D$47%","v":19},47.5,{"$f":"kuljetuslaskuri!$D$52%","v":0},15.94,50,564.61731493099126,7.5,7.5,{"$f":"kuljetuslaskuri!$D$53*(laskentapohja!C203/laskentapohja!AZ203)","v":3.1578947368421053},582.77520966783334,12,594.77520966783334,19.825840322261111,5.0439223949421547E-2,null,273.82394399883498,594.58913554032745,868.41307953916248,null,0.39,555.75,null,{"$f":"kuljetuslaskuri!$D$74","v":71.100000000000009},null,626.85,null,{"$f":"N_arvo*N_maara*kuljetuslaskuri!$E$87%*C203","v":59.400000000000006},{"$f":"P_arvo*P_maara*kuljetuslaskuri!$E$88%*C203","v":41.040000000000006},{"$f":"K_arvo*K_maara*kuljetuslaskuri!$E$89%*C203","v":79.2},179.64000000000001]
[null,{"$f":"kuljetuslaskuri!$D$31","v":2500},{"$f":"kuljetuslaskuri!$D$12","v":30},{"$f":"kuljetuslaskuri!$D$33","v":14},{"$f":"kuljetuslaskuri!$D$34","v":4000},12,{"$f":"C204/D204","v":2.1428571428571428},{"$f":"(C204*1000)/E204","v":7.5},{"$f":"Levityksen_apuaika","v":2},{"$f":"kuljetuslaskuri!$D$35","v":0},{"$f":"(F204+H204+I204)*(1+J204%)","v":21.5},{"$f":"K204/C204","v":0.71666666666666667},null,1.3953488372093024,null,{"$f":"IF(kuljetuslaskuri!$H$17,kuljetuslaskuri!$D$17,0)","v":25},{"$f":"IF(kuljetuslaskuri!$H$18,kuljetuslaskuri!$D$18,0)","v":0},{"$f":"IF(kuljetuslaskuri!$G$19,kuljetuslaskuri!#REF!,0)","v":0},{"$f":"AVERAGE(IF(P204:R204<>0, P204:R204,\"\"))","v":25},{"$f":"S204*kuljetuslaskuri!$D$19%","v":23.75},47.75,{"$f":"kuljetuslaskuri!$D$24%","v":0},15.94,50,{"$f":"(C204/T204)*((U204*1000*0.12)/W204)*(1+V204)","v":454.07118800766028},{"$f":"Levitys*1000/Last_nop","v":7.6923076923076925},{"$f":"Levitys*1000/Purk_nop","v":7.5},{"$f":"kuljetuslaskuri!$D$25*(laskentapohja!C204/laskentapohja!T204)","v":2.5263157894736841},471.78981148944166,{"$f":"AC204/C204","v":15.726327049648056},6.3587638540327784E-2,null,{"$f":"MAX(K204,AC204)","v":471.78981148944166},{"$f":"MIN(N204,AE204)","v":6.3587638540327784E-2},null,0.72946823787481507,-1.3317611986689746,null,null,null,null,null,null,null,null,null,null,{"$f":"IF(kuljetuslaskuri!$H$45,kuljetuslaskuri!$D$45,0)","v":20},{"$f":"IF(kuljetuslaskuri!$H$46,kuljetuslaskuri!$D$46,0)","v":0},{"$f":"IF(kuljetuslaskuri!$G$19,kuljetuslaskuri!#REF!,0)","v":0},{"$f":"AVERAGE(IF(AV204:AX204<>0, AV204:AX204,\"\"))","v":20},{"$f":"AY204*kuljetuslaskuri!$D$47%","v":19},47.75,{"$f":"kuljetuslaskuri!$D$52%","v":0},15.94,50,{"$f":"(C204/AZ204)*((BA204*1000*0.12)/BC204)","v":567.58898500957537},{"$f":"Levitys*1000/Last_nop2","v":7.5},{"$f":"Levitys*1000/Levitys_kap2","v":7.5},{"$f":"kuljetuslaskuri!$D$53*(laskentapohja!C204/laskentapohja!AZ204)","v":3.1578947368421053},585.74687974641745,{"$f":"(C204*1000)/B204","v":12},597.74687974641745,{"$f":"BK204/C204","v":19.924895991547249},{"$f":"IF(AW204>0,2*1/BL204,1/BL204)","v":5.018846775532633E-2},null,{"$f":"AC204/60*työ_kust","v":275.210723368841},{"$f":"AC204/60*kone_kust","v":597.60042788662611},872.81115125546717,null,{"$f":"kulj_taksa","v":0.39},{"$f":"BS204*C204*U204","v":558.67500000000007},null,{"$f":"kuljetuslaskuri!$D$74","v":71.100000000000009},null,629.77500000000009,null,{"$f":"N_arvo*N_maara*kuljetuslaskuri!$E$87%*C204","v":59.400000000000006},{"$f":"P_arvo*P_maara*kuljetuslaskuri!$E$88%*C204","v":41.040000000000006},{"$f":"K_arvo*K_maara*kuljetuslaskuri!$E$89%*C204","v":79.2},179.64000000000001]
[null,{"$f":"kuljetuslaskuri!$D$31","v":2500},{"$f":"kuljetuslaskuri!$D$12","v":30},{"$f":"kuljetuslaskuri!$D$33","v":14},{"$f":"kuljetuslaskuri!$D$34","v":4000},{"$f":"(C205*1000)/B205","v":12},2.1428571428571428,7.5,2,{"$f":"kuljetuslaskuri!$D$35","v":0},21.5,0.71666666666666667,null,{"$f":"1/L205","v":1.3953488372093024},null,{"$f":"IF(kuljetuslaskuri!$H$17,kuljetuslaskuri!$D$17,0)","v":25},{"$f":"IF(kuljetuslaskuri!$H$18,kuljetuslaskuri!$D$18,0)","v":0},{"$f":"IF(kuljetuslaskuri!$G$19,kuljetuslaskuri!#REF!,0)","v":0},{"$f":"AVERAGE(IF(P205:R205<>0, P205:R205,\"\"))","v":25},{"$f":"S205*kuljetuslaskuri!$D$19%","v":23.75},48,{"$f":"kuljetuslaskuri!$D$24%","v":0},15.94,{"$f":"IF(U205>15,50,LN(9.4526)*U205+15.94)","v":50},456.44852407052758,7.6923076923076925,7.5,{"$f":"kuljetuslaskuri!$D$25*(laskentapohja!C205/laskentapohja!T205)","v":2.5263157894736841},{"$f":"SUM(Y205:AB205)","v":474.16714755230896},15.805571585076965,{"$f":"IF(Q205>0,2*1/AD205,1/AD205)","v":6.3268828629023638E-2},null,474.16714755230896,6.3268828629023638E-2,null,{"$f":"N205+((AE205-N205)/2)","v":0.72930883291916304},-1.3320800085802786,null,null,null,null,null,null,null,null,null,null,{"$f":"IF(kuljetuslaskuri!$H$45,kuljetuslaskuri!$D$45,0)","v":20},{"$f":"IF(kuljetuslaskuri!$H$46,kuljetuslaskuri!$D$46,0)","v":0},{"$f":"IF(kuljetuslaskuri!$G$19,kuljetuslaskuri!#REF!,0)","v":0},{"$f":"AVERAGE(IF(AV205:AX205<>0, AV205:AX205,\"\"))","v":20},{"$f":"AY205*kuljetuslaskuri!$D$47%","v":19},48,{"$f":"kuljetuslaskuri!$D$52%","v":0},15.94,{"$f":"IF(BA205>15,50,LN(9.0943)*BA205+16.208)","v":50},570.56065508815959,7.5,7.5,{"$f":"kuljetuslaskuri!$D$53*(laskentapohja!C205/laskentapohja!AZ205)","v":3.1578947368421053},{"$f":"SUM(BE205:BH205)","v":588.71854982500167},12,{"$f":"SUM(BI205,BJ205)*(1+BB205)","v":600.71854982500167},20.02395166083339,4.9940192472397345E-2,null,276.59750273884691,600.61172023292465,{"$f":"SUM(BO205:BP205)","v":877.20922297177162},null,0.39,561.6,null,{"$f":"kuljetuslaskuri!$D$74","v":71.100000000000009},null,{"$f":"BT205+BV205","v":632.70000000000005},null,{"$f":"N_arvo*N_maara*kuljetuslaskuri!$E$87%*C205","v":59.400000000000006},{"$f":"P_arvo*P_maara*kuljetuslaskuri!$E$88%*C205","v":41.040000000000006},{"$f":"K_arvo*K_maara*kuljetuslaskuri!$E$89%*C205","v":79.2},{"$f":"SUM(BZ205:CB205)","v":179.64000000000001}]
[null,{"$f":"kuljetuslaskuri!$D$31","v":2500},{"$f":"kuljetuslaskuri!$D$12","v":30},{"$f":"kuljetuslaskuri!$D$33","v":14},{"$f":"kuljetuslaskuri!$D$34","v":4000},12,2.1428571428571428,7.5,2,{"$f":"kuljetuslaskuri!$D$35","v":0},21.5,0.71666666666666667,null,1.3953488372093024,null,{"$f":"IF(kuljetuslaskuri!$H$17,kuljetuslaskuri!$D$17,0)","v":25},{"$f":"IF(kuljetuslaskuri!$H$18,kuljetuslaskuri!$D$18,0)","v":0},{"$f":"IF(kuljetuslaskuri!$G$19,kuljetuslaskuri!#REF!,0)","v":0},{"$f":"AVERAGE(IF(P206:R206<>0, P206:R206,\"\"))","v":25},{"$f":"S206*kuljetuslaskuri!$D$19%","v":23.75},48.25,{"$f":"kuljetuslaskuri!$D$24%","v":0},15.94,50,458.82586013339494,7.6923076923076925,7.5,{"$f":"kuljetuslaskuri!$D$25*(laskentapohja!C206/laskentapohja!T206)","v":2.5263157894736841},476.54448361517632,15.884816120505878,6.2953199609851906E-2,null,476.54448361517632,6.2953199609851906E-2,null,0.72915101840957708,-1.3323956375994506,null,null,null,null,null,null,null,null,null,null,{"$f":"IF(kuljetuslaskuri!$H$45,kuljetuslaskuri!$D$45,0)","v":20},{"$f":"IF(kuljetuslaskuri!$H$46,kuljetuslaskuri!$D$46,0)","v":0},{"$f":"IF(kuljetuslaskuri!$G$19,kuljetuslaskuri!#REF!,0)","v":0},{"$f":"AVERAGE(IF(AV206:AX206<>0, AV206:AX206,\"\"))","v":20},{"$f":"AY206*kuljetuslaskuri!$D$47%","v":19},48.25,{"$f":"kuljetuslaskuri!$D$52%","v":0},15.94,50,573.5323251667437,7.5,7.5,{"$f":"kuljetuslaskuri!$D$53*(laskentapohja!C206/laskentapohja!AZ206)","v":3.1578947368421053},591.69021990358578,12,603.69021990358578,20.123007330119528,4.9694361463717668E-2,null,277.98428210885288,603.62301257922331,881.60729468807619,null,0.39,564.52500000000009,null,{"$f":"kuljetuslaskuri!$D$74","v":71.100000000000009},null,635.62500000000011,null,{"$f":"N_arvo*N_maara*kuljetuslaskuri!$E$87%*C206","v":59.400000000000006},{"$f":"P_arvo*P_maara*kuljetuslaskuri!$E$88%*C206","v":41.040000000000006},{"$f":"K_arvo*K_maara*kuljetuslaskuri!$E$89%*C206","v":79.2},179.64000000000001]
[null,{"$f":"kuljetuslaskuri!$D$31","v":2500},{"$f":"kuljetuslaskuri!$D$12","v":30},{"$f":"kuljetuslaskuri!$D$33","v":14},{"$f":"kuljetuslaskuri!$D$34","v":4000},12,2.1428571428571428,7.5,2,{"$f":"kuljetuslaskuri!$D$35","v":0},21.5,0.71666666666666667,null,1.3953488372093024,null,{"$f":"IF(kuljetuslaskuri!$H$17,kuljetuslaskuri!$D$17,0)","v":25},{"$f":"IF(kuljetuslaskuri!$H$18,kuljetuslaskuri!$D$18,0)","v":0},{"$f":"IF(kuljetuslaskuri!$G$19,kuljetuslaskuri!#REF!,0)","v":0},{"$f":"AVERAGE(IF(P207:R207<>0, P207:R207,\"\"))","v":25},{"$f":"S207*kuljetuslaskuri!$D$19%","v":23.75},48.5,{"$f":"kuljetuslaskuri!$D$24%","v":0},15.94,50,461.20319619626224,7.6923076923076925,7.5,{"$f":"kuljetuslaskuri!$D$25*(laskentapohja!C207/laskentapohja!T207)","v":2.5263157894736841},478.92181967804362,15.964060655934787,6.264070411360162E-2,null,478.92181967804362,6.264070411360162E-2,null,0.72899477066145202,-1.3327081330957007,null,null,null,null,null,null,null,null,null,null,{"$f":"IF(kuljetuslaskuri!$H$45,kuljetuslaskuri!$D$45,0)","v":20},{"$f":"IF(kuljetuslaskuri!$H$46,kuljetuslaskuri!$D$46,0)","v":0},{"$f":"IF(kuljetuslaskuri!$G$19,kuljetuslaskuri!#REF!,0)","v":0},{"$f":"AVERAGE(IF(AV207:AX207<>0, AV207:AX207,\"\"))","v":20},{"$f":"AY207*kuljetuslaskuri!$D$47%","v":19},48.5,{"$f":"kuljetuslaskuri!$D$52%","v":0},15.94,50,576.50399524532781,7.5,7.5,{"$f":"kuljetuslaskuri!$D$53*(laskentapohja!C207/laskentapohja!AZ207)","v":3.1578947368421053},594.6618899821699,12,606.6618899821699,20.222062999405662,4.945093881021885E-2,null,279.37106147885879,606.63430492552197,886.00536640438077,null,0.39,567.45000000000005,null,{"$f":"kuljetuslaskuri!$D$74","v":71.100000000000009},null,638.55000000000007,null,{"$f":"N_arvo*N_maara*kuljetuslaskuri!$E$87%*C207","v":59.400000000000006},{"$f":"P_arvo*P_maara*kuljetuslaskuri!$E$88%*C207","v":41.040000000000006},{"$f":"K_arvo*K_maara*kuljetuslaskuri!$E$89%*C207","v":79.2},179.64000000000001]
[null,{"$f":"kuljetuslaskuri!$D$31","v":2500},{"$f":"kuljetuslaskuri!$D$12","v":30},{"$f":"kuljetuslaskuri!$D$33","v":14},{"$f":"kuljetuslaskuri!$D$34","v":4000},12,2.1428571428571428,7.5,2,{"$f":"kuljetuslaskuri!$D$35","v":0},21.5,0.71666666666666667,null,1.3953488372093024,null,{"$f":"IF(kuljetuslaskuri!$H$17,kuljetuslaskuri!$D$17,0)","v":25},{"$f":"IF(kuljetuslaskuri!$H$18,kuljetuslaskuri!$D$18,0)","v":0},{"$f":"IF(kuljetuslaskuri!$G$19,kuljetuslaskuri!#REF!,0)","v":0},{"$f":"AVERAGE(IF(P208:R208<>0, P208:R208,\"\"))","v":25},{"$f":"S208*kuljetuslaskuri!$D$19%","v":23.75},48.75,{"$f":"kuljetuslaskuri!$D$24%","v":0},15.94,50,463.5805322591296,7.6923076923076925,7.5,{"$f":"kuljetuslaskuri!$D$25*(laskentapohja!C208/laskentapohja!T208)","v":2.5263157894736841},481.29915574091098,16.0433051913637,6.2331295706966404E-2,null,481.29915574091098,6.2331295706966404E-2,null,0.72884006645813437,-1.333017541502336,null,null,null,null,null,null,null,null,null,null,{"$f":"IF(kuljetuslaskuri!$H$45,kuljetuslaskuri!$D$45,0)","v":20},{"$f":"IF(kuljetuslaskuri!$H$46,kuljetuslaskuri!$D$46,0)","v":0},{"$f":"IF(kuljetuslaskuri!$G$19,kuljetuslaskuri!#REF!,0)","v":0},{"$f":"AVERAGE(IF(AV208:AX208<>0, AV208:AX208,\"\"))","v":20},{"$f":"AY208*kuljetuslaskuri!$D$47%","v":19},48.75,{"$f":"kuljetuslaskuri!$D$52%","v":0},15.94,50,579.47566532391204,7.5,7.5,{"$f":"kuljetuslaskuri!$D$53*(laskentapohja!C208/laskentapohja!AZ208)","v":3.1578947368421053},597.63356006075412,12,609.63356006075412,20.321118668691803,4.9209889293185073E-2,null,280.75784084886476,609.64559727182063,890.40343812068545,null,0.39,570.375,null,{"$f":"kuljetuslaskuri!$D$74","v":71.100000000000009},null,641.47500000000002,null,{"$f":"N_arvo*N_maara*kuljetuslaskuri!$E$87%*C208","v":59.400000000000006},{"$f":"P_arvo*P_maara*kuljetuslaskuri!$E$88%*C208","v":41.040000000000006},{"$f":"K_arvo*K_maara*kuljetuslaskuri!$E$89%*C208","v":79.2},179.64000000000001]
[null,{"$f":"kuljetuslaskuri!$D$31","v":2500},{"$f":"kuljetuslaskuri!$D$12","v":30},{"$f":"kuljetuslaskuri!$D$33","v":14},{"$f":"kuljetuslaskuri!$D$34","v":4000},12,2.1428571428571428,7.5,2,{"$f":"kuljetuslaskuri!$D$35","v":0},21.5,0.71666666666666667,null,1.3953488372093024,null,{"$f":"IF(kuljetuslaskuri!$H$17,kuljetuslaskuri!$D$17,0)","v":25},{"$f":"IF(kuljetuslaskuri!$H$18,kuljetuslaskuri!$D$18,0)","v":0},{"$f":"IF(kuljetuslaskuri!$G$19,kuljetuslaskuri!#REF!,0)","v":0},{"$f":"AVERAGE(IF(P209:R209<>0, P209:R209,\"\"))","v":25},{"$f":"S209*kuljetuslaskuri!$D$19%","v":23.75},49,{"$f":"kuljetuslaskuri!$D$24%","v":0},15.94,50,465.95786832199701,7.6923076923076925,7.5,{"$f":"kuljetuslaskuri!$D$25*(laskentapohja!C209/laskentapohja!T209)","v":2.5263157894736841},483.67649180377839,16.122549726792613,6.2024928869544131E-2,null,483.67649180377839,6.2024928869544131E-2,null,0.72868688303942319,-1.3333239083397583,null,null,null,null,null,null,null,null,null,null,{"$f":"IF(kuljetuslaskuri!$H$45,kuljetuslaskuri!$D$45,0)","v":20},{"$f":"IF(kuljetuslaskuri!$H$46,kuljetuslaskuri!$D$46,0)","v":0},{"$f":"IF(kuljetuslaskuri!$G$19,kuljetuslaskuri!#REF!,0)","v":0},{"$f":"AVERAGE(IF(AV209:AX209<>0, AV209:AX209,\"\"))","v":20},{"$f":"AY209*kuljetuslaskuri!$D$47%","v":19},49,{"$f":"kuljetuslaskuri!$D$52%","v":0},15.94,50,582.44733540249626,7.5,7.5,{"$f":"kuljetuslaskuri!$D$53*(laskentapohja!C209/laskentapohja!AZ209)","v":3.1578947368421053},600.60523013933835,12,612.60523013933835,20.420174337977944,4.8971178377266611E-2,null,282.14462021887073,612.65688961811929,894.80150983699002,null,0.39,573.30000000000007,null,{"$f":"kuljetuslaskuri!$D$74","v":71.100000000000009},null,644.40000000000009,null,{"$f":"N_arvo*N_maara*kuljetuslaskuri!$E$87%*C209","v":59.400000000000006},{"$f":"P_arvo*P_maara*kuljetuslaskuri!$E$88%*C209","v":41.040000000000006},{"$f":"K_arvo*K_maara*kuljetuslaskuri!$E$89%*C209","v":79.2},179.64000000000001]
[null,{"$f":"kuljetuslaskuri!$D$31","v":2500},{"$f":"kuljetuslaskuri!$D$12","v":30},{"$f":"kuljetuslaskuri!$D$33","v":14},{"$f":"kuljetuslaskuri!$D$34","v":4000},12,2.1428571428571428,7.5,2,{"$f":"kuljetuslaskuri!$D$35","v":0},21.5,0.71666666666666667,null,1.3953488372093024,null,{"$f":"IF(kuljetuslaskuri!$H$17,kuljetuslaskuri!$D$17,0)","v":25},{"$f":"IF(kuljetuslaskuri!$H$18,kuljetuslaskuri!$D$18,0)","v":0},{"$f":"IF(kuljetuslaskuri!$G$19,kuljetuslaskuri!#REF!,0)","v":0},{"$f":"AVERAGE(IF(P210:R210<>0, P210:R210,\"\"))","v":25},{"$f":"S210*kuljetuslaskuri!$D$19%","v":23.75},49.25,{"$f":"kuljetuslaskuri!$D$24%","v":0},15.94,50,468.33520438486431,7.6923076923076925,7.5,{"$f":"kuljetuslaskuri!$D$25*(laskentapohja!C210/laskentapohja!T210)","v":2.5263157894736841},486.05382786664569,16.201794262221522,6.1721558971511353E-2,null,486.05382786664569,6.1721558971511353E-2,null,0.7285351980904069,-1.3336272782377909,null,null,null,null,null,null,null,null,null,null,{"$f":"IF(kuljetuslaskuri!$H$45,kuljetuslaskuri!$D$45,0)","v":20},{"$f":"IF(kuljetuslaskuri!$H$46,kuljetuslaskuri!$D$46,0)","v":0},{"$f":"IF(kuljetuslaskuri!$G$19,kuljetuslaskuri!#REF!,0)","v":0},{"$f":"AVERAGE(IF(AV210:AX210<>0, AV210:AX210,\"\"))","v":20},{"$f":"AY210*kuljetuslaskuri!$D$47%","v":19},49.25,{"$f":"kuljetuslaskuri!$D$52%","v":0},15.94,50,585.41900548108038,7.5,7.5,{"$f":"kuljetuslaskuri!$D$53*(laskentapohja!C210/laskentapohja!AZ210)","v":3.1578947368421053},603.57690021792246,12,615.57690021792246,20.519230007264081,4.8734772193985185E-2,null,283.53139958887664,615.66818196441784,899.19958155329448,null,0.39,576.22500000000002,null,{"$f":"kuljetuslaskuri!$D$74","v":71.100000000000009},null,647.32500000000005,null,{"$f":"N_arvo*N_maara*kuljetuslaskuri!$E$87%*C210","v":59.400000000000006},{"$f":"P_arvo*P_maara*kuljetuslaskuri!$E$88%*C210","v":41.040000000000006},{"$f":"K_arvo*K_maara*kuljetuslaskuri!$E$89%*C210","v":79.2},179.64000000000001]
[null,{"$f":"kuljetuslaskuri!$D$31","v":2500},{"$f":"kuljetuslaskuri!$D$12","v":30},{"$f":"kuljetuslaskuri!$D$33","v":14},{"$f":"kuljetuslaskuri!$D$34","v":4000},12,2.1428571428571428,7.5,2,{"$f":"kuljetuslaskuri!$D$35","v":0},21.5,0.71666666666666667,null,1.3953488372093024,null,{"$f":"IF(kuljetuslaskuri!$H$17,kuljetuslaskuri!$D$17,0)","v":25},{"$f":"IF(kuljetuslaskuri!$H$18,kuljetuslaskuri!$D$18,0)","v":0},{"$f":"IF(kuljetuslaskuri!$G$19,kuljetuslaskuri!#REF!,0)","v":0},{"$f":"AVERAGE(IF(P211:R211<>0, P211:R211,\"\"))","v":25},{"$f":"S211*kuljetuslaskuri!$D$19%","v":23.75},49.5,{"$f":"kuljetuslaskuri!$D$24%","v":0},15.94,50,470.71254044773161,7.6923076923076925,7.5,{"$f":"kuljetuslaskuri!$D$25*(laskentapohja!C211/laskentapohja!T211)","v":2.5263157894736841},488.43116392951299,16.281038797650432,6.1421142251949744E-2,null,488.43116392951299,6.1421142251949744E-2,null,0.72838498973062604,-1.3339276949573526,null,null,null,null,null,null,null,null,null,null,{"$f":"IF(kuljetuslaskuri!$H$45,kuljetuslaskuri!$D$45,0)","v":20},{"$f":"IF(kuljetuslaskuri!$H$46,kuljetuslaskuri!$D$46,0)","v":0},{"$f":"IF(kuljetuslaskuri!$G$19,kuljetuslaskuri!#REF!,0)","v":0},{"$f":"AVERAGE(IF(AV211:AX211<>0, AV211:AX211,\"\"))","v":20},{"$f":"AY211*kuljetuslaskuri!$D$47%","v":19},49.5,{"$f":"kuljetuslaskuri!$D$52%","v":0},15.94,50,588.3906755596646,7.5,7.5,{"$f":"kuljetuslaskuri!$D$53*(laskentapohja!C211/laskentapohja!AZ211)","v":3.1578947368421053},606.54857029650668,12,618.54857029650668,20.618285676550222,4.8500637525714818E-2,null,284.91817895888255,618.67947431071639,903.59765326959894,null,0.39,579.15000000000009,null,{"$f":"kuljetuslaskuri!$D$74","v":71.100000000000009},null,650.25000000000011,null,{"$f":"N_arvo*N_maara*kuljetuslaskuri!$E$87%*C211","v":59.400000000000006},{"$f":"P_arvo*P_maara*kuljetuslaskuri!$E$88%*C211","v":41.040000000000006},{"$f":"K_arvo*K_maara*kuljetuslaskuri!$E$89%*C211","v":79.2},179.64000000000001]
[null,{"$f":"kuljetuslaskuri!$D$31","v":2500},{"$f":"kuljetuslaskuri!$D$12","v":30},{"$f":"kuljetuslaskuri!$D$33","v":14},{"$f":"kuljetuslaskuri!$D$34","v":4000},12,2.1428571428571428,7.5,2,{"$f":"kuljetuslaskuri!$D$35","v":0},21.5,0.71666666666666667,null,1.3953488372093024,null,{"$f":"IF(kuljetuslaskuri!$H$17,kuljetuslaskuri!$D$17,0)","v":25},{"$f":"IF(kuljetuslaskuri!$H$18,kuljetuslaskuri!$D$18,0)","v":0},{"$f":"IF(kuljetuslaskuri!$G$19,kuljetuslaskuri!#REF!,0)","v":0},{"$f":"AVERAGE(IF(P212:R212<>0, P212:R212,\"\"))","v":25},{"$f":"S212*kuljetuslaskuri!$D$19%","v":23.75},49.75,{"$f":"kuljetuslaskuri!$D$24%","v":0},15.94,50,473.08987651059897,7.6923076923076925,7.5,{"$f":"kuljetuslaskuri!$D$25*(laskentapohja!C212/laskentapohja!T212)","v":2.5263157894736841},490.80849999238035,16.360283333079344,6.1123635797802486E-2,null,490.80849999238035,6.1123635797802486E-2,null,0.7282362365035524,-1.3342252014114999,null,null,null,null,null,null,null,null,null,null,{"$f":"IF(kuljetuslaskuri!$H$45,kuljetuslaskuri!$D$45,0)","v":20},{"$f":"IF(kuljetuslaskuri!$H$46,kuljetuslaskuri!$D$46,0)","v":0},{"$f":"IF(kuljetuslaskuri!$G$19,kuljetuslaskuri!#REF!,0)","v":0},{"$f":"AVERAGE(IF(AV212:AX212<>0, AV212:AX212,\"\"))","v":20},{"$f":"AY212*kuljetuslaskuri!$D$47%","v":19},49.75,{"$f":"kuljetuslaskuri!$D$52%","v":0},15.94,50,591.36234563824871,7.5,7.5,{"$f":"kuljetuslaskuri!$D$53*(laskentapohja!C212/laskentapohja!AZ212)","v":3.1578947368421053},609.52024037509079,12,621.52024037509079,20.71734134583636,4.8268741790122298E-2,null,286.30495832888852,621.69076665701505,907.99572498590351,null,0.39,582.07500000000005,null,{"$f":"kuljetuslaskuri!$D$74","v":71.100000000000009},null,653.17500000000007,null,{"$f":"N_arvo*N_maara*kuljetuslaskuri!$E$87%*C212","v":59.400000000000006},{"$f":"P_arvo*P_maara*kuljetuslaskuri!$E$88%*C212","v":41.040000000000006},{"$f":"K_arvo*K_maara*kuljetuslaskuri!$E$89%*C212","v":79.2},179.64000000000001]
[null,{"$f":"kuljetuslaskuri!$D$31","v":2500},{"$f":"kuljetuslaskuri!$D$12","v":30},{"$f":"kuljetuslaskuri!$D$33","v":14},{"$f":"kuljetuslaskuri!$D$34","v":4000},12,2.1428571428571428,7.5,2,{"$f":"kuljetuslaskuri!$D$35","v":0},21.5,0.71666666666666667,null,1.3953488372093024,null,{"$f":"IF(kuljetuslaskuri!$H$17,kuljetuslaskuri!$D$17,0)","v":25},{"$f":"IF(kuljetuslaskuri!$H$18,kuljetuslaskuri!$D$18,0)","v":0},{"$f":"IF(kuljetuslaskuri!$G$19,kuljetuslaskuri!#REF!,0)","v":0},{"$f":"AVERAGE(IF(P213:R213<>0, P213:R213,\"\"))","v":25},{"$f":"S213*kuljetuslaskuri!$D$19%","v":23.75},50,{"$f":"kuljetuslaskuri!$D$24%","v":0},15.94,50,475.46721257346627,7.6923076923076925,7.5,{"$f":"kuljetuslaskuri!$D$25*(laskentapohja!C213/laskentapohja!T213)","v":2.5263157894736841},493.18583605524765,16.439527868508254,6.0828997523439302E-2,null,493.18583605524765,6.0828997523439302E-2,null,0.72808891736637082,-1.3345198396858631,null,null,null,null,null,null,null,null,null,null,{"$f":"IF(kuljetuslaskuri!$H$45,kuljetuslaskuri!$D$45,0)","v":20},{"$f":"IF(kuljetuslaskuri!$H$46,kuljetuslaskuri!$D$46,0)","v":0},{"$f":"IF(kuljetuslaskuri!$G$19,kuljetuslaskuri!#REF!,0)","v":0},{"$f":"AVERAGE(IF(AV213:AX213<>0, AV213:AX213,\"\"))","v":20},{"$f":"AY213*kuljetuslaskuri!$D$47%","v":19},50,{"$f":"kuljetuslaskuri!$D$52%","v":0},15.94,50,594.33401571683294,7.5,7.5,{"$f":"kuljetuslaskuri!$D$53*(laskentapohja!C213/laskentapohja!AZ213)","v":3.1578947368421053},612.49191045367502,12,624.49191045367502,20.816397015122501,4.8039053025051806E-2,null,287.69173769889443,624.70205900331359,912.39379670220796,null,0.39,585,null,{"$f":"kuljetuslaskuri!$D$74","v":71.100000000000009},null,656.1,null,{"$f":"N_arvo*N_maara*kuljetuslaskuri!$E$87%*C213","v":59.400000000000006},{"$f":"P_arvo*P_maara*kuljetuslaskuri!$E$88%*C213","v":41.040000000000006},{"$f":"K_arvo*K_maara*kuljetuslaskuri!$E$89%*C213","v":79.2},179.64000000000001]